BEGIN:VCALENDAR
VERSION:2.0
PRODID:-//Sterling Heights Lions Club - ECPv6.15.20//NONSGML v1.0//EN
CALSCALE:GREGORIAN
METHOD:PUBLISH
X-WR-CALNAME:Sterling Heights Lions Club
X-ORIGINAL-URL:https://sterlingheightslionsclub.org
X-WR-CALDESC:Events for Sterling Heights Lions Club
REFRESH-INTERVAL;VALUE=DURATION:PT1H
X-Robots-Tag:noindex
X-PUBLISHED-TTL:PT1H
BEGIN:VTIMEZONE
TZID:America/New_York
BEGIN:DAYLIGHT
TZOFFSETFROM:-0500
TZOFFSETTO:-0400
TZNAME:EDT
DTSTART:20230312T070000
END:DAYLIGHT
BEGIN:STANDARD
TZOFFSETFROM:-0400
TZOFFSETTO:-0500
TZNAME:EST
DTSTART:20231105T060000
END:STANDARD
BEGIN:DAYLIGHT
TZOFFSETFROM:-0500
TZOFFSETTO:-0400
TZNAME:EDT
DTSTART:20240310T070000
END:DAYLIGHT
BEGIN:STANDARD
TZOFFSETFROM:-0400
TZOFFSETTO:-0500
TZNAME:EST
DTSTART:20241103T060000
END:STANDARD
BEGIN:DAYLIGHT
TZOFFSETFROM:-0500
TZOFFSETTO:-0400
TZNAME:EDT
DTSTART:20250309T070000
END:DAYLIGHT
BEGIN:STANDARD
TZOFFSETFROM:-0400
TZOFFSETTO:-0500
TZNAME:EST
DTSTART:20251102T060000
END:STANDARD
BEGIN:DAYLIGHT
TZOFFSETFROM:-0500
TZOFFSETTO:-0400
TZNAME:EDT
DTSTART:20260308T070000
END:DAYLIGHT
BEGIN:STANDARD
TZOFFSETFROM:-0400
TZOFFSETTO:-0500
TZNAME:EST
DTSTART:20261101T060000
END:STANDARD
END:VTIMEZONE
BEGIN:VTIMEZONE
TZID:America/Detroit
BEGIN:DAYLIGHT
TZOFFSETFROM:-0500
TZOFFSETTO:-0400
TZNAME:EDT
DTSTART:20230312T070000
END:DAYLIGHT
BEGIN:STANDARD
TZOFFSETFROM:-0400
TZOFFSETTO:-0500
TZNAME:EST
DTSTART:20231105T060000
END:STANDARD
BEGIN:DAYLIGHT
TZOFFSETFROM:-0500
TZOFFSETTO:-0400
TZNAME:EDT
DTSTART:20240310T070000
END:DAYLIGHT
BEGIN:STANDARD
TZOFFSETFROM:-0400
TZOFFSETTO:-0500
TZNAME:EST
DTSTART:20241103T060000
END:STANDARD
BEGIN:DAYLIGHT
TZOFFSETFROM:-0500
TZOFFSETTO:-0400
TZNAME:EDT
DTSTART:20250309T070000
END:DAYLIGHT
BEGIN:STANDARD
TZOFFSETFROM:-0400
TZOFFSETTO:-0500
TZNAME:EST
DTSTART:20251102T060000
END:STANDARD
BEGIN:DAYLIGHT
TZOFFSETFROM:-0500
TZOFFSETTO:-0400
TZNAME:EDT
DTSTART:20260308T070000
END:DAYLIGHT
BEGIN:STANDARD
TZOFFSETFROM:-0400
TZOFFSETTO:-0500
TZNAME:EST
DTSTART:20261101T060000
END:STANDARD
END:VTIMEZONE
BEGIN:VEVENT
DTSTART;TZID=America/New_York:20240708T220000
DTEND;TZID=America/New_York:20240709T000000
DTSTAMP:20260420T093224
CREATED:20230914T031715Z
LAST-MODIFIED:20240807T221712Z
UID:10002068-1720476000-1720483200@sterlingheightslionsclub.org
SUMMARY:Susie Q's Kids Bag Stuffing Event
DESCRIPTION:Susie Q’s Kids has their monthly bag stuffing is held monthly on the 2nd Monday of each month 6 PM\nWe have moved the location from the Club to their new office located at\n6340 East 14 Mile Road\, Warren\, MI 48092 (in the Sticker Blitz building) use the side door on the East Side of the building\nIf the doors are locked\, call or text 586-206-8424 for entry. \nWe assembled comfort bags for kids in need in our community on the second Monday of each month \nVolunteers are welcome to stop and learn about Susie Q’s Kids\, the nonprofit that will receive the comfort bags\, and about Lionism \nKids are welcome and encouraged to attend as we promote “Kids Helping Kids” \nSusie Qs Kids monthly bag stuffing flyer
URL:https://sterlingheightslionsclub.org/event/sussie-qs-kids-bag-stuffing-event-4/2024-07-08/
CATEGORIES:Charitable Events,District 11-A2,Sterling Heights Club Events
ATTACH;FMTTYPE=image/png:https://sterlingheightslionsclub.org/wp-content/uploads/2023/06/care-house-2-cropped.png
END:VEVENT
BEGIN:VEVENT
DTSTART;TZID=America/Detroit:20240712T220000
DTEND;TZID=America/Detroit:20240713T023000
DTSTAMP:20260420T093224
CREATED:20240110T110138Z
LAST-MODIFIED:20240807T224244Z
UID:10002206-1720821600-1720837800@sterlingheightslionsclub.org
SUMMARY:Euchre
DESCRIPTION:Come join us for a night of Euchre\, we would love to see you.
URL:https://sterlingheightslionsclub.org/event/euchre-2-3/2024-07-12/
LOCATION:Sterling Heights Lions Club\, 12828 Canal Road\, Sterling Heights\, MI\, 48313
CATEGORIES:Charitable Events,Sterling Heights Club Events
ATTACH;FMTTYPE=image/png:https://sterlingheightslionsclub.org/wp-content/uploads/2023/04/2023-06-22_22-31-32.png
END:VEVENT
BEGIN:VEVENT
DTSTART;TZID=America/New_York:20240801T080000
DTEND;TZID=America/New_York:20240801T170000
DTSTAMP:20260420T093224
CREATED:20240408T030028Z
LAST-MODIFIED:20240408T030028Z
UID:10001982-1722499200-1722531600@sterlingheightslionsclub.org
SUMMARY:Blood Drive 8/1/24  Save the Date
DESCRIPTION:Save the Date for our Blood Drive to be held 8/1/2024 \n \nmore detail on timing to come
URL:https://sterlingheightslionsclub.org/event/blood-drive-8-1-24-save-the-date/
LOCATION:Sterling Heights Lions Club\, 12828 Canal Road\, Sterling Heights\, MI\, 48313
CATEGORIES:Charitable Events,Sterling Heights Club Events
ATTACH;FMTTYPE=image/png:https://sterlingheightslionsclub.org/wp-content/uploads/2024/04/save-the-date-blood-drive-event-2024-2.png
END:VEVENT
BEGIN:VEVENT
DTSTART;TZID=America/Detroit:20240809T220000
DTEND;TZID=America/Detroit:20240810T023000
DTSTAMP:20260420T093224
CREATED:20240110T110138Z
LAST-MODIFIED:20240807T224244Z
UID:10002207-1723240800-1723257000@sterlingheightslionsclub.org
SUMMARY:Euchre
DESCRIPTION:Come join us for a night of Euchre\, we would love to see you.
URL:https://sterlingheightslionsclub.org/event/euchre-2-3/2024-08-09/
LOCATION:Sterling Heights Lions Club\, 12828 Canal Road\, Sterling Heights\, MI\, 48313
CATEGORIES:Charitable Events,Sterling Heights Club Events
ATTACH;FMTTYPE=image/png:https://sterlingheightslionsclub.org/wp-content/uploads/2023/04/2023-06-22_22-31-32.png
END:VEVENT
BEGIN:VEVENT
DTSTART;TZID=America/New_York:20240812T220000
DTEND;TZID=America/New_York:20240813T000000
DTSTAMP:20260420T093224
CREATED:20230914T031715Z
LAST-MODIFIED:20240807T221712Z
UID:10002069-1723500000-1723507200@sterlingheightslionsclub.org
SUMMARY:Susie Q's Kids Bag Stuffing Event
DESCRIPTION:Susie Q’s Kids has their monthly bag stuffing is held monthly on the 2nd Monday of each month 6 PM\nWe have moved the location from the Club to their new office located at\n6340 East 14 Mile Road\, Warren\, MI 48092 (in the Sticker Blitz building) use the side door on the East Side of the building\nIf the doors are locked\, call or text 586-206-8424 for entry. \nWe assembled comfort bags for kids in need in our community on the second Monday of each month \nVolunteers are welcome to stop and learn about Susie Q’s Kids\, the nonprofit that will receive the comfort bags\, and about Lionism \nKids are welcome and encouraged to attend as we promote “Kids Helping Kids” \nSusie Qs Kids monthly bag stuffing flyer
URL:https://sterlingheightslionsclub.org/event/sussie-qs-kids-bag-stuffing-event-4/2024-08-12/
CATEGORIES:Charitable Events,District 11-A2,Sterling Heights Club Events
ATTACH;FMTTYPE=image/png:https://sterlingheightslionsclub.org/wp-content/uploads/2023/06/care-house-2-cropped.png
END:VEVENT
BEGIN:VEVENT
DTSTART;TZID=America/New_York:20240909T220000
DTEND;TZID=America/New_York:20240910T000000
DTSTAMP:20260420T093224
CREATED:20230914T031715Z
LAST-MODIFIED:20240807T221712Z
UID:10002070-1725919200-1725926400@sterlingheightslionsclub.org
SUMMARY:Susie Q's Kids Bag Stuffing Event
DESCRIPTION:Susie Q’s Kids has their monthly bag stuffing is held monthly on the 2nd Monday of each month 6 PM\nWe have moved the location from the Club to their new office located at\n6340 East 14 Mile Road\, Warren\, MI 48092 (in the Sticker Blitz building) use the side door on the East Side of the building\nIf the doors are locked\, call or text 586-206-8424 for entry. \nWe assembled comfort bags for kids in need in our community on the second Monday of each month \nVolunteers are welcome to stop and learn about Susie Q’s Kids\, the nonprofit that will receive the comfort bags\, and about Lionism \nKids are welcome and encouraged to attend as we promote “Kids Helping Kids” \nSusie Qs Kids monthly bag stuffing flyer
URL:https://sterlingheightslionsclub.org/event/sussie-qs-kids-bag-stuffing-event-4/2024-09-09/
CATEGORIES:Charitable Events,District 11-A2,Sterling Heights Club Events
ATTACH;FMTTYPE=image/png:https://sterlingheightslionsclub.org/wp-content/uploads/2023/06/care-house-2-cropped.png
END:VEVENT
BEGIN:VEVENT
DTSTART;TZID=America/Detroit:20240913T220000
DTEND;TZID=America/Detroit:20240914T023000
DTSTAMP:20260420T093224
CREATED:20240110T110138Z
LAST-MODIFIED:20240807T224244Z
UID:10002208-1726264800-1726281000@sterlingheightslionsclub.org
SUMMARY:Euchre
DESCRIPTION:Come join us for a night of Euchre\, we would love to see you.
URL:https://sterlingheightslionsclub.org/event/euchre-2-3/2024-09-13/
LOCATION:Sterling Heights Lions Club\, 12828 Canal Road\, Sterling Heights\, MI\, 48313
CATEGORIES:Charitable Events,Sterling Heights Club Events
ATTACH;FMTTYPE=image/png:https://sterlingheightslionsclub.org/wp-content/uploads/2023/04/2023-06-22_22-31-32.png
END:VEVENT
BEGIN:VEVENT
DTSTART;VALUE=DATE:20240914
DTEND;VALUE=DATE:20240915
DTSTAMP:20260420T093224
CREATED:20240408T030444Z
LAST-MODIFIED:20241006T003710Z
UID:10001983-1726272000-1726358399@sterlingheightslionsclub.org
SUMMARY:3rd Annual Tom Klingensmith Golf Outing 9/14/24
DESCRIPTION:Join us for our Third Annual Tom Kligensmith Golf Outing to be held 9/14/24 \nMore details and registration to follow \nsave the date 3rd annual golf outing
URL:https://sterlingheightslionsclub.org/event/2nd-annual-tom-klingensmith-golf-outing-9-14-24/
LOCATION:Greystone Golf Course\, 67500 Mound Road\, Washington\, 48095
CATEGORIES:Charitable Events,Sterling Heights Club Events
ATTACH;FMTTYPE=image/png:https://sterlingheightslionsclub.org/wp-content/uploads/2024/04/save-the-date-3rd-annual-golf-outing.png
END:VEVENT
BEGIN:VEVENT
DTSTART;TZID=America/New_York:20241011T180000
DTEND;TZID=America/New_York:20241011T230000
DTSTAMP:20260420T093224
CREATED:20241006T084515Z
LAST-MODIFIED:20241006T090352Z
UID:10002209-1728669600-1728687600@sterlingheightslionsclub.org
SUMMARY:Euchre
DESCRIPTION:Come join us for a night of Euchre\, we would love to see you.
URL:https://sterlingheightslionsclub.org/event/euchre-2-3-3/2024-10-11/
LOCATION:Sterling Heights Lions Club\, 12828 Canal Road\, Sterling Heights\, MI\, 48313
CATEGORIES:Charitable Events,Sterling Heights Club Events
ATTACH;FMTTYPE=image/png:https://sterlingheightslionsclub.org/wp-content/uploads/2023/04/2023-06-22_22-31-32.png
END:VEVENT
BEGIN:VEVENT
DTSTART;TZID=America/New_York:20241014T180000
DTEND;TZID=America/New_York:20241014T200000
DTSTAMP:20260420T093225
CREATED:20241006T065836Z
LAST-MODIFIED:20250812T053537Z
UID:10002600-1728928800-1728936000@sterlingheightslionsclub.org
SUMMARY:Susie Q's Kids Bag Stuffing Event
DESCRIPTION:NEW LOCATION\nSusie Q’s Kids has their monthly bag stuffing is held monthly on the 2nd Monday of each month 6 PM\nWe have moved the location from the Club to their new office located at\n35404 Mound Road\, Sterling Heights MI 48310 (Just north of 15 Mile Road)\nIf the doors are locked\, call or text 586-206-8424 for entry. \nWe assembled comfort bags for kids in need in our community on the second Monday of each month at 6 PM \nVolunteers are welcome to stop and learn about Susie Q’s Kids\, the nonprofit that will receive the comfort bags\, and about Lionism \nKids are welcome and encouraged to attend as we promote “Kids Helping Kids” \nS
URL:https://sterlingheightslionsclub.org/event/sussie-qs-kids-bag-stuffing-event-4-2-2/2024-10-14/
CATEGORIES:Charitable Events,District 11-A2,Sterling Heights Club Events
ATTACH;FMTTYPE=image/png:https://sterlingheightslionsclub.org/wp-content/uploads/2023/06/care-house-2-cropped.png
END:VEVENT
BEGIN:VEVENT
DTSTART;TZID=America/New_York:20241019T090000
DTEND;TZID=America/New_York:20241019T160000
DTSTAMP:20260420T093225
CREATED:20240408T031001Z
LAST-MODIFIED:20241006T060508Z
UID:10001984-1729328400-1729353600@sterlingheightslionsclub.org
SUMMARY:2nd Annual Arts and Crafts Show
DESCRIPTION:Join us as our crafters show their treasures just in time for the upcoming holidays\, Halloween\, Thanksgiving and Christmas.\nSave the date for the 2nd annual arts and craft show\, 9-4 pm
URL:https://sterlingheightslionsclub.org/event/2nd-annual-arts-and-crafts-show/
LOCATION:Sterling Heights Lions Club\, 12828 Canal Road\, Sterling Heights\, MI\, 48313
CATEGORIES:Charitable Events,Sterling Heights Club Events
ATTACH;FMTTYPE=image/jpeg:https://sterlingheightslionsclub.org/wp-content/uploads/2024/04/art-and-craft-show-10-19-24.jpg
END:VEVENT
BEGIN:VEVENT
DTSTART;TZID=America/New_York:20241108T180000
DTEND;TZID=America/New_York:20241108T230000
DTSTAMP:20260420T093225
CREATED:20241006T084515Z
LAST-MODIFIED:20241006T090352Z
UID:10002950-1731088800-1731106800@sterlingheightslionsclub.org
SUMMARY:Euchre
DESCRIPTION:Come join us for a night of Euchre\, we would love to see you.
URL:https://sterlingheightslionsclub.org/event/euchre-2-3-3/2024-11-08/
LOCATION:Sterling Heights Lions Club\, 12828 Canal Road\, Sterling Heights\, MI\, 48313
CATEGORIES:Charitable Events,Sterling Heights Club Events
ATTACH;FMTTYPE=image/png:https://sterlingheightslionsclub.org/wp-content/uploads/2023/04/2023-06-22_22-31-32.png
END:VEVENT
BEGIN:VEVENT
DTSTART;TZID=America/New_York:20241111T180000
DTEND;TZID=America/New_York:20241111T200000
DTSTAMP:20260420T093225
CREATED:20241006T065836Z
LAST-MODIFIED:20250812T053537Z
UID:10002601-1731348000-1731355200@sterlingheightslionsclub.org
SUMMARY:Susie Q's Kids Bag Stuffing Event
DESCRIPTION:NEW LOCATION\nSusie Q’s Kids has their monthly bag stuffing is held monthly on the 2nd Monday of each month 6 PM\nWe have moved the location from the Club to their new office located at\n35404 Mound Road\, Sterling Heights MI 48310 (Just north of 15 Mile Road)\nIf the doors are locked\, call or text 586-206-8424 for entry. \nWe assembled comfort bags for kids in need in our community on the second Monday of each month at 6 PM \nVolunteers are welcome to stop and learn about Susie Q’s Kids\, the nonprofit that will receive the comfort bags\, and about Lionism \nKids are welcome and encouraged to attend as we promote “Kids Helping Kids” \nS
URL:https://sterlingheightslionsclub.org/event/sussie-qs-kids-bag-stuffing-event-4-2-2/2024-11-11/
CATEGORIES:Charitable Events,District 11-A2,Sterling Heights Club Events
ATTACH;FMTTYPE=image/png:https://sterlingheightslionsclub.org/wp-content/uploads/2023/06/care-house-2-cropped.png
END:VEVENT
BEGIN:VEVENT
DTSTART;VALUE=DATE:20241129
DTEND;VALUE=DATE:20241130
DTSTAMP:20260420T093225
CREATED:20241006T071242Z
LAST-MODIFIED:20241006T071242Z
UID:10002661-1732838400-1732924799@sterlingheightslionsclub.org
SUMMARY:Candy Cane Drive
DESCRIPTION:See Lions Doug Wilson and Eileen Maciasz for details. \n11/29\, 11/30\, 12/1\n12/6\, 12/7\, 12/8
URL:https://sterlingheightslionsclub.org/event/candy-cane-drive-7/
CATEGORIES:Charitable Events,District 11-A2,Sterling Heights Club Events
ATTACH;FMTTYPE=image/png:https://sterlingheightslionsclub.org/wp-content/uploads/2024/10/candy-cane-collectinons.png
END:VEVENT
BEGIN:VEVENT
DTSTART;VALUE=DATE:20241130
DTEND;VALUE=DATE:20241201
DTSTAMP:20260420T093225
CREATED:20241006T071421Z
LAST-MODIFIED:20241006T071421Z
UID:10002662-1732924800-1733011199@sterlingheightslionsclub.org
SUMMARY:Candy Cane Drive
DESCRIPTION:See Lions Doug Wilson and Eileen Maciasz for details. \n11/29\, 11/30\, 12/1\n12/6\, 12/7\, 12/8
URL:https://sterlingheightslionsclub.org/event/candy-cane-drive-8/
CATEGORIES:Charitable Events,District 11-A2,Sterling Heights Club Events
ATTACH;FMTTYPE=image/png:https://sterlingheightslionsclub.org/wp-content/uploads/2024/10/candy-cane-collectinons.png
END:VEVENT
BEGIN:VEVENT
DTSTART;VALUE=DATE:20241201
DTEND;VALUE=DATE:20241202
DTSTAMP:20260420T093225
CREATED:20241006T071533Z
LAST-MODIFIED:20241006T071533Z
UID:10002663-1733011200-1733097599@sterlingheightslionsclub.org
SUMMARY:Candy Cane Drive
DESCRIPTION:See Lions Doug Wilson and Eileen Maciasz for details. \n11/29\, 11/30\, 12/1\n12/6\, 12/7\, 12/8
URL:https://sterlingheightslionsclub.org/event/candy-cane-drive-9/
CATEGORIES:Charitable Events,District 11-A2,Sterling Heights Club Events
ATTACH;FMTTYPE=image/png:https://sterlingheightslionsclub.org/wp-content/uploads/2024/10/candy-cane-collectinons.png
END:VEVENT
BEGIN:VEVENT
DTSTART;VALUE=DATE:20241206
DTEND;VALUE=DATE:20241207
DTSTAMP:20260420T093225
CREATED:20241006T071632Z
LAST-MODIFIED:20241006T071632Z
UID:10002664-1733443200-1733529599@sterlingheightslionsclub.org
SUMMARY:Candy Cane Drive
DESCRIPTION:See Lions Doug Wilson and Eileen Maciasz for details. \n11/29\, 11/30\, 12/1\n12/6\, 12/7\, 12/8
URL:https://sterlingheightslionsclub.org/event/candy-cane-drive-10/
CATEGORIES:Charitable Events,District 11-A2,Sterling Heights Club Events
ATTACH;FMTTYPE=image/png:https://sterlingheightslionsclub.org/wp-content/uploads/2024/10/candy-cane-collectinons.png
END:VEVENT
BEGIN:VEVENT
DTSTART;VALUE=DATE:20241207
DTEND;VALUE=DATE:20241208
DTSTAMP:20260420T093225
CREATED:20241006T071706Z
LAST-MODIFIED:20241006T071706Z
UID:10002665-1733529600-1733615999@sterlingheightslionsclub.org
SUMMARY:Candy Cane Drive
DESCRIPTION:See Lions Doug Wilson and Eileen Maciasz for details. \n11/29\, 11/30\, 12/1\n12/6\, 12/7\, 12/8
URL:https://sterlingheightslionsclub.org/event/candy-cane-drive-11/
CATEGORIES:Charitable Events,District 11-A2,Sterling Heights Club Events
ATTACH;FMTTYPE=image/png:https://sterlingheightslionsclub.org/wp-content/uploads/2024/10/candy-cane-collectinons.png
END:VEVENT
BEGIN:VEVENT
DTSTART;VALUE=DATE:20241208
DTEND;VALUE=DATE:20241209
DTSTAMP:20260420T093225
CREATED:20241006T071741Z
LAST-MODIFIED:20241006T071741Z
UID:10002666-1733616000-1733702399@sterlingheightslionsclub.org
SUMMARY:Candy Cane Drive
DESCRIPTION:See Lions Doug Wilson and Eileen Maciasz for details. \n11/29\, 11/30\, 12/1\n12/6\, 12/7\, 12/8
URL:https://sterlingheightslionsclub.org/event/candy-cane-drive-12/
CATEGORIES:Charitable Events,District 11-A2,Sterling Heights Club Events
ATTACH;FMTTYPE=image/png:https://sterlingheightslionsclub.org/wp-content/uploads/2024/10/candy-cane-collectinons.png
END:VEVENT
BEGIN:VEVENT
DTSTART;TZID=America/New_York:20241209T180000
DTEND;TZID=America/New_York:20241209T200000
DTSTAMP:20260420T093225
CREATED:20241006T065836Z
LAST-MODIFIED:20250812T053537Z
UID:10002602-1733767200-1733774400@sterlingheightslionsclub.org
SUMMARY:Susie Q's Kids Bag Stuffing Event
DESCRIPTION:NEW LOCATION\nSusie Q’s Kids has their monthly bag stuffing is held monthly on the 2nd Monday of each month 6 PM\nWe have moved the location from the Club to their new office located at\n35404 Mound Road\, Sterling Heights MI 48310 (Just north of 15 Mile Road)\nIf the doors are locked\, call or text 586-206-8424 for entry. \nWe assembled comfort bags for kids in need in our community on the second Monday of each month at 6 PM \nVolunteers are welcome to stop and learn about Susie Q’s Kids\, the nonprofit that will receive the comfort bags\, and about Lionism \nKids are welcome and encouraged to attend as we promote “Kids Helping Kids” \nS
URL:https://sterlingheightslionsclub.org/event/sussie-qs-kids-bag-stuffing-event-4-2-2/2024-12-09/
CATEGORIES:Charitable Events,District 11-A2,Sterling Heights Club Events
ATTACH;FMTTYPE=image/png:https://sterlingheightslionsclub.org/wp-content/uploads/2023/06/care-house-2-cropped.png
END:VEVENT
BEGIN:VEVENT
DTSTART;TZID=America/New_York:20241213T180000
DTEND;TZID=America/New_York:20241213T230000
DTSTAMP:20260420T093225
CREATED:20241123T045544Z
LAST-MODIFIED:20241123T052019Z
UID:10003129-1734112800-1734130800@sterlingheightslionsclub.org
SUMMARY:Euchre - CANCELLED
DESCRIPTION:CANCELLED\, NO EUCHRE IN DECEMBER\nHAPPY HOLIDAYS
URL:https://sterlingheightslionsclub.org/event/euchre-3-2/
LOCATION:Sterling Heights Lions Club\, 12828 Canal Road\, Sterling Heights\, MI\, 48313
CATEGORIES:Charitable Events,Sterling Heights Club Events
ATTACH;FMTTYPE=image/png:https://sterlingheightslionsclub.org/wp-content/uploads/2023/04/2023-06-22_22-31-32.png
END:VEVENT
BEGIN:VEVENT
DTSTART;VALUE=DATE:20250105
DTEND;VALUE=DATE:20250106
DTSTAMP:20260420T093225
CREATED:20241006T061253Z
LAST-MODIFIED:20241127T083000Z
UID:10002597-1736035200-1736121599@sterlingheightslionsclub.org
SUMMARY:Blood Drive 1/5/25
DESCRIPTION:Blood Drive to be held 1/5/2025\n  \n \n 
URL:https://sterlingheightslionsclub.org/event/blood-drive-8-1-24-save-the-date-2/
LOCATION:Sterling Heights Lions Club\, 12828 Canal Road\, Sterling Heights\, MI\, 48313
CATEGORIES:Charitable Events,Sterling Heights Club Events
ATTACH;FMTTYPE=application/pdf:https://sterlingheightslionsclub.org/wp-content/uploads/2024/10/blood-drive-1-5-2025-1.pdf
END:VEVENT
BEGIN:VEVENT
DTSTART;TZID=America/Detroit:20250105T080000
DTEND;TZID=America/Detroit:20250105T170000
DTSTAMP:20260420T093225
CREATED:20241127T081821Z
LAST-MODIFIED:20241127T081821Z
UID:10004784-1736064000-1736096400@sterlingheightslionsclub.org
SUMMARY:Clothing and Shoe Drive
DESCRIPTION:Sterling Heights Lions Club and St Vincent De Paul \nClothing and Shoe Drive  1-5-3035 9 am to 3 pm
URL:https://sterlingheightslionsclub.org/event/clothing-and-shoe-drive/
CATEGORIES:Charitable Events,Sterling Heights Club Events
ATTACH;FMTTYPE=image/png:https://sterlingheightslionsclub.org/wp-content/uploads/2024/11/Shoe-Clothing-Drive-Flyer-page-0.png
END:VEVENT
BEGIN:VEVENT
DTSTART;TZID=America/New_York:20250110T180000
DTEND;TZID=America/New_York:20250110T230000
DTSTAMP:20260420T093225
CREATED:20241123T031250Z
LAST-MODIFIED:20250111T043944Z
UID:10004787-1736532000-1736550000@sterlingheightslionsclub.org
SUMMARY:Euchre
DESCRIPTION:Join us for Euchre\nJanuary 10-2025 \nFebruary14\, 2025 \nMarch 14\, 2025 \nApril 11\, 2025 \nMay 9\, 2025 \nJune 13\, 2025 \nJuly 11\, 2025 \nAugust 8\, 2025 \nSeptember12\, 2025 \nOctober 10\, 2025 \nNovember 14\, 2025 \nDecember  no euchre
URL:https://sterlingheightslionsclub.org/event/euchre-3/2025-01-10/
LOCATION:Sterling Heights Lions Club\, 12828 Canal Road\, Sterling Heights\, MI\, 48313
CATEGORIES:Charitable Events,Sterling Heights Club Events
ATTACH;FMTTYPE=image/png:https://sterlingheightslionsclub.org/wp-content/uploads/2023/04/2023-06-22_22-31-32.png
END:VEVENT
BEGIN:VEVENT
DTSTART;TZID=America/New_York:20250113T180000
DTEND;TZID=America/New_York:20250113T200000
DTSTAMP:20260420T093225
CREATED:20241006T065836Z
LAST-MODIFIED:20250812T053537Z
UID:10002603-1736791200-1736798400@sterlingheightslionsclub.org
SUMMARY:Susie Q's Kids Bag Stuffing Event
DESCRIPTION:NEW LOCATION\nSusie Q’s Kids has their monthly bag stuffing is held monthly on the 2nd Monday of each month 6 PM\nWe have moved the location from the Club to their new office located at\n35404 Mound Road\, Sterling Heights MI 48310 (Just north of 15 Mile Road)\nIf the doors are locked\, call or text 586-206-8424 for entry. \nWe assembled comfort bags for kids in need in our community on the second Monday of each month at 6 PM \nVolunteers are welcome to stop and learn about Susie Q’s Kids\, the nonprofit that will receive the comfort bags\, and about Lionism \nKids are welcome and encouraged to attend as we promote “Kids Helping Kids” \nS
URL:https://sterlingheightslionsclub.org/event/sussie-qs-kids-bag-stuffing-event-4-2-2/2025-01-13/
CATEGORIES:Charitable Events,District 11-A2,Sterling Heights Club Events
ATTACH;FMTTYPE=image/png:https://sterlingheightslionsclub.org/wp-content/uploads/2023/06/care-house-2-cropped.png
END:VEVENT
BEGIN:VEVENT
DTSTART;TZID=America/New_York:20250210T180000
DTEND;TZID=America/New_York:20250210T200000
DTSTAMP:20260420T093225
CREATED:20241006T065836Z
LAST-MODIFIED:20250812T053537Z
UID:10002604-1739210400-1739217600@sterlingheightslionsclub.org
SUMMARY:Susie Q's Kids Bag Stuffing Event
DESCRIPTION:NEW LOCATION\nSusie Q’s Kids has their monthly bag stuffing is held monthly on the 2nd Monday of each month 6 PM\nWe have moved the location from the Club to their new office located at\n35404 Mound Road\, Sterling Heights MI 48310 (Just north of 15 Mile Road)\nIf the doors are locked\, call or text 586-206-8424 for entry. \nWe assembled comfort bags for kids in need in our community on the second Monday of each month at 6 PM \nVolunteers are welcome to stop and learn about Susie Q’s Kids\, the nonprofit that will receive the comfort bags\, and about Lionism \nKids are welcome and encouraged to attend as we promote “Kids Helping Kids” \nS
URL:https://sterlingheightslionsclub.org/event/sussie-qs-kids-bag-stuffing-event-4-2-2/2025-02-10/
CATEGORIES:Charitable Events,District 11-A2,Sterling Heights Club Events
ATTACH;FMTTYPE=image/png:https://sterlingheightslionsclub.org/wp-content/uploads/2023/06/care-house-2-cropped.png
END:VEVENT
BEGIN:VEVENT
DTSTART;TZID=America/Detroit:20250308T100000
DTEND;TZID=America/Detroit:20250308T130000
DTSTAMP:20260420T093225
CREATED:20250217T052424Z
LAST-MODIFIED:20250217T052424Z
UID:10004852-1741428000-1741438800@sterlingheightslionsclub.org
SUMMARY:Make Your Car Happy- Car Seat Check & Giveaway
DESCRIPTION:Make Your Car Happy – Car Seat Check and Giveaway Event\nMarch 8\, 2025 10am-1 pm \n 
URL:https://sterlingheightslionsclub.org/event/make-your-car-happy-car-seat-check-giveaway/
LOCATION:Sterling Heights Lions Club\, 12828 Canal Road\, Sterling Heights\, MI\, 48313
CATEGORIES:Charitable Events,District 11-A2,Sterling Heights Club Events
ATTACH;FMTTYPE=image/png:https://sterlingheightslionsclub.org/wp-content/uploads/2025/02/Car-Seat-Event-1.png
END:VEVENT
BEGIN:VEVENT
DTSTART;TZID=America/Detroit:20250309T123000
DTEND;TZID=America/Detroit:20250309T163000
DTSTAMP:20260420T093225
CREATED:20241006T073030Z
LAST-MODIFIED:20250217T052936Z
UID:10002669-1741523400-1741537800@sterlingheightslionsclub.org
SUMMARY:Meat Raffle - Meatball Challenge
DESCRIPTION:Meatball Day and Meat Raffle Fundraiser \nCome for a fun evening of chance and camaraderie\nHelp select who makes the best meatballs on Happy Meatball Day \n \n 
URL:https://sterlingheightslionsclub.org/event/meat-raffle-meatball-challenge/
CATEGORIES:Charitable Events,District 11-A2,Sterling Heights Club Events
ATTACH;FMTTYPE=image/png:https://sterlingheightslionsclub.org/wp-content/uploads/2024/10/National-meatball-day-poster-Made-with-PosterMyWall-1.png
END:VEVENT
BEGIN:VEVENT
DTSTART;TZID=America/New_York:20250310T180000
DTEND;TZID=America/New_York:20250310T200000
DTSTAMP:20260420T093225
CREATED:20241006T065836Z
LAST-MODIFIED:20250812T053537Z
UID:10002605-1741629600-1741636800@sterlingheightslionsclub.org
SUMMARY:Susie Q's Kids Bag Stuffing Event
DESCRIPTION:NEW LOCATION\nSusie Q’s Kids has their monthly bag stuffing is held monthly on the 2nd Monday of each month 6 PM\nWe have moved the location from the Club to their new office located at\n35404 Mound Road\, Sterling Heights MI 48310 (Just north of 15 Mile Road)\nIf the doors are locked\, call or text 586-206-8424 for entry. \nWe assembled comfort bags for kids in need in our community on the second Monday of each month at 6 PM \nVolunteers are welcome to stop and learn about Susie Q’s Kids\, the nonprofit that will receive the comfort bags\, and about Lionism \nKids are welcome and encouraged to attend as we promote “Kids Helping Kids” \nS
URL:https://sterlingheightslionsclub.org/event/sussie-qs-kids-bag-stuffing-event-4-2-2/2025-03-10/
CATEGORIES:Charitable Events,District 11-A2,Sterling Heights Club Events
ATTACH;FMTTYPE=image/png:https://sterlingheightslionsclub.org/wp-content/uploads/2023/06/care-house-2-cropped.png
END:VEVENT
BEGIN:VEVENT
DTSTART;VALUE=DATE:20250425
DTEND;VALUE=DATE:20250426
DTSTAMP:20260420T093225
CREATED:20241006T073928Z
LAST-MODIFIED:20241006T073928Z
UID:10002672-1745539200-1745625599@sterlingheightslionsclub.org
SUMMARY:White Cane Drive
DESCRIPTION:See Lions Doug Wilson and Eileen Maciasz for details. \n4/25\,4/26\, 4/27\n5/2\, 5//3\, 5/4
URL:https://sterlingheightslionsclub.org/event/white-cane-drive/
CATEGORIES:Charitable Events,District 11-A2,Sterling Heights Club Events
ATTACH;FMTTYPE=image/png:https://sterlingheightslionsclub.org/wp-content/uploads/2024/10/white-cane-collections.png
END:VEVENT
END:VCALENDAR