BEGIN:VCALENDAR
VERSION:2.0
PRODID:-//Sterling Heights Lions Club - ECPv6.15.20//NONSGML v1.0//EN
CALSCALE:GREGORIAN
METHOD:PUBLISH
X-WR-CALNAME:Sterling Heights Lions Club
X-ORIGINAL-URL:https://sterlingheightslionsclub.org
X-WR-CALDESC:Events for Sterling Heights Lions Club
REFRESH-INTERVAL;VALUE=DURATION:PT1H
X-Robots-Tag:noindex
X-PUBLISHED-TTL:PT1H
BEGIN:VTIMEZONE
TZID:America/Detroit
BEGIN:DAYLIGHT
TZOFFSETFROM:-0500
TZOFFSETTO:-0400
TZNAME:EDT
DTSTART:20270314T070000
END:DAYLIGHT
BEGIN:STANDARD
TZOFFSETFROM:-0400
TZOFFSETTO:-0500
TZNAME:EST
DTSTART:20271107T060000
END:STANDARD
BEGIN:DAYLIGHT
TZOFFSETFROM:-0500
TZOFFSETTO:-0400
TZNAME:EDT
DTSTART:20280312T070000
END:DAYLIGHT
BEGIN:STANDARD
TZOFFSETFROM:-0400
TZOFFSETTO:-0500
TZNAME:EST
DTSTART:20281105T060000
END:STANDARD
BEGIN:DAYLIGHT
TZOFFSETFROM:-0500
TZOFFSETTO:-0400
TZNAME:EDT
DTSTART:20290311T070000
END:DAYLIGHT
BEGIN:STANDARD
TZOFFSETFROM:-0400
TZOFFSETTO:-0500
TZNAME:EST
DTSTART:20291104T060000
END:STANDARD
BEGIN:DAYLIGHT
TZOFFSETFROM:-0500
TZOFFSETTO:-0400
TZNAME:EDT
DTSTART:20300310T070000
END:DAYLIGHT
BEGIN:STANDARD
TZOFFSETFROM:-0400
TZOFFSETTO:-0500
TZNAME:EST
DTSTART:20301103T060000
END:STANDARD
BEGIN:DAYLIGHT
TZOFFSETFROM:-0500
TZOFFSETTO:-0400
TZNAME:EDT
DTSTART:20310309T070000
END:DAYLIGHT
BEGIN:STANDARD
TZOFFSETFROM:-0400
TZOFFSETTO:-0500
TZNAME:EST
DTSTART:20311102T060000
END:STANDARD
END:VTIMEZONE
BEGIN:VTIMEZONE
TZID:UTC
BEGIN:STANDARD
TZOFFSETFROM:+0000
TZOFFSETTO:+0000
TZNAME:UTC
DTSTART:20270101T000000
END:STANDARD
END:VTIMEZONE
BEGIN:VTIMEZONE
TZID:America/New_York
BEGIN:DAYLIGHT
TZOFFSETFROM:-0500
TZOFFSETTO:-0400
TZNAME:EDT
DTSTART:20280312T070000
END:DAYLIGHT
BEGIN:STANDARD
TZOFFSETFROM:-0400
TZOFFSETTO:-0500
TZNAME:EST
DTSTART:20281105T060000
END:STANDARD
BEGIN:DAYLIGHT
TZOFFSETFROM:-0500
TZOFFSETTO:-0400
TZNAME:EDT
DTSTART:20290311T070000
END:DAYLIGHT
BEGIN:STANDARD
TZOFFSETFROM:-0400
TZOFFSETTO:-0500
TZNAME:EST
DTSTART:20291104T060000
END:STANDARD
BEGIN:DAYLIGHT
TZOFFSETFROM:-0500
TZOFFSETTO:-0400
TZNAME:EDT
DTSTART:20300310T070000
END:DAYLIGHT
BEGIN:STANDARD
TZOFFSETFROM:-0400
TZOFFSETTO:-0500
TZNAME:EST
DTSTART:20301103T060000
END:STANDARD
END:VTIMEZONE
BEGIN:VEVENT
DTSTART;TZID=America/Detroit:20281110T180000
DTEND;TZID=America/Detroit:20281110T220000
DTSTAMP:20260422T160922
CREATED:20250110T223100Z
LAST-MODIFIED:20250111T044907Z
UID:10004837-1857492000-1857506400@sterlingheightslionsclub.org
SUMMARY:Euchre
DESCRIPTION:Join us for Euchre\nJanuary 10-2025 \nFebruary14\, 2025 \nMarch 14\, 2025 \nApril 11\, 2025 \nMay 9\, 2025 \nJune 13\, 2025 \nJuly 11\, 2025 \nAugust 8\, 2025 \nSeptember12\, 2025 \nOctober 10\, 2025 \nNovember 14\, 2025 \nDecember  no euchre
URL:https://sterlingheightslionsclub.org/event/1817/2028-11-10/
CATEGORIES:Sterling Heights Club Events
ATTACH;FMTTYPE=image/png:https://sterlingheightslionsclub.org/wp-content/uploads/2023/04/2023-06-22_22-31-32.png
END:VEVENT
BEGIN:VEVENT
DTSTART;TZID=UTC:20281122T180000
DTEND;TZID=UTC:20281122T210000
DTSTAMP:20260422T160922
CREATED:20230623T005722Z
LAST-MODIFIED:20230623T010028Z
UID:10001954-1858528800-1858539600@sterlingheightslionsclub.org
SUMMARY:Lions Club Meeting
DESCRIPTION:Come join the Sterling Heights Lions Club for fun\, food\, and the latest updates on happening and our work in the community!
URL:https://sterlingheightslionsclub.org/event/lions-club-meeting-7/2028-11-22/
LOCATION:Lions Club\, 12828 Canal Rd\, Sterling Heights\, MI\, 48313\, United States
CATEGORIES:Sterling Heights Club Events
ATTACH;FMTTYPE=image/jpeg:https://sterlingheightslionsclub.org/wp-content/uploads/2023/03/IMG_8846-scaled.jpeg
END:VEVENT
BEGIN:VEVENT
DTSTART;TZID=America/Detroit:20281208T180000
DTEND;TZID=America/Detroit:20281208T220000
DTSTAMP:20260422T160922
CREATED:20250110T223100Z
LAST-MODIFIED:20250111T044907Z
UID:10004838-1859911200-1859925600@sterlingheightslionsclub.org
SUMMARY:Euchre
DESCRIPTION:Join us for Euchre\nJanuary 10-2025 \nFebruary14\, 2025 \nMarch 14\, 2025 \nApril 11\, 2025 \nMay 9\, 2025 \nJune 13\, 2025 \nJuly 11\, 2025 \nAugust 8\, 2025 \nSeptember12\, 2025 \nOctober 10\, 2025 \nNovember 14\, 2025 \nDecember  no euchre
URL:https://sterlingheightslionsclub.org/event/1817/2028-12-08/
CATEGORIES:Sterling Heights Club Events
ATTACH;FMTTYPE=image/png:https://sterlingheightslionsclub.org/wp-content/uploads/2023/04/2023-06-22_22-31-32.png
END:VEVENT
BEGIN:VEVENT
DTSTART;TZID=America/Detroit:20290112T180000
DTEND;TZID=America/Detroit:20290112T220000
DTSTAMP:20260422T160922
CREATED:20250110T223100Z
LAST-MODIFIED:20250111T044907Z
UID:10004839-1862935200-1862949600@sterlingheightslionsclub.org
SUMMARY:Euchre
DESCRIPTION:Join us for Euchre\nJanuary 10-2025 \nFebruary14\, 2025 \nMarch 14\, 2025 \nApril 11\, 2025 \nMay 9\, 2025 \nJune 13\, 2025 \nJuly 11\, 2025 \nAugust 8\, 2025 \nSeptember12\, 2025 \nOctober 10\, 2025 \nNovember 14\, 2025 \nDecember  no euchre
URL:https://sterlingheightslionsclub.org/event/1817/2029-01-12/
CATEGORIES:Sterling Heights Club Events
ATTACH;FMTTYPE=image/png:https://sterlingheightslionsclub.org/wp-content/uploads/2023/04/2023-06-22_22-31-32.png
END:VEVENT
BEGIN:VEVENT
DTSTART;TZID=America/New_York:20290112T180000
DTEND;TZID=America/New_York:20290112T230000
DTSTAMP:20260422T160922
CREATED:20241123T031250Z
LAST-MODIFIED:20250111T043944Z
UID:10004791-1862935200-1862953200@sterlingheightslionsclub.org
SUMMARY:Euchre
DESCRIPTION:Join us for Euchre\nJanuary 10-2025 \nFebruary14\, 2025 \nMarch 14\, 2025 \nApril 11\, 2025 \nMay 9\, 2025 \nJune 13\, 2025 \nJuly 11\, 2025 \nAugust 8\, 2025 \nSeptember12\, 2025 \nOctober 10\, 2025 \nNovember 14\, 2025 \nDecember  no euchre
URL:https://sterlingheightslionsclub.org/event/euchre-3/2029-01-12/
LOCATION:Sterling Heights Lions Club\, 12828 Canal Road\, Sterling Heights\, MI\, 48313
CATEGORIES:Charitable Events,Sterling Heights Club Events
ATTACH;FMTTYPE=image/png:https://sterlingheightslionsclub.org/wp-content/uploads/2023/04/2023-06-22_22-31-32.png
END:VEVENT
BEGIN:VEVENT
DTSTART;TZID=America/Detroit:20290209T180000
DTEND;TZID=America/Detroit:20290209T220000
DTSTAMP:20260422T160922
CREATED:20250110T223100Z
LAST-MODIFIED:20250111T044907Z
UID:10004840-1865354400-1865368800@sterlingheightslionsclub.org
SUMMARY:Euchre
DESCRIPTION:Join us for Euchre\nJanuary 10-2025 \nFebruary14\, 2025 \nMarch 14\, 2025 \nApril 11\, 2025 \nMay 9\, 2025 \nJune 13\, 2025 \nJuly 11\, 2025 \nAugust 8\, 2025 \nSeptember12\, 2025 \nOctober 10\, 2025 \nNovember 14\, 2025 \nDecember  no euchre
URL:https://sterlingheightslionsclub.org/event/1817/2029-02-09/
CATEGORIES:Sterling Heights Club Events
ATTACH;FMTTYPE=image/png:https://sterlingheightslionsclub.org/wp-content/uploads/2023/04/2023-06-22_22-31-32.png
END:VEVENT
BEGIN:VEVENT
DTSTART;TZID=America/Detroit:20290309T180000
DTEND;TZID=America/Detroit:20290309T220000
DTSTAMP:20260422T160922
CREATED:20250110T223100Z
LAST-MODIFIED:20250111T044907Z
UID:10004841-1867773600-1867788000@sterlingheightslionsclub.org
SUMMARY:Euchre
DESCRIPTION:Join us for Euchre\nJanuary 10-2025 \nFebruary14\, 2025 \nMarch 14\, 2025 \nApril 11\, 2025 \nMay 9\, 2025 \nJune 13\, 2025 \nJuly 11\, 2025 \nAugust 8\, 2025 \nSeptember12\, 2025 \nOctober 10\, 2025 \nNovember 14\, 2025 \nDecember  no euchre
URL:https://sterlingheightslionsclub.org/event/1817/2029-03-09/
CATEGORIES:Sterling Heights Club Events
ATTACH;FMTTYPE=image/png:https://sterlingheightslionsclub.org/wp-content/uploads/2023/04/2023-06-22_22-31-32.png
END:VEVENT
BEGIN:VEVENT
DTSTART;TZID=America/Detroit:20290413T180000
DTEND;TZID=America/Detroit:20290413T220000
DTSTAMP:20260422T160922
CREATED:20250110T223100Z
LAST-MODIFIED:20250111T044907Z
UID:10004842-1870797600-1870812000@sterlingheightslionsclub.org
SUMMARY:Euchre
DESCRIPTION:Join us for Euchre\nJanuary 10-2025 \nFebruary14\, 2025 \nMarch 14\, 2025 \nApril 11\, 2025 \nMay 9\, 2025 \nJune 13\, 2025 \nJuly 11\, 2025 \nAugust 8\, 2025 \nSeptember12\, 2025 \nOctober 10\, 2025 \nNovember 14\, 2025 \nDecember  no euchre
URL:https://sterlingheightslionsclub.org/event/1817/2029-04-13/
CATEGORIES:Sterling Heights Club Events
ATTACH;FMTTYPE=image/png:https://sterlingheightslionsclub.org/wp-content/uploads/2023/04/2023-06-22_22-31-32.png
END:VEVENT
BEGIN:VEVENT
DTSTART;TZID=America/Detroit:20290511T180000
DTEND;TZID=America/Detroit:20290511T220000
DTSTAMP:20260422T160922
CREATED:20250110T223100Z
LAST-MODIFIED:20250111T044907Z
UID:10004843-1873216800-1873231200@sterlingheightslionsclub.org
SUMMARY:Euchre
DESCRIPTION:Join us for Euchre\nJanuary 10-2025 \nFebruary14\, 2025 \nMarch 14\, 2025 \nApril 11\, 2025 \nMay 9\, 2025 \nJune 13\, 2025 \nJuly 11\, 2025 \nAugust 8\, 2025 \nSeptember12\, 2025 \nOctober 10\, 2025 \nNovember 14\, 2025 \nDecember  no euchre
URL:https://sterlingheightslionsclub.org/event/1817/2029-05-11/
CATEGORIES:Sterling Heights Club Events
ATTACH;FMTTYPE=image/png:https://sterlingheightslionsclub.org/wp-content/uploads/2023/04/2023-06-22_22-31-32.png
END:VEVENT
BEGIN:VEVENT
DTSTART;TZID=America/Detroit:20290608T180000
DTEND;TZID=America/Detroit:20290608T220000
DTSTAMP:20260422T160922
CREATED:20250110T223100Z
LAST-MODIFIED:20250111T044907Z
UID:10004844-1875636000-1875650400@sterlingheightslionsclub.org
SUMMARY:Euchre
DESCRIPTION:Join us for Euchre\nJanuary 10-2025 \nFebruary14\, 2025 \nMarch 14\, 2025 \nApril 11\, 2025 \nMay 9\, 2025 \nJune 13\, 2025 \nJuly 11\, 2025 \nAugust 8\, 2025 \nSeptember12\, 2025 \nOctober 10\, 2025 \nNovember 14\, 2025 \nDecember  no euchre
URL:https://sterlingheightslionsclub.org/event/1817/2029-06-08/
CATEGORIES:Sterling Heights Club Events
ATTACH;FMTTYPE=image/png:https://sterlingheightslionsclub.org/wp-content/uploads/2023/04/2023-06-22_22-31-32.png
END:VEVENT
BEGIN:VEVENT
DTSTART;TZID=America/Detroit:20290713T180000
DTEND;TZID=America/Detroit:20290713T220000
DTSTAMP:20260422T160922
CREATED:20250110T223100Z
LAST-MODIFIED:20250111T044907Z
UID:10004845-1878660000-1878674400@sterlingheightslionsclub.org
SUMMARY:Euchre
DESCRIPTION:Join us for Euchre\nJanuary 10-2025 \nFebruary14\, 2025 \nMarch 14\, 2025 \nApril 11\, 2025 \nMay 9\, 2025 \nJune 13\, 2025 \nJuly 11\, 2025 \nAugust 8\, 2025 \nSeptember12\, 2025 \nOctober 10\, 2025 \nNovember 14\, 2025 \nDecember  no euchre
URL:https://sterlingheightslionsclub.org/event/1817/2029-07-13/
CATEGORIES:Sterling Heights Club Events
ATTACH;FMTTYPE=image/png:https://sterlingheightslionsclub.org/wp-content/uploads/2023/04/2023-06-22_22-31-32.png
END:VEVENT
BEGIN:VEVENT
DTSTART;TZID=America/Detroit:20290810T180000
DTEND;TZID=America/Detroit:20290810T220000
DTSTAMP:20260422T160922
CREATED:20250110T223100Z
LAST-MODIFIED:20250111T044907Z
UID:10004846-1881079200-1881093600@sterlingheightslionsclub.org
SUMMARY:Euchre
DESCRIPTION:Join us for Euchre\nJanuary 10-2025 \nFebruary14\, 2025 \nMarch 14\, 2025 \nApril 11\, 2025 \nMay 9\, 2025 \nJune 13\, 2025 \nJuly 11\, 2025 \nAugust 8\, 2025 \nSeptember12\, 2025 \nOctober 10\, 2025 \nNovember 14\, 2025 \nDecember  no euchre
URL:https://sterlingheightslionsclub.org/event/1817/2029-08-10/
CATEGORIES:Sterling Heights Club Events
ATTACH;FMTTYPE=image/png:https://sterlingheightslionsclub.org/wp-content/uploads/2023/04/2023-06-22_22-31-32.png
END:VEVENT
BEGIN:VEVENT
DTSTART;TZID=America/Detroit:20290914T180000
DTEND;TZID=America/Detroit:20290914T220000
DTSTAMP:20260422T160922
CREATED:20250110T223100Z
LAST-MODIFIED:20250111T044907Z
UID:10004847-1884103200-1884117600@sterlingheightslionsclub.org
SUMMARY:Euchre
DESCRIPTION:Join us for Euchre\nJanuary 10-2025 \nFebruary14\, 2025 \nMarch 14\, 2025 \nApril 11\, 2025 \nMay 9\, 2025 \nJune 13\, 2025 \nJuly 11\, 2025 \nAugust 8\, 2025 \nSeptember12\, 2025 \nOctober 10\, 2025 \nNovember 14\, 2025 \nDecember  no euchre
URL:https://sterlingheightslionsclub.org/event/1817/2029-09-14/
CATEGORIES:Sterling Heights Club Events
ATTACH;FMTTYPE=image/png:https://sterlingheightslionsclub.org/wp-content/uploads/2023/04/2023-06-22_22-31-32.png
END:VEVENT
BEGIN:VEVENT
DTSTART;TZID=America/Detroit:20291012T180000
DTEND;TZID=America/Detroit:20291012T220000
DTSTAMP:20260422T160922
CREATED:20250110T223100Z
LAST-MODIFIED:20250111T044907Z
UID:10004848-1886522400-1886536800@sterlingheightslionsclub.org
SUMMARY:Euchre
DESCRIPTION:Join us for Euchre\nJanuary 10-2025 \nFebruary14\, 2025 \nMarch 14\, 2025 \nApril 11\, 2025 \nMay 9\, 2025 \nJune 13\, 2025 \nJuly 11\, 2025 \nAugust 8\, 2025 \nSeptember12\, 2025 \nOctober 10\, 2025 \nNovember 14\, 2025 \nDecember  no euchre
URL:https://sterlingheightslionsclub.org/event/1817/2029-10-12/
CATEGORIES:Sterling Heights Club Events
ATTACH;FMTTYPE=image/png:https://sterlingheightslionsclub.org/wp-content/uploads/2023/04/2023-06-22_22-31-32.png
END:VEVENT
BEGIN:VEVENT
DTSTART;TZID=America/Detroit:20291109T180000
DTEND;TZID=America/Detroit:20291109T220000
DTSTAMP:20260422T160922
CREATED:20250110T223100Z
LAST-MODIFIED:20250111T044907Z
UID:10004849-1888941600-1888956000@sterlingheightslionsclub.org
SUMMARY:Euchre
DESCRIPTION:Join us for Euchre\nJanuary 10-2025 \nFebruary14\, 2025 \nMarch 14\, 2025 \nApril 11\, 2025 \nMay 9\, 2025 \nJune 13\, 2025 \nJuly 11\, 2025 \nAugust 8\, 2025 \nSeptember12\, 2025 \nOctober 10\, 2025 \nNovember 14\, 2025 \nDecember  no euchre
URL:https://sterlingheightslionsclub.org/event/1817/2029-11-09/
CATEGORIES:Sterling Heights Club Events
ATTACH;FMTTYPE=image/png:https://sterlingheightslionsclub.org/wp-content/uploads/2023/04/2023-06-22_22-31-32.png
END:VEVENT
BEGIN:VEVENT
DTSTART;TZID=America/Detroit:20291214T180000
DTEND;TZID=America/Detroit:20291214T220000
DTSTAMP:20260422T160922
CREATED:20250110T223100Z
LAST-MODIFIED:20250111T044907Z
UID:10004850-1891965600-1891980000@sterlingheightslionsclub.org
SUMMARY:Euchre
DESCRIPTION:Join us for Euchre\nJanuary 10-2025 \nFebruary14\, 2025 \nMarch 14\, 2025 \nApril 11\, 2025 \nMay 9\, 2025 \nJune 13\, 2025 \nJuly 11\, 2025 \nAugust 8\, 2025 \nSeptember12\, 2025 \nOctober 10\, 2025 \nNovember 14\, 2025 \nDecember  no euchre
URL:https://sterlingheightslionsclub.org/event/1817/2029-12-14/
CATEGORIES:Sterling Heights Club Events
ATTACH;FMTTYPE=image/png:https://sterlingheightslionsclub.org/wp-content/uploads/2023/04/2023-06-22_22-31-32.png
END:VEVENT
BEGIN:VEVENT
DTSTART;TZID=America/Detroit:20300111T180000
DTEND;TZID=America/Detroit:20300111T220000
DTSTAMP:20260422T160922
CREATED:20250110T223100Z
LAST-MODIFIED:20250111T044907Z
UID:10004945-1894384800-1894399200@sterlingheightslionsclub.org
SUMMARY:Euchre
DESCRIPTION:Join us for Euchre\nJanuary 10-2025 \nFebruary14\, 2025 \nMarch 14\, 2025 \nApril 11\, 2025 \nMay 9\, 2025 \nJune 13\, 2025 \nJuly 11\, 2025 \nAugust 8\, 2025 \nSeptember12\, 2025 \nOctober 10\, 2025 \nNovember 14\, 2025 \nDecember  no euchre
URL:https://sterlingheightslionsclub.org/event/1817/2030-01-11/
CATEGORIES:Sterling Heights Club Events
ATTACH;FMTTYPE=image/png:https://sterlingheightslionsclub.org/wp-content/uploads/2023/04/2023-06-22_22-31-32.png
END:VEVENT
BEGIN:VEVENT
DTSTART;TZID=America/Detroit:20300208T180000
DTEND;TZID=America/Detroit:20300208T220000
DTSTAMP:20260422T160922
CREATED:20250110T223100Z
LAST-MODIFIED:20250111T044907Z
UID:10004946-1896804000-1896818400@sterlingheightslionsclub.org
SUMMARY:Euchre
DESCRIPTION:Join us for Euchre\nJanuary 10-2025 \nFebruary14\, 2025 \nMarch 14\, 2025 \nApril 11\, 2025 \nMay 9\, 2025 \nJune 13\, 2025 \nJuly 11\, 2025 \nAugust 8\, 2025 \nSeptember12\, 2025 \nOctober 10\, 2025 \nNovember 14\, 2025 \nDecember  no euchre
URL:https://sterlingheightslionsclub.org/event/1817/2030-02-08/
CATEGORIES:Sterling Heights Club Events
ATTACH;FMTTYPE=image/png:https://sterlingheightslionsclub.org/wp-content/uploads/2023/04/2023-06-22_22-31-32.png
END:VEVENT
BEGIN:VEVENT
DTSTART;TZID=America/Detroit:20300308T180000
DTEND;TZID=America/Detroit:20300308T220000
DTSTAMP:20260422T160922
CREATED:20250110T223100Z
LAST-MODIFIED:20250111T044907Z
UID:10004947-1899223200-1899237600@sterlingheightslionsclub.org
SUMMARY:Euchre
DESCRIPTION:Join us for Euchre\nJanuary 10-2025 \nFebruary14\, 2025 \nMarch 14\, 2025 \nApril 11\, 2025 \nMay 9\, 2025 \nJune 13\, 2025 \nJuly 11\, 2025 \nAugust 8\, 2025 \nSeptember12\, 2025 \nOctober 10\, 2025 \nNovember 14\, 2025 \nDecember  no euchre
URL:https://sterlingheightslionsclub.org/event/1817/2030-03-08/
CATEGORIES:Sterling Heights Club Events
ATTACH;FMTTYPE=image/png:https://sterlingheightslionsclub.org/wp-content/uploads/2023/04/2023-06-22_22-31-32.png
END:VEVENT
BEGIN:VEVENT
DTSTART;TZID=America/Detroit:20300412T180000
DTEND;TZID=America/Detroit:20300412T220000
DTSTAMP:20260422T160922
CREATED:20250110T223100Z
LAST-MODIFIED:20250111T044907Z
UID:10004948-1902247200-1902261600@sterlingheightslionsclub.org
SUMMARY:Euchre
DESCRIPTION:Join us for Euchre\nJanuary 10-2025 \nFebruary14\, 2025 \nMarch 14\, 2025 \nApril 11\, 2025 \nMay 9\, 2025 \nJune 13\, 2025 \nJuly 11\, 2025 \nAugust 8\, 2025 \nSeptember12\, 2025 \nOctober 10\, 2025 \nNovember 14\, 2025 \nDecember  no euchre
URL:https://sterlingheightslionsclub.org/event/1817/2030-04-12/
CATEGORIES:Sterling Heights Club Events
ATTACH;FMTTYPE=image/png:https://sterlingheightslionsclub.org/wp-content/uploads/2023/04/2023-06-22_22-31-32.png
END:VEVENT
BEGIN:VEVENT
DTSTART;TZID=America/Detroit:20300510T180000
DTEND;TZID=America/Detroit:20300510T220000
DTSTAMP:20260422T160922
CREATED:20250110T223100Z
LAST-MODIFIED:20250111T044907Z
UID:10004949-1904666400-1904680800@sterlingheightslionsclub.org
SUMMARY:Euchre
DESCRIPTION:Join us for Euchre\nJanuary 10-2025 \nFebruary14\, 2025 \nMarch 14\, 2025 \nApril 11\, 2025 \nMay 9\, 2025 \nJune 13\, 2025 \nJuly 11\, 2025 \nAugust 8\, 2025 \nSeptember12\, 2025 \nOctober 10\, 2025 \nNovember 14\, 2025 \nDecember  no euchre
URL:https://sterlingheightslionsclub.org/event/1817/2030-05-10/
CATEGORIES:Sterling Heights Club Events
ATTACH;FMTTYPE=image/png:https://sterlingheightslionsclub.org/wp-content/uploads/2023/04/2023-06-22_22-31-32.png
END:VEVENT
BEGIN:VEVENT
DTSTART;TZID=America/Detroit:20300614T180000
DTEND;TZID=America/Detroit:20300614T220000
DTSTAMP:20260422T160922
CREATED:20250110T223100Z
LAST-MODIFIED:20250111T044907Z
UID:10004950-1907690400-1907704800@sterlingheightslionsclub.org
SUMMARY:Euchre
DESCRIPTION:Join us for Euchre\nJanuary 10-2025 \nFebruary14\, 2025 \nMarch 14\, 2025 \nApril 11\, 2025 \nMay 9\, 2025 \nJune 13\, 2025 \nJuly 11\, 2025 \nAugust 8\, 2025 \nSeptember12\, 2025 \nOctober 10\, 2025 \nNovember 14\, 2025 \nDecember  no euchre
URL:https://sterlingheightslionsclub.org/event/1817/2030-06-14/
CATEGORIES:Sterling Heights Club Events
ATTACH;FMTTYPE=image/png:https://sterlingheightslionsclub.org/wp-content/uploads/2023/04/2023-06-22_22-31-32.png
END:VEVENT
BEGIN:VEVENT
DTSTART;TZID=America/Detroit:20300712T180000
DTEND;TZID=America/Detroit:20300712T220000
DTSTAMP:20260422T160922
CREATED:20250110T223100Z
LAST-MODIFIED:20250111T044907Z
UID:10004951-1910109600-1910124000@sterlingheightslionsclub.org
SUMMARY:Euchre
DESCRIPTION:Join us for Euchre\nJanuary 10-2025 \nFebruary14\, 2025 \nMarch 14\, 2025 \nApril 11\, 2025 \nMay 9\, 2025 \nJune 13\, 2025 \nJuly 11\, 2025 \nAugust 8\, 2025 \nSeptember12\, 2025 \nOctober 10\, 2025 \nNovember 14\, 2025 \nDecember  no euchre
URL:https://sterlingheightslionsclub.org/event/1817/2030-07-12/
CATEGORIES:Sterling Heights Club Events
ATTACH;FMTTYPE=image/png:https://sterlingheightslionsclub.org/wp-content/uploads/2023/04/2023-06-22_22-31-32.png
END:VEVENT
BEGIN:VEVENT
DTSTART;TZID=America/Detroit:20300809T180000
DTEND;TZID=America/Detroit:20300809T220000
DTSTAMP:20260422T160922
CREATED:20250110T223100Z
LAST-MODIFIED:20250111T044907Z
UID:10004952-1912528800-1912543200@sterlingheightslionsclub.org
SUMMARY:Euchre
DESCRIPTION:Join us for Euchre\nJanuary 10-2025 \nFebruary14\, 2025 \nMarch 14\, 2025 \nApril 11\, 2025 \nMay 9\, 2025 \nJune 13\, 2025 \nJuly 11\, 2025 \nAugust 8\, 2025 \nSeptember12\, 2025 \nOctober 10\, 2025 \nNovember 14\, 2025 \nDecember  no euchre
URL:https://sterlingheightslionsclub.org/event/1817/2030-08-09/
CATEGORIES:Sterling Heights Club Events
ATTACH;FMTTYPE=image/png:https://sterlingheightslionsclub.org/wp-content/uploads/2023/04/2023-06-22_22-31-32.png
END:VEVENT
BEGIN:VEVENT
DTSTART;TZID=America/Detroit:20300913T180000
DTEND;TZID=America/Detroit:20300913T220000
DTSTAMP:20260422T160922
CREATED:20250110T223100Z
LAST-MODIFIED:20250111T044907Z
UID:10004953-1915552800-1915567200@sterlingheightslionsclub.org
SUMMARY:Euchre
DESCRIPTION:Join us for Euchre\nJanuary 10-2025 \nFebruary14\, 2025 \nMarch 14\, 2025 \nApril 11\, 2025 \nMay 9\, 2025 \nJune 13\, 2025 \nJuly 11\, 2025 \nAugust 8\, 2025 \nSeptember12\, 2025 \nOctober 10\, 2025 \nNovember 14\, 2025 \nDecember  no euchre
URL:https://sterlingheightslionsclub.org/event/1817/2030-09-13/
CATEGORIES:Sterling Heights Club Events
ATTACH;FMTTYPE=image/png:https://sterlingheightslionsclub.org/wp-content/uploads/2023/04/2023-06-22_22-31-32.png
END:VEVENT
BEGIN:VEVENT
DTSTART;TZID=America/Detroit:20301011T180000
DTEND;TZID=America/Detroit:20301011T220000
DTSTAMP:20260422T160922
CREATED:20250110T223100Z
LAST-MODIFIED:20250111T044907Z
UID:10004954-1917972000-1917986400@sterlingheightslionsclub.org
SUMMARY:Euchre
DESCRIPTION:Join us for Euchre\nJanuary 10-2025 \nFebruary14\, 2025 \nMarch 14\, 2025 \nApril 11\, 2025 \nMay 9\, 2025 \nJune 13\, 2025 \nJuly 11\, 2025 \nAugust 8\, 2025 \nSeptember12\, 2025 \nOctober 10\, 2025 \nNovember 14\, 2025 \nDecember  no euchre
URL:https://sterlingheightslionsclub.org/event/1817/2030-10-11/
CATEGORIES:Sterling Heights Club Events
ATTACH;FMTTYPE=image/png:https://sterlingheightslionsclub.org/wp-content/uploads/2023/04/2023-06-22_22-31-32.png
END:VEVENT
BEGIN:VEVENT
DTSTART;TZID=America/Detroit:20301108T180000
DTEND;TZID=America/Detroit:20301108T220000
DTSTAMP:20260422T160922
CREATED:20250110T223100Z
LAST-MODIFIED:20250111T044907Z
UID:10004955-1920391200-1920405600@sterlingheightslionsclub.org
SUMMARY:Euchre
DESCRIPTION:Join us for Euchre\nJanuary 10-2025 \nFebruary14\, 2025 \nMarch 14\, 2025 \nApril 11\, 2025 \nMay 9\, 2025 \nJune 13\, 2025 \nJuly 11\, 2025 \nAugust 8\, 2025 \nSeptember12\, 2025 \nOctober 10\, 2025 \nNovember 14\, 2025 \nDecember  no euchre
URL:https://sterlingheightslionsclub.org/event/1817/2030-11-08/
CATEGORIES:Sterling Heights Club Events
ATTACH;FMTTYPE=image/png:https://sterlingheightslionsclub.org/wp-content/uploads/2023/04/2023-06-22_22-31-32.png
END:VEVENT
END:VCALENDAR