BEGIN:VCALENDAR
VERSION:2.0
PRODID:-//Sterling Heights Lions Club - ECPv6.15.20//NONSGML v1.0//EN
CALSCALE:GREGORIAN
METHOD:PUBLISH
X-WR-CALNAME:Sterling Heights Lions Club
X-ORIGINAL-URL:https://sterlingheightslionsclub.org
X-WR-CALDESC:Events for Sterling Heights Lions Club
REFRESH-INTERVAL;VALUE=DURATION:PT1H
X-Robots-Tag:noindex
X-PUBLISHED-TTL:PT1H
BEGIN:VTIMEZONE
TZID:America/Detroit
BEGIN:DAYLIGHT
TZOFFSETFROM:-0500
TZOFFSETTO:-0400
TZNAME:EDT
DTSTART:20260308T070000
END:DAYLIGHT
BEGIN:STANDARD
TZOFFSETFROM:-0400
TZOFFSETTO:-0500
TZNAME:EST
DTSTART:20261101T060000
END:STANDARD
BEGIN:DAYLIGHT
TZOFFSETFROM:-0500
TZOFFSETTO:-0400
TZNAME:EDT
DTSTART:20270314T070000
END:DAYLIGHT
BEGIN:STANDARD
TZOFFSETFROM:-0400
TZOFFSETTO:-0500
TZNAME:EST
DTSTART:20271107T060000
END:STANDARD
BEGIN:DAYLIGHT
TZOFFSETFROM:-0500
TZOFFSETTO:-0400
TZNAME:EDT
DTSTART:20280312T070000
END:DAYLIGHT
BEGIN:STANDARD
TZOFFSETFROM:-0400
TZOFFSETTO:-0500
TZNAME:EST
DTSTART:20281105T060000
END:STANDARD
BEGIN:DAYLIGHT
TZOFFSETFROM:-0500
TZOFFSETTO:-0400
TZNAME:EDT
DTSTART:20290311T070000
END:DAYLIGHT
BEGIN:STANDARD
TZOFFSETFROM:-0400
TZOFFSETTO:-0500
TZNAME:EST
DTSTART:20291104T060000
END:STANDARD
BEGIN:DAYLIGHT
TZOFFSETFROM:-0500
TZOFFSETTO:-0400
TZNAME:EDT
DTSTART:20300310T070000
END:DAYLIGHT
BEGIN:STANDARD
TZOFFSETFROM:-0400
TZOFFSETTO:-0500
TZNAME:EST
DTSTART:20301103T060000
END:STANDARD
END:VTIMEZONE
BEGIN:VTIMEZONE
TZID:UTC
BEGIN:STANDARD
TZOFFSETFROM:+0000
TZOFFSETTO:+0000
TZNAME:UTC
DTSTART:20260101T000000
END:STANDARD
END:VTIMEZONE
BEGIN:VTIMEZONE
TZID:America/New_York
BEGIN:DAYLIGHT
TZOFFSETFROM:-0500
TZOFFSETTO:-0400
TZNAME:EDT
DTSTART:20270314T070000
END:DAYLIGHT
BEGIN:STANDARD
TZOFFSETFROM:-0400
TZOFFSETTO:-0500
TZNAME:EST
DTSTART:20271107T060000
END:STANDARD
BEGIN:DAYLIGHT
TZOFFSETFROM:-0500
TZOFFSETTO:-0400
TZNAME:EDT
DTSTART:20280312T070000
END:DAYLIGHT
BEGIN:STANDARD
TZOFFSETFROM:-0400
TZOFFSETTO:-0500
TZNAME:EST
DTSTART:20281105T060000
END:STANDARD
BEGIN:DAYLIGHT
TZOFFSETFROM:-0500
TZOFFSETTO:-0400
TZNAME:EDT
DTSTART:20290311T070000
END:DAYLIGHT
BEGIN:STANDARD
TZOFFSETFROM:-0400
TZOFFSETTO:-0500
TZNAME:EST
DTSTART:20291104T060000
END:STANDARD
BEGIN:DAYLIGHT
TZOFFSETFROM:-0500
TZOFFSETTO:-0400
TZNAME:EDT
DTSTART:20300310T070000
END:DAYLIGHT
BEGIN:STANDARD
TZOFFSETFROM:-0400
TZOFFSETTO:-0500
TZNAME:EST
DTSTART:20301103T060000
END:STANDARD
END:VTIMEZONE
BEGIN:VEVENT
DTSTART;TZID=America/Detroit:20271210T180000
DTEND;TZID=America/Detroit:20271210T220000
DTSTAMP:20260424T073620
CREATED:20250110T223100Z
LAST-MODIFIED:20250111T044907Z
UID:10004826-1828461600-1828476000@sterlingheightslionsclub.org
SUMMARY:Euchre
DESCRIPTION:Join us for Euchre\nJanuary 10-2025 \nFebruary14\, 2025 \nMarch 14\, 2025 \nApril 11\, 2025 \nMay 9\, 2025 \nJune 13\, 2025 \nJuly 11\, 2025 \nAugust 8\, 2025 \nSeptember12\, 2025 \nOctober 10\, 2025 \nNovember 14\, 2025 \nDecember  no euchre
URL:https://sterlingheightslionsclub.org/event/1817/2027-12-10/
CATEGORIES:Sterling Heights Club Events
ATTACH;FMTTYPE=image/png:https://sterlingheightslionsclub.org/wp-content/uploads/2023/04/2023-06-22_22-31-32.png
END:VEVENT
BEGIN:VEVENT
DTSTART;TZID=UTC:20271222T180000
DTEND;TZID=UTC:20271222T210000
DTSTAMP:20260424T073620
CREATED:20230623T005722Z
LAST-MODIFIED:20230623T010028Z
UID:10001203-1829498400-1829509200@sterlingheightslionsclub.org
SUMMARY:Lions Club Meeting
DESCRIPTION:Come join the Sterling Heights Lions Club for fun\, food\, and the latest updates on happening and our work in the community!
URL:https://sterlingheightslionsclub.org/event/lions-club-meeting-7/2027-12-22/
LOCATION:Lions Club\, 12828 Canal Rd\, Sterling Heights\, MI\, 48313\, United States
CATEGORIES:Sterling Heights Club Events
ATTACH;FMTTYPE=image/jpeg:https://sterlingheightslionsclub.org/wp-content/uploads/2023/03/IMG_8846-scaled.jpeg
END:VEVENT
BEGIN:VEVENT
DTSTART;TZID=America/Detroit:20280114T180000
DTEND;TZID=America/Detroit:20280114T220000
DTSTAMP:20260424T073620
CREATED:20250110T223100Z
LAST-MODIFIED:20250111T044907Z
UID:10004827-1831485600-1831500000@sterlingheightslionsclub.org
SUMMARY:Euchre
DESCRIPTION:Join us for Euchre\nJanuary 10-2025 \nFebruary14\, 2025 \nMarch 14\, 2025 \nApril 11\, 2025 \nMay 9\, 2025 \nJune 13\, 2025 \nJuly 11\, 2025 \nAugust 8\, 2025 \nSeptember12\, 2025 \nOctober 10\, 2025 \nNovember 14\, 2025 \nDecember  no euchre
URL:https://sterlingheightslionsclub.org/event/1817/2028-01-14/
CATEGORIES:Sterling Heights Club Events
ATTACH;FMTTYPE=image/png:https://sterlingheightslionsclub.org/wp-content/uploads/2023/04/2023-06-22_22-31-32.png
END:VEVENT
BEGIN:VEVENT
DTSTART;TZID=America/New_York:20280114T180000
DTEND;TZID=America/New_York:20280114T230000
DTSTAMP:20260424T073620
CREATED:20241123T031250Z
LAST-MODIFIED:20250111T043944Z
UID:10004790-1831485600-1831503600@sterlingheightslionsclub.org
SUMMARY:Euchre
DESCRIPTION:Join us for Euchre\nJanuary 10-2025 \nFebruary14\, 2025 \nMarch 14\, 2025 \nApril 11\, 2025 \nMay 9\, 2025 \nJune 13\, 2025 \nJuly 11\, 2025 \nAugust 8\, 2025 \nSeptember12\, 2025 \nOctober 10\, 2025 \nNovember 14\, 2025 \nDecember  no euchre
URL:https://sterlingheightslionsclub.org/event/euchre-3/2028-01-14/
LOCATION:Sterling Heights Lions Club\, 12828 Canal Road\, Sterling Heights\, MI\, 48313
CATEGORIES:Charitable Events,Sterling Heights Club Events
ATTACH;FMTTYPE=image/png:https://sterlingheightslionsclub.org/wp-content/uploads/2023/04/2023-06-22_22-31-32.png
END:VEVENT
BEGIN:VEVENT
DTSTART;TZID=UTC:20280126T180000
DTEND;TZID=UTC:20280126T210000
DTSTAMP:20260424T073620
CREATED:20230623T005722Z
LAST-MODIFIED:20230623T010028Z
UID:10001204-1832522400-1832533200@sterlingheightslionsclub.org
SUMMARY:Lions Club Meeting
DESCRIPTION:Come join the Sterling Heights Lions Club for fun\, food\, and the latest updates on happening and our work in the community!
URL:https://sterlingheightslionsclub.org/event/lions-club-meeting-7/2028-01-26/
LOCATION:Lions Club\, 12828 Canal Rd\, Sterling Heights\, MI\, 48313\, United States
CATEGORIES:Sterling Heights Club Events
ATTACH;FMTTYPE=image/jpeg:https://sterlingheightslionsclub.org/wp-content/uploads/2023/03/IMG_8846-scaled.jpeg
END:VEVENT
BEGIN:VEVENT
DTSTART;TZID=America/Detroit:20280211T180000
DTEND;TZID=America/Detroit:20280211T220000
DTSTAMP:20260424T073620
CREATED:20250110T223100Z
LAST-MODIFIED:20250111T044907Z
UID:10004828-1833904800-1833919200@sterlingheightslionsclub.org
SUMMARY:Euchre
DESCRIPTION:Join us for Euchre\nJanuary 10-2025 \nFebruary14\, 2025 \nMarch 14\, 2025 \nApril 11\, 2025 \nMay 9\, 2025 \nJune 13\, 2025 \nJuly 11\, 2025 \nAugust 8\, 2025 \nSeptember12\, 2025 \nOctober 10\, 2025 \nNovember 14\, 2025 \nDecember  no euchre
URL:https://sterlingheightslionsclub.org/event/1817/2028-02-11/
CATEGORIES:Sterling Heights Club Events
ATTACH;FMTTYPE=image/png:https://sterlingheightslionsclub.org/wp-content/uploads/2023/04/2023-06-22_22-31-32.png
END:VEVENT
BEGIN:VEVENT
DTSTART;TZID=UTC:20280223T180000
DTEND;TZID=UTC:20280223T210000
DTSTAMP:20260424T073620
CREATED:20230623T005722Z
LAST-MODIFIED:20230623T010028Z
UID:10001205-1834941600-1834952400@sterlingheightslionsclub.org
SUMMARY:Lions Club Meeting
DESCRIPTION:Come join the Sterling Heights Lions Club for fun\, food\, and the latest updates on happening and our work in the community!
URL:https://sterlingheightslionsclub.org/event/lions-club-meeting-7/2028-02-23/
LOCATION:Lions Club\, 12828 Canal Rd\, Sterling Heights\, MI\, 48313\, United States
CATEGORIES:Sterling Heights Club Events
ATTACH;FMTTYPE=image/jpeg:https://sterlingheightslionsclub.org/wp-content/uploads/2023/03/IMG_8846-scaled.jpeg
END:VEVENT
BEGIN:VEVENT
DTSTART;TZID=America/Detroit:20280310T180000
DTEND;TZID=America/Detroit:20280310T220000
DTSTAMP:20260424T073620
CREATED:20250110T223100Z
LAST-MODIFIED:20250111T044907Z
UID:10004829-1836324000-1836338400@sterlingheightslionsclub.org
SUMMARY:Euchre
DESCRIPTION:Join us for Euchre\nJanuary 10-2025 \nFebruary14\, 2025 \nMarch 14\, 2025 \nApril 11\, 2025 \nMay 9\, 2025 \nJune 13\, 2025 \nJuly 11\, 2025 \nAugust 8\, 2025 \nSeptember12\, 2025 \nOctober 10\, 2025 \nNovember 14\, 2025 \nDecember  no euchre
URL:https://sterlingheightslionsclub.org/event/1817/2028-03-10/
CATEGORIES:Sterling Heights Club Events
ATTACH;FMTTYPE=image/png:https://sterlingheightslionsclub.org/wp-content/uploads/2023/04/2023-06-22_22-31-32.png
END:VEVENT
BEGIN:VEVENT
DTSTART;TZID=UTC:20280322T180000
DTEND;TZID=UTC:20280322T210000
DTSTAMP:20260424T073620
CREATED:20230623T005722Z
LAST-MODIFIED:20230623T010028Z
UID:10001206-1837360800-1837371600@sterlingheightslionsclub.org
SUMMARY:Lions Club Meeting
DESCRIPTION:Come join the Sterling Heights Lions Club for fun\, food\, and the latest updates on happening and our work in the community!
URL:https://sterlingheightslionsclub.org/event/lions-club-meeting-7/2028-03-22/
LOCATION:Lions Club\, 12828 Canal Rd\, Sterling Heights\, MI\, 48313\, United States
CATEGORIES:Sterling Heights Club Events
ATTACH;FMTTYPE=image/jpeg:https://sterlingheightslionsclub.org/wp-content/uploads/2023/03/IMG_8846-scaled.jpeg
END:VEVENT
BEGIN:VEVENT
DTSTART;TZID=America/Detroit:20280414T180000
DTEND;TZID=America/Detroit:20280414T220000
DTSTAMP:20260424T073620
CREATED:20250110T223100Z
LAST-MODIFIED:20250111T044907Z
UID:10004830-1839348000-1839362400@sterlingheightslionsclub.org
SUMMARY:Euchre
DESCRIPTION:Join us for Euchre\nJanuary 10-2025 \nFebruary14\, 2025 \nMarch 14\, 2025 \nApril 11\, 2025 \nMay 9\, 2025 \nJune 13\, 2025 \nJuly 11\, 2025 \nAugust 8\, 2025 \nSeptember12\, 2025 \nOctober 10\, 2025 \nNovember 14\, 2025 \nDecember  no euchre
URL:https://sterlingheightslionsclub.org/event/1817/2028-04-14/
CATEGORIES:Sterling Heights Club Events
ATTACH;FMTTYPE=image/png:https://sterlingheightslionsclub.org/wp-content/uploads/2023/04/2023-06-22_22-31-32.png
END:VEVENT
BEGIN:VEVENT
DTSTART;TZID=UTC:20280426T180000
DTEND;TZID=UTC:20280426T210000
DTSTAMP:20260424T073620
CREATED:20230623T005722Z
LAST-MODIFIED:20230623T010028Z
UID:10001207-1840384800-1840395600@sterlingheightslionsclub.org
SUMMARY:Lions Club Meeting
DESCRIPTION:Come join the Sterling Heights Lions Club for fun\, food\, and the latest updates on happening and our work in the community!
URL:https://sterlingheightslionsclub.org/event/lions-club-meeting-7/2028-04-26/
LOCATION:Lions Club\, 12828 Canal Rd\, Sterling Heights\, MI\, 48313\, United States
CATEGORIES:Sterling Heights Club Events
ATTACH;FMTTYPE=image/jpeg:https://sterlingheightslionsclub.org/wp-content/uploads/2023/03/IMG_8846-scaled.jpeg
END:VEVENT
BEGIN:VEVENT
DTSTART;TZID=America/Detroit:20280512T180000
DTEND;TZID=America/Detroit:20280512T220000
DTSTAMP:20260424T073620
CREATED:20250110T223100Z
LAST-MODIFIED:20250111T044907Z
UID:10004831-1841767200-1841781600@sterlingheightslionsclub.org
SUMMARY:Euchre
DESCRIPTION:Join us for Euchre\nJanuary 10-2025 \nFebruary14\, 2025 \nMarch 14\, 2025 \nApril 11\, 2025 \nMay 9\, 2025 \nJune 13\, 2025 \nJuly 11\, 2025 \nAugust 8\, 2025 \nSeptember12\, 2025 \nOctober 10\, 2025 \nNovember 14\, 2025 \nDecember  no euchre
URL:https://sterlingheightslionsclub.org/event/1817/2028-05-12/
CATEGORIES:Sterling Heights Club Events
ATTACH;FMTTYPE=image/png:https://sterlingheightslionsclub.org/wp-content/uploads/2023/04/2023-06-22_22-31-32.png
END:VEVENT
BEGIN:VEVENT
DTSTART;TZID=UTC:20280524T180000
DTEND;TZID=UTC:20280524T210000
DTSTAMP:20260424T073620
CREATED:20230623T005722Z
LAST-MODIFIED:20230623T010028Z
UID:10001208-1842804000-1842814800@sterlingheightslionsclub.org
SUMMARY:Lions Club Meeting
DESCRIPTION:Come join the Sterling Heights Lions Club for fun\, food\, and the latest updates on happening and our work in the community!
URL:https://sterlingheightslionsclub.org/event/lions-club-meeting-7/2028-05-24/
LOCATION:Lions Club\, 12828 Canal Rd\, Sterling Heights\, MI\, 48313\, United States
CATEGORIES:Sterling Heights Club Events
ATTACH;FMTTYPE=image/jpeg:https://sterlingheightslionsclub.org/wp-content/uploads/2023/03/IMG_8846-scaled.jpeg
END:VEVENT
BEGIN:VEVENT
DTSTART;TZID=America/Detroit:20280609T180000
DTEND;TZID=America/Detroit:20280609T220000
DTSTAMP:20260424T073620
CREATED:20250110T223100Z
LAST-MODIFIED:20250111T044907Z
UID:10004832-1844186400-1844200800@sterlingheightslionsclub.org
SUMMARY:Euchre
DESCRIPTION:Join us for Euchre\nJanuary 10-2025 \nFebruary14\, 2025 \nMarch 14\, 2025 \nApril 11\, 2025 \nMay 9\, 2025 \nJune 13\, 2025 \nJuly 11\, 2025 \nAugust 8\, 2025 \nSeptember12\, 2025 \nOctober 10\, 2025 \nNovember 14\, 2025 \nDecember  no euchre
URL:https://sterlingheightslionsclub.org/event/1817/2028-06-09/
CATEGORIES:Sterling Heights Club Events
ATTACH;FMTTYPE=image/png:https://sterlingheightslionsclub.org/wp-content/uploads/2023/04/2023-06-22_22-31-32.png
END:VEVENT
BEGIN:VEVENT
DTSTART;TZID=UTC:20280628T180000
DTEND;TZID=UTC:20280628T210000
DTSTAMP:20260424T073620
CREATED:20230623T005722Z
LAST-MODIFIED:20230623T010028Z
UID:10001949-1845828000-1845838800@sterlingheightslionsclub.org
SUMMARY:Lions Club Meeting
DESCRIPTION:Come join the Sterling Heights Lions Club for fun\, food\, and the latest updates on happening and our work in the community!
URL:https://sterlingheightslionsclub.org/event/lions-club-meeting-7/2028-06-28/
LOCATION:Lions Club\, 12828 Canal Rd\, Sterling Heights\, MI\, 48313\, United States
CATEGORIES:Sterling Heights Club Events
ATTACH;FMTTYPE=image/jpeg:https://sterlingheightslionsclub.org/wp-content/uploads/2023/03/IMG_8846-scaled.jpeg
END:VEVENT
BEGIN:VEVENT
DTSTART;TZID=America/Detroit:20280714T180000
DTEND;TZID=America/Detroit:20280714T220000
DTSTAMP:20260424T073620
CREATED:20250110T223100Z
LAST-MODIFIED:20250111T044907Z
UID:10004833-1847210400-1847224800@sterlingheightslionsclub.org
SUMMARY:Euchre
DESCRIPTION:Join us for Euchre\nJanuary 10-2025 \nFebruary14\, 2025 \nMarch 14\, 2025 \nApril 11\, 2025 \nMay 9\, 2025 \nJune 13\, 2025 \nJuly 11\, 2025 \nAugust 8\, 2025 \nSeptember12\, 2025 \nOctober 10\, 2025 \nNovember 14\, 2025 \nDecember  no euchre
URL:https://sterlingheightslionsclub.org/event/1817/2028-07-14/
CATEGORIES:Sterling Heights Club Events
ATTACH;FMTTYPE=image/png:https://sterlingheightslionsclub.org/wp-content/uploads/2023/04/2023-06-22_22-31-32.png
END:VEVENT
BEGIN:VEVENT
DTSTART;TZID=UTC:20280726T180000
DTEND;TZID=UTC:20280726T210000
DTSTAMP:20260424T073620
CREATED:20230623T005722Z
LAST-MODIFIED:20230623T010028Z
UID:10001950-1848247200-1848258000@sterlingheightslionsclub.org
SUMMARY:Lions Club Meeting
DESCRIPTION:Come join the Sterling Heights Lions Club for fun\, food\, and the latest updates on happening and our work in the community!
URL:https://sterlingheightslionsclub.org/event/lions-club-meeting-7/2028-07-26/
LOCATION:Lions Club\, 12828 Canal Rd\, Sterling Heights\, MI\, 48313\, United States
CATEGORIES:Sterling Heights Club Events
ATTACH;FMTTYPE=image/jpeg:https://sterlingheightslionsclub.org/wp-content/uploads/2023/03/IMG_8846-scaled.jpeg
END:VEVENT
BEGIN:VEVENT
DTSTART;TZID=America/Detroit:20280811T180000
DTEND;TZID=America/Detroit:20280811T220000
DTSTAMP:20260424T073620
CREATED:20250110T223100Z
LAST-MODIFIED:20250111T044907Z
UID:10004834-1849629600-1849644000@sterlingheightslionsclub.org
SUMMARY:Euchre
DESCRIPTION:Join us for Euchre\nJanuary 10-2025 \nFebruary14\, 2025 \nMarch 14\, 2025 \nApril 11\, 2025 \nMay 9\, 2025 \nJune 13\, 2025 \nJuly 11\, 2025 \nAugust 8\, 2025 \nSeptember12\, 2025 \nOctober 10\, 2025 \nNovember 14\, 2025 \nDecember  no euchre
URL:https://sterlingheightslionsclub.org/event/1817/2028-08-11/
CATEGORIES:Sterling Heights Club Events
ATTACH;FMTTYPE=image/png:https://sterlingheightslionsclub.org/wp-content/uploads/2023/04/2023-06-22_22-31-32.png
END:VEVENT
BEGIN:VEVENT
DTSTART;TZID=UTC:20280823T180000
DTEND;TZID=UTC:20280823T210000
DTSTAMP:20260424T073620
CREATED:20230623T005722Z
LAST-MODIFIED:20230623T010028Z
UID:10001951-1850666400-1850677200@sterlingheightslionsclub.org
SUMMARY:Lions Club Meeting
DESCRIPTION:Come join the Sterling Heights Lions Club for fun\, food\, and the latest updates on happening and our work in the community!
URL:https://sterlingheightslionsclub.org/event/lions-club-meeting-7/2028-08-23/
LOCATION:Lions Club\, 12828 Canal Rd\, Sterling Heights\, MI\, 48313\, United States
CATEGORIES:Sterling Heights Club Events
ATTACH;FMTTYPE=image/jpeg:https://sterlingheightslionsclub.org/wp-content/uploads/2023/03/IMG_8846-scaled.jpeg
END:VEVENT
BEGIN:VEVENT
DTSTART;TZID=America/Detroit:20280908T180000
DTEND;TZID=America/Detroit:20280908T220000
DTSTAMP:20260424T073620
CREATED:20250110T223100Z
LAST-MODIFIED:20250111T044907Z
UID:10004835-1852048800-1852063200@sterlingheightslionsclub.org
SUMMARY:Euchre
DESCRIPTION:Join us for Euchre\nJanuary 10-2025 \nFebruary14\, 2025 \nMarch 14\, 2025 \nApril 11\, 2025 \nMay 9\, 2025 \nJune 13\, 2025 \nJuly 11\, 2025 \nAugust 8\, 2025 \nSeptember12\, 2025 \nOctober 10\, 2025 \nNovember 14\, 2025 \nDecember  no euchre
URL:https://sterlingheightslionsclub.org/event/1817/2028-09-08/
CATEGORIES:Sterling Heights Club Events
ATTACH;FMTTYPE=image/png:https://sterlingheightslionsclub.org/wp-content/uploads/2023/04/2023-06-22_22-31-32.png
END:VEVENT
BEGIN:VEVENT
DTSTART;TZID=UTC:20280927T180000
DTEND;TZID=UTC:20280927T210000
DTSTAMP:20260424T073620
CREATED:20230623T005722Z
LAST-MODIFIED:20230623T010028Z
UID:10001952-1853690400-1853701200@sterlingheightslionsclub.org
SUMMARY:Lions Club Meeting
DESCRIPTION:Come join the Sterling Heights Lions Club for fun\, food\, and the latest updates on happening and our work in the community!
URL:https://sterlingheightslionsclub.org/event/lions-club-meeting-7/2028-09-27/
LOCATION:Lions Club\, 12828 Canal Rd\, Sterling Heights\, MI\, 48313\, United States
CATEGORIES:Sterling Heights Club Events
ATTACH;FMTTYPE=image/jpeg:https://sterlingheightslionsclub.org/wp-content/uploads/2023/03/IMG_8846-scaled.jpeg
END:VEVENT
BEGIN:VEVENT
DTSTART;TZID=America/Detroit:20281013T180000
DTEND;TZID=America/Detroit:20281013T220000
DTSTAMP:20260424T073620
CREATED:20250110T223100Z
LAST-MODIFIED:20250111T044907Z
UID:10004836-1855072800-1855087200@sterlingheightslionsclub.org
SUMMARY:Euchre
DESCRIPTION:Join us for Euchre\nJanuary 10-2025 \nFebruary14\, 2025 \nMarch 14\, 2025 \nApril 11\, 2025 \nMay 9\, 2025 \nJune 13\, 2025 \nJuly 11\, 2025 \nAugust 8\, 2025 \nSeptember12\, 2025 \nOctober 10\, 2025 \nNovember 14\, 2025 \nDecember  no euchre
URL:https://sterlingheightslionsclub.org/event/1817/2028-10-13/
CATEGORIES:Sterling Heights Club Events
ATTACH;FMTTYPE=image/png:https://sterlingheightslionsclub.org/wp-content/uploads/2023/04/2023-06-22_22-31-32.png
END:VEVENT
BEGIN:VEVENT
DTSTART;TZID=UTC:20281025T180000
DTEND;TZID=UTC:20281025T210000
DTSTAMP:20260424T073620
CREATED:20230623T005722Z
LAST-MODIFIED:20230623T010028Z
UID:10001953-1856109600-1856120400@sterlingheightslionsclub.org
SUMMARY:Lions Club Meeting
DESCRIPTION:Come join the Sterling Heights Lions Club for fun\, food\, and the latest updates on happening and our work in the community!
URL:https://sterlingheightslionsclub.org/event/lions-club-meeting-7/2028-10-25/
LOCATION:Lions Club\, 12828 Canal Rd\, Sterling Heights\, MI\, 48313\, United States
CATEGORIES:Sterling Heights Club Events
ATTACH;FMTTYPE=image/jpeg:https://sterlingheightslionsclub.org/wp-content/uploads/2023/03/IMG_8846-scaled.jpeg
END:VEVENT
BEGIN:VEVENT
DTSTART;TZID=America/Detroit:20281110T180000
DTEND;TZID=America/Detroit:20281110T220000
DTSTAMP:20260424T073620
CREATED:20250110T223100Z
LAST-MODIFIED:20250111T044907Z
UID:10004837-1857492000-1857506400@sterlingheightslionsclub.org
SUMMARY:Euchre
DESCRIPTION:Join us for Euchre\nJanuary 10-2025 \nFebruary14\, 2025 \nMarch 14\, 2025 \nApril 11\, 2025 \nMay 9\, 2025 \nJune 13\, 2025 \nJuly 11\, 2025 \nAugust 8\, 2025 \nSeptember12\, 2025 \nOctober 10\, 2025 \nNovember 14\, 2025 \nDecember  no euchre
URL:https://sterlingheightslionsclub.org/event/1817/2028-11-10/
CATEGORIES:Sterling Heights Club Events
ATTACH;FMTTYPE=image/png:https://sterlingheightslionsclub.org/wp-content/uploads/2023/04/2023-06-22_22-31-32.png
END:VEVENT
BEGIN:VEVENT
DTSTART;TZID=UTC:20281122T180000
DTEND;TZID=UTC:20281122T210000
DTSTAMP:20260424T073620
CREATED:20230623T005722Z
LAST-MODIFIED:20230623T010028Z
UID:10001954-1858528800-1858539600@sterlingheightslionsclub.org
SUMMARY:Lions Club Meeting
DESCRIPTION:Come join the Sterling Heights Lions Club for fun\, food\, and the latest updates on happening and our work in the community!
URL:https://sterlingheightslionsclub.org/event/lions-club-meeting-7/2028-11-22/
LOCATION:Lions Club\, 12828 Canal Rd\, Sterling Heights\, MI\, 48313\, United States
CATEGORIES:Sterling Heights Club Events
ATTACH;FMTTYPE=image/jpeg:https://sterlingheightslionsclub.org/wp-content/uploads/2023/03/IMG_8846-scaled.jpeg
END:VEVENT
BEGIN:VEVENT
DTSTART;TZID=America/Detroit:20281208T180000
DTEND;TZID=America/Detroit:20281208T220000
DTSTAMP:20260424T073620
CREATED:20250110T223100Z
LAST-MODIFIED:20250111T044907Z
UID:10004838-1859911200-1859925600@sterlingheightslionsclub.org
SUMMARY:Euchre
DESCRIPTION:Join us for Euchre\nJanuary 10-2025 \nFebruary14\, 2025 \nMarch 14\, 2025 \nApril 11\, 2025 \nMay 9\, 2025 \nJune 13\, 2025 \nJuly 11\, 2025 \nAugust 8\, 2025 \nSeptember12\, 2025 \nOctober 10\, 2025 \nNovember 14\, 2025 \nDecember  no euchre
URL:https://sterlingheightslionsclub.org/event/1817/2028-12-08/
CATEGORIES:Sterling Heights Club Events
ATTACH;FMTTYPE=image/png:https://sterlingheightslionsclub.org/wp-content/uploads/2023/04/2023-06-22_22-31-32.png
END:VEVENT
BEGIN:VEVENT
DTSTART;TZID=America/Detroit:20290112T180000
DTEND;TZID=America/Detroit:20290112T220000
DTSTAMP:20260424T073620
CREATED:20250110T223100Z
LAST-MODIFIED:20250111T044907Z
UID:10004839-1862935200-1862949600@sterlingheightslionsclub.org
SUMMARY:Euchre
DESCRIPTION:Join us for Euchre\nJanuary 10-2025 \nFebruary14\, 2025 \nMarch 14\, 2025 \nApril 11\, 2025 \nMay 9\, 2025 \nJune 13\, 2025 \nJuly 11\, 2025 \nAugust 8\, 2025 \nSeptember12\, 2025 \nOctober 10\, 2025 \nNovember 14\, 2025 \nDecember  no euchre
URL:https://sterlingheightslionsclub.org/event/1817/2029-01-12/
CATEGORIES:Sterling Heights Club Events
ATTACH;FMTTYPE=image/png:https://sterlingheightslionsclub.org/wp-content/uploads/2023/04/2023-06-22_22-31-32.png
END:VEVENT
BEGIN:VEVENT
DTSTART;TZID=America/New_York:20290112T180000
DTEND;TZID=America/New_York:20290112T230000
DTSTAMP:20260424T073620
CREATED:20241123T031250Z
LAST-MODIFIED:20250111T043944Z
UID:10004791-1862935200-1862953200@sterlingheightslionsclub.org
SUMMARY:Euchre
DESCRIPTION:Join us for Euchre\nJanuary 10-2025 \nFebruary14\, 2025 \nMarch 14\, 2025 \nApril 11\, 2025 \nMay 9\, 2025 \nJune 13\, 2025 \nJuly 11\, 2025 \nAugust 8\, 2025 \nSeptember12\, 2025 \nOctober 10\, 2025 \nNovember 14\, 2025 \nDecember  no euchre
URL:https://sterlingheightslionsclub.org/event/euchre-3/2029-01-12/
LOCATION:Sterling Heights Lions Club\, 12828 Canal Road\, Sterling Heights\, MI\, 48313
CATEGORIES:Charitable Events,Sterling Heights Club Events
ATTACH;FMTTYPE=image/png:https://sterlingheightslionsclub.org/wp-content/uploads/2023/04/2023-06-22_22-31-32.png
END:VEVENT
BEGIN:VEVENT
DTSTART;TZID=America/Detroit:20290209T180000
DTEND;TZID=America/Detroit:20290209T220000
DTSTAMP:20260424T073620
CREATED:20250110T223100Z
LAST-MODIFIED:20250111T044907Z
UID:10004840-1865354400-1865368800@sterlingheightslionsclub.org
SUMMARY:Euchre
DESCRIPTION:Join us for Euchre\nJanuary 10-2025 \nFebruary14\, 2025 \nMarch 14\, 2025 \nApril 11\, 2025 \nMay 9\, 2025 \nJune 13\, 2025 \nJuly 11\, 2025 \nAugust 8\, 2025 \nSeptember12\, 2025 \nOctober 10\, 2025 \nNovember 14\, 2025 \nDecember  no euchre
URL:https://sterlingheightslionsclub.org/event/1817/2029-02-09/
CATEGORIES:Sterling Heights Club Events
ATTACH;FMTTYPE=image/png:https://sterlingheightslionsclub.org/wp-content/uploads/2023/04/2023-06-22_22-31-32.png
END:VEVENT
BEGIN:VEVENT
DTSTART;TZID=America/Detroit:20290309T180000
DTEND;TZID=America/Detroit:20290309T220000
DTSTAMP:20260424T073620
CREATED:20250110T223100Z
LAST-MODIFIED:20250111T044907Z
UID:10004841-1867773600-1867788000@sterlingheightslionsclub.org
SUMMARY:Euchre
DESCRIPTION:Join us for Euchre\nJanuary 10-2025 \nFebruary14\, 2025 \nMarch 14\, 2025 \nApril 11\, 2025 \nMay 9\, 2025 \nJune 13\, 2025 \nJuly 11\, 2025 \nAugust 8\, 2025 \nSeptember12\, 2025 \nOctober 10\, 2025 \nNovember 14\, 2025 \nDecember  no euchre
URL:https://sterlingheightslionsclub.org/event/1817/2029-03-09/
CATEGORIES:Sterling Heights Club Events
ATTACH;FMTTYPE=image/png:https://sterlingheightslionsclub.org/wp-content/uploads/2023/04/2023-06-22_22-31-32.png
END:VEVENT
END:VCALENDAR