BEGIN:VCALENDAR
VERSION:2.0
PRODID:-//Sterling Heights Lions Club - ECPv6.15.20//NONSGML v1.0//EN
CALSCALE:GREGORIAN
METHOD:PUBLISH
X-WR-CALNAME:Sterling Heights Lions Club
X-ORIGINAL-URL:https://sterlingheightslionsclub.org
X-WR-CALDESC:Events for Sterling Heights Lions Club
REFRESH-INTERVAL;VALUE=DURATION:PT1H
X-Robots-Tag:noindex
X-PUBLISHED-TTL:PT1H
BEGIN:VTIMEZONE
TZID:America/New_York
BEGIN:DAYLIGHT
TZOFFSETFROM:-0500
TZOFFSETTO:-0400
TZNAME:EDT
DTSTART:20230312T070000
END:DAYLIGHT
BEGIN:STANDARD
TZOFFSETFROM:-0400
TZOFFSETTO:-0500
TZNAME:EST
DTSTART:20231105T060000
END:STANDARD
BEGIN:DAYLIGHT
TZOFFSETFROM:-0500
TZOFFSETTO:-0400
TZNAME:EDT
DTSTART:20240310T070000
END:DAYLIGHT
BEGIN:STANDARD
TZOFFSETFROM:-0400
TZOFFSETTO:-0500
TZNAME:EST
DTSTART:20241103T060000
END:STANDARD
BEGIN:DAYLIGHT
TZOFFSETFROM:-0500
TZOFFSETTO:-0400
TZNAME:EDT
DTSTART:20250309T070000
END:DAYLIGHT
BEGIN:STANDARD
TZOFFSETFROM:-0400
TZOFFSETTO:-0500
TZNAME:EST
DTSTART:20251102T060000
END:STANDARD
END:VTIMEZONE
BEGIN:VTIMEZONE
TZID:UTC
BEGIN:STANDARD
TZOFFSETFROM:+0000
TZOFFSETTO:+0000
TZNAME:UTC
DTSTART:20230101T000000
END:STANDARD
END:VTIMEZONE
BEGIN:VTIMEZONE
TZID:America/Detroit
BEGIN:DAYLIGHT
TZOFFSETFROM:-0500
TZOFFSETTO:-0400
TZNAME:EDT
DTSTART:20230312T070000
END:DAYLIGHT
BEGIN:STANDARD
TZOFFSETFROM:-0400
TZOFFSETTO:-0500
TZNAME:EST
DTSTART:20231105T060000
END:STANDARD
BEGIN:DAYLIGHT
TZOFFSETFROM:-0500
TZOFFSETTO:-0400
TZNAME:EDT
DTSTART:20240310T070000
END:DAYLIGHT
BEGIN:STANDARD
TZOFFSETFROM:-0400
TZOFFSETTO:-0500
TZNAME:EST
DTSTART:20241103T060000
END:STANDARD
BEGIN:DAYLIGHT
TZOFFSETFROM:-0500
TZOFFSETTO:-0400
TZNAME:EDT
DTSTART:20250309T070000
END:DAYLIGHT
BEGIN:STANDARD
TZOFFSETFROM:-0400
TZOFFSETTO:-0500
TZNAME:EST
DTSTART:20251102T060000
END:STANDARD
END:VTIMEZONE
BEGIN:VEVENT
DTSTART;TZID=America/New_York:20241231T090000
DTEND;TZID=America/New_York:20241231T110000
DTSTAMP:20260419T161502
CREATED:20241006T083932Z
LAST-MODIFIED:20241006T085050Z
UID:10002701-1735635600-1735642800@sterlingheightslionsclub.org
SUMMARY:Seniors Enjoy Panera Bread
DESCRIPTION:Lions Basil and Judy Welsh chair the Panera Bread End of Day Dough Nation\nThe assembled and cater the morning event for the Seniors at Warren Stillwell and Joseph Coach complexs \nA hardy thank you to Panera Bread\, Lions Basil and Judy\, and the wonderful crew who take advantage of this generous weekly contribution.
URL:https://sterlingheightslionsclub.org/event/seniors-enjoy-panera-bread-2/2024-12-31/
LOCATION:Warren Stillwell Manor\, 26600 Burg Rd\,\, Warren\, MI\, 48089
ATTACH;FMTTYPE=image/jpeg:https://sterlingheightslionsclub.org/wp-content/uploads/2023/06/paneraBread.jpg
END:VEVENT
BEGIN:VEVENT
DTSTART;TZID=UTC:20241225T180000
DTEND;TZID=UTC:20241225T210000
DTSTAMP:20260419T161502
CREATED:20230914T032034Z
LAST-MODIFIED:20230914T032314Z
UID:10001873-1735149600-1735160400@sterlingheightslionsclub.org
SUMMARY:Speaker/Activity
DESCRIPTION:Stay tuned for this week’s speaker \n 
URL:https://sterlingheightslionsclub.org/event/speaker-activity-2-4/2024-12-25/
LOCATION:Lions Club\, 12828 Canal Rd\, Sterling Heights\, MI\, 48313\, United States
CATEGORIES:Sterling Heights Club Events,Sterling Heights Lioness Lions Events
ATTACH;FMTTYPE=image/png:https://sterlingheightslionsclub.org/wp-content/uploads/2023/06/speaker.png
END:VEVENT
BEGIN:VEVENT
DTSTART;TZID=UTC:20241225T180000
DTEND;TZID=UTC:20241225T210000
DTSTAMP:20260419T161502
CREATED:20230623T005722Z
LAST-MODIFIED:20230623T010028Z
UID:10001167-1735149600-1735160400@sterlingheightslionsclub.org
SUMMARY:Lions Club Meeting
DESCRIPTION:Come join the Sterling Heights Lions Club for fun\, food\, and the latest updates on happening and our work in the community!
URL:https://sterlingheightslionsclub.org/event/lions-club-meeting-7/2024-12-25/
LOCATION:Lions Club\, 12828 Canal Rd\, Sterling Heights\, MI\, 48313\, United States
CATEGORIES:Sterling Heights Club Events
ATTACH;FMTTYPE=image/jpeg:https://sterlingheightslionsclub.org/wp-content/uploads/2023/03/IMG_8846-scaled.jpeg
END:VEVENT
BEGIN:VEVENT
DTSTART;TZID=America/New_York:20241224T180000
DTEND;TZID=America/New_York:20241224T210000
DTSTAMP:20260419T161502
CREATED:20241006T085542Z
LAST-MODIFIED:20250611T115254Z
UID:10003069-1735063200-1735074000@sterlingheightslionsclub.org
SUMMARY:Lioness Lions Club Meeting (4th Tuesday of each month)
DESCRIPTION:Come join the Sterling Heights Lioness Lions Club for fun\, food\, and the latest updates on what is happening and our work in the community! \n  \n(4th Tuesday of each month)
URL:https://sterlingheightslionsclub.org/event/lions-club-meeting-6-2-3/2024-12-24/
LOCATION:Lions Club\, 12828 Canal Rd\, Sterling Heights\, MI\, 48313\, United States
CATEGORIES:Sterling Heights Lioness Lions Events
ATTACH;FMTTYPE=image/png:https://sterlingheightslionsclub.org/wp-content/uploads/2023/06/lioness-3.png
END:VEVENT
BEGIN:VEVENT
DTSTART;TZID=America/New_York:20241224T090000
DTEND;TZID=America/New_York:20241224T110000
DTSTAMP:20260419T161502
CREATED:20241006T083932Z
LAST-MODIFIED:20241006T085050Z
UID:10002700-1735030800-1735038000@sterlingheightslionsclub.org
SUMMARY:Seniors Enjoy Panera Bread
DESCRIPTION:Lions Basil and Judy Welsh chair the Panera Bread End of Day Dough Nation\nThe assembled and cater the morning event for the Seniors at Warren Stillwell and Joseph Coach complexs \nA hardy thank you to Panera Bread\, Lions Basil and Judy\, and the wonderful crew who take advantage of this generous weekly contribution.
URL:https://sterlingheightslionsclub.org/event/seniors-enjoy-panera-bread-2/2024-12-24/
LOCATION:Warren Stillwell Manor\, 26600 Burg Rd\,\, Warren\, MI\, 48089
ATTACH;FMTTYPE=image/jpeg:https://sterlingheightslionsclub.org/wp-content/uploads/2023/06/paneraBread.jpg
END:VEVENT
BEGIN:VEVENT
DTSTART;TZID=America/New_York:20241217T090000
DTEND;TZID=America/New_York:20241217T110000
DTSTAMP:20260419T161502
CREATED:20241006T083932Z
LAST-MODIFIED:20241006T085050Z
UID:10002699-1734426000-1734433200@sterlingheightslionsclub.org
SUMMARY:Seniors Enjoy Panera Bread
DESCRIPTION:Lions Basil and Judy Welsh chair the Panera Bread End of Day Dough Nation\nThe assembled and cater the morning event for the Seniors at Warren Stillwell and Joseph Coach complexs \nA hardy thank you to Panera Bread\, Lions Basil and Judy\, and the wonderful crew who take advantage of this generous weekly contribution.
URL:https://sterlingheightslionsclub.org/event/seniors-enjoy-panera-bread-2/2024-12-17/
LOCATION:Warren Stillwell Manor\, 26600 Burg Rd\,\, Warren\, MI\, 48089
ATTACH;FMTTYPE=image/jpeg:https://sterlingheightslionsclub.org/wp-content/uploads/2023/06/paneraBread.jpg
END:VEVENT
BEGIN:VEVENT
DTSTART;TZID=America/Detroit:20241214T173000
DTEND;TZID=America/Detroit:20241214T220000
DTSTAMP:20260419T161502
CREATED:20241006T072037Z
LAST-MODIFIED:20241123T033436Z
UID:10002667-1734197400-1734213600@sterlingheightslionsclub.org
SUMMARY:Christmas Party
DESCRIPTION:Join us for our Club Christmas Party\, 12-14-24 in place of our regular meeting (cancelled 12/25)\nMore details to follow \nLion Doug Wilson 586-623-2955 \n 
URL:https://sterlingheightslionsclub.org/event/christmas-party/
LOCATION:MI
ATTACH;FMTTYPE=image/png:https://sterlingheightslionsclub.org/wp-content/uploads/2024/10/Christmas-Party-2024-1.png
END:VEVENT
BEGIN:VEVENT
DTSTART;TZID=America/New_York:20241213T180000
DTEND;TZID=America/New_York:20241213T230000
DTSTAMP:20260419T161502
CREATED:20241123T045544Z
LAST-MODIFIED:20241123T052019Z
UID:10003129-1734112800-1734130800@sterlingheightslionsclub.org
SUMMARY:Euchre - CANCELLED
DESCRIPTION:CANCELLED\, NO EUCHRE IN DECEMBER\nHAPPY HOLIDAYS
URL:https://sterlingheightslionsclub.org/event/euchre-3-2/
LOCATION:Sterling Heights Lions Club\, 12828 Canal Road\, Sterling Heights\, MI\, 48313
CATEGORIES:Charitable Events,Sterling Heights Club Events
ATTACH;FMTTYPE=image/png:https://sterlingheightslionsclub.org/wp-content/uploads/2023/04/2023-06-22_22-31-32.png
END:VEVENT
BEGIN:VEVENT
DTSTART;TZID=UTC:20241211T180000
DTEND;TZID=UTC:20241211T210000
DTSTAMP:20260419T161502
CREATED:20230321T033423Z
LAST-MODIFIED:20230623T022158Z
UID:10000027-1733940000-1733950800@sterlingheightslionsclub.org
SUMMARY:Lions Club Meeting (2nd Wednesday each month)
DESCRIPTION:Come join the Sterling Heights Lions Club for fun\, food\, and the latest updates on happening and our work in the community! \n  \n(2nd Wednesday each month)
URL:https://sterlingheightslionsclub.org/event/lions-club-meeting-5/2024-12-11/
LOCATION:Lions Club\, 12828 Canal Rd\, Sterling Heights\, MI\, 48313\, United States
ATTACH;FMTTYPE=image/png:https://sterlingheightslionsclub.org/wp-content/uploads/2023/03/Screenshot-2023-03-02-202623-Edited.png
END:VEVENT
BEGIN:VEVENT
DTSTART;TZID=America/New_York:20241210T180000
DTEND;TZID=America/New_York:20241210T210000
DTSTAMP:20260419T161502
CREATED:20241006T085235Z
LAST-MODIFIED:20250611T115524Z
UID:10003010-1733853600-1733864400@sterlingheightslionsclub.org
SUMMARY:Lioness Lions Club Meeting (2nd Tuesday of each month)
DESCRIPTION:Come join the Sterling Heights Lioness Lions Club for fun\, food\, and the latest updates on what is happening and our work in the community! \n  \n(2nd Tuesday of each month)
URL:https://sterlingheightslionsclub.org/event/lioness-lions-club-meeting-2nd-tuesday-of-each-month-2/2024-12-10/
LOCATION:Lions Club\, 12828 Canal Rd\, Sterling Heights\, MI\, 48313\, United States
CATEGORIES:Sterling Heights Lioness Lions Events
ATTACH;FMTTYPE=image/png:https://sterlingheightslionsclub.org/wp-content/uploads/2023/06/lioness-3.png
END:VEVENT
BEGIN:VEVENT
DTSTART;TZID=America/New_York:20241210T090000
DTEND;TZID=America/New_York:20241210T110000
DTSTAMP:20260419T161502
CREATED:20241006T083932Z
LAST-MODIFIED:20241006T085050Z
UID:10002698-1733821200-1733828400@sterlingheightslionsclub.org
SUMMARY:Seniors Enjoy Panera Bread
DESCRIPTION:Lions Basil and Judy Welsh chair the Panera Bread End of Day Dough Nation\nThe assembled and cater the morning event for the Seniors at Warren Stillwell and Joseph Coach complexs \nA hardy thank you to Panera Bread\, Lions Basil and Judy\, and the wonderful crew who take advantage of this generous weekly contribution.
URL:https://sterlingheightslionsclub.org/event/seniors-enjoy-panera-bread-2/2024-12-10/
LOCATION:Warren Stillwell Manor\, 26600 Burg Rd\,\, Warren\, MI\, 48089
ATTACH;FMTTYPE=image/jpeg:https://sterlingheightslionsclub.org/wp-content/uploads/2023/06/paneraBread.jpg
END:VEVENT
BEGIN:VEVENT
DTSTART;TZID=America/New_York:20241209T180000
DTEND;TZID=America/New_York:20241209T200000
DTSTAMP:20260419T161502
CREATED:20241006T065836Z
LAST-MODIFIED:20250812T053537Z
UID:10002602-1733767200-1733774400@sterlingheightslionsclub.org
SUMMARY:Susie Q's Kids Bag Stuffing Event
DESCRIPTION:NEW LOCATION\nSusie Q’s Kids has their monthly bag stuffing is held monthly on the 2nd Monday of each month 6 PM\nWe have moved the location from the Club to their new office located at\n35404 Mound Road\, Sterling Heights MI 48310 (Just north of 15 Mile Road)\nIf the doors are locked\, call or text 586-206-8424 for entry. \nWe assembled comfort bags for kids in need in our community on the second Monday of each month at 6 PM \nVolunteers are welcome to stop and learn about Susie Q’s Kids\, the nonprofit that will receive the comfort bags\, and about Lionism \nKids are welcome and encouraged to attend as we promote “Kids Helping Kids” \nS
URL:https://sterlingheightslionsclub.org/event/sussie-qs-kids-bag-stuffing-event-4-2-2/2024-12-09/
LOCATION:MI
CATEGORIES:Charitable Events,District 11-A2,Sterling Heights Club Events
ATTACH;FMTTYPE=image/png:https://sterlingheightslionsclub.org/wp-content/uploads/2023/06/care-house-2-cropped.png
END:VEVENT
BEGIN:VEVENT
DTSTART;VALUE=DATE:20241208
DTEND;VALUE=DATE:20241209
DTSTAMP:20260419T161502
CREATED:20241006T071741Z
LAST-MODIFIED:20241006T071741Z
UID:10002666-1733616000-1733702399@sterlingheightslionsclub.org
SUMMARY:Candy Cane Drive
DESCRIPTION:See Lions Doug Wilson and Eileen Maciasz for details. \n11/29\, 11/30\, 12/1\n12/6\, 12/7\, 12/8
URL:https://sterlingheightslionsclub.org/event/candy-cane-drive-12/
LOCATION:MI
CATEGORIES:Charitable Events,District 11-A2,Sterling Heights Club Events
ATTACH;FMTTYPE=image/png:https://sterlingheightslionsclub.org/wp-content/uploads/2024/10/candy-cane-collectinons.png
END:VEVENT
BEGIN:VEVENT
DTSTART;VALUE=DATE:20241207
DTEND;VALUE=DATE:20241208
DTSTAMP:20260419T161502
CREATED:20241006T071706Z
LAST-MODIFIED:20241006T071706Z
UID:10002665-1733529600-1733615999@sterlingheightslionsclub.org
SUMMARY:Candy Cane Drive
DESCRIPTION:See Lions Doug Wilson and Eileen Maciasz for details. \n11/29\, 11/30\, 12/1\n12/6\, 12/7\, 12/8
URL:https://sterlingheightslionsclub.org/event/candy-cane-drive-11/
LOCATION:MI
CATEGORIES:Charitable Events,District 11-A2,Sterling Heights Club Events
ATTACH;FMTTYPE=image/png:https://sterlingheightslionsclub.org/wp-content/uploads/2024/10/candy-cane-collectinons.png
END:VEVENT
BEGIN:VEVENT
DTSTART;VALUE=DATE:20241206
DTEND;VALUE=DATE:20241207
DTSTAMP:20260419T161502
CREATED:20241006T071632Z
LAST-MODIFIED:20241006T071632Z
UID:10002664-1733443200-1733529599@sterlingheightslionsclub.org
SUMMARY:Candy Cane Drive
DESCRIPTION:See Lions Doug Wilson and Eileen Maciasz for details. \n11/29\, 11/30\, 12/1\n12/6\, 12/7\, 12/8
URL:https://sterlingheightslionsclub.org/event/candy-cane-drive-10/
LOCATION:MI
CATEGORIES:Charitable Events,District 11-A2,Sterling Heights Club Events
ATTACH;FMTTYPE=image/png:https://sterlingheightslionsclub.org/wp-content/uploads/2024/10/candy-cane-collectinons.png
END:VEVENT
BEGIN:VEVENT
DTSTART;TZID=America/New_York:20241203T090000
DTEND;TZID=America/New_York:20241203T110000
DTSTAMP:20260419T161502
CREATED:20241006T083932Z
LAST-MODIFIED:20241006T085050Z
UID:10002697-1733216400-1733223600@sterlingheightslionsclub.org
SUMMARY:Seniors Enjoy Panera Bread
DESCRIPTION:Lions Basil and Judy Welsh chair the Panera Bread End of Day Dough Nation\nThe assembled and cater the morning event for the Seniors at Warren Stillwell and Joseph Coach complexs \nA hardy thank you to Panera Bread\, Lions Basil and Judy\, and the wonderful crew who take advantage of this generous weekly contribution.
URL:https://sterlingheightslionsclub.org/event/seniors-enjoy-panera-bread-2/2024-12-03/
LOCATION:Warren Stillwell Manor\, 26600 Burg Rd\,\, Warren\, MI\, 48089
ATTACH;FMTTYPE=image/jpeg:https://sterlingheightslionsclub.org/wp-content/uploads/2023/06/paneraBread.jpg
END:VEVENT
BEGIN:VEVENT
DTSTART;VALUE=DATE:20241201
DTEND;VALUE=DATE:20241202
DTSTAMP:20260419T161502
CREATED:20241006T071533Z
LAST-MODIFIED:20241006T071533Z
UID:10002663-1733011200-1733097599@sterlingheightslionsclub.org
SUMMARY:Candy Cane Drive
DESCRIPTION:See Lions Doug Wilson and Eileen Maciasz for details. \n11/29\, 11/30\, 12/1\n12/6\, 12/7\, 12/8
URL:https://sterlingheightslionsclub.org/event/candy-cane-drive-9/
LOCATION:MI
CATEGORIES:Charitable Events,District 11-A2,Sterling Heights Club Events
ATTACH;FMTTYPE=image/png:https://sterlingheightslionsclub.org/wp-content/uploads/2024/10/candy-cane-collectinons.png
END:VEVENT
BEGIN:VEVENT
DTSTART;VALUE=DATE:20241130
DTEND;VALUE=DATE:20241201
DTSTAMP:20260419T161502
CREATED:20241006T071421Z
LAST-MODIFIED:20241006T071421Z
UID:10002662-1732924800-1733011199@sterlingheightslionsclub.org
SUMMARY:Candy Cane Drive
DESCRIPTION:See Lions Doug Wilson and Eileen Maciasz for details. \n11/29\, 11/30\, 12/1\n12/6\, 12/7\, 12/8
URL:https://sterlingheightslionsclub.org/event/candy-cane-drive-8/
LOCATION:MI
CATEGORIES:Charitable Events,District 11-A2,Sterling Heights Club Events
ATTACH;FMTTYPE=image/png:https://sterlingheightslionsclub.org/wp-content/uploads/2024/10/candy-cane-collectinons.png
END:VEVENT
BEGIN:VEVENT
DTSTART;VALUE=DATE:20241129
DTEND;VALUE=DATE:20241130
DTSTAMP:20260419T161502
CREATED:20241006T071242Z
LAST-MODIFIED:20241006T071242Z
UID:10002661-1732838400-1732924799@sterlingheightslionsclub.org
SUMMARY:Candy Cane Drive
DESCRIPTION:See Lions Doug Wilson and Eileen Maciasz for details. \n11/29\, 11/30\, 12/1\n12/6\, 12/7\, 12/8
URL:https://sterlingheightslionsclub.org/event/candy-cane-drive-7/
LOCATION:MI
CATEGORIES:Charitable Events,District 11-A2,Sterling Heights Club Events
ATTACH;FMTTYPE=image/png:https://sterlingheightslionsclub.org/wp-content/uploads/2024/10/candy-cane-collectinons.png
END:VEVENT
BEGIN:VEVENT
DTSTART;TZID=UTC:20241127T180000
DTEND;TZID=UTC:20241127T210000
DTSTAMP:20260419T161502
CREATED:20230914T032034Z
LAST-MODIFIED:20230914T032314Z
UID:10001872-1732730400-1732741200@sterlingheightslionsclub.org
SUMMARY:Speaker/Activity
DESCRIPTION:Stay tuned for this week’s speaker \n 
URL:https://sterlingheightslionsclub.org/event/speaker-activity-2-4/2024-11-27/
LOCATION:Lions Club\, 12828 Canal Rd\, Sterling Heights\, MI\, 48313\, United States
CATEGORIES:Sterling Heights Club Events,Sterling Heights Lioness Lions Events
ATTACH;FMTTYPE=image/png:https://sterlingheightslionsclub.org/wp-content/uploads/2023/06/speaker.png
END:VEVENT
BEGIN:VEVENT
DTSTART;TZID=UTC:20241127T180000
DTEND;TZID=UTC:20241127T210000
DTSTAMP:20260419T161502
CREATED:20230623T005722Z
LAST-MODIFIED:20230623T010028Z
UID:10001166-1732730400-1732741200@sterlingheightslionsclub.org
SUMMARY:Lions Club Meeting
DESCRIPTION:Come join the Sterling Heights Lions Club for fun\, food\, and the latest updates on happening and our work in the community!
URL:https://sterlingheightslionsclub.org/event/lions-club-meeting-7/2024-11-27/
LOCATION:Lions Club\, 12828 Canal Rd\, Sterling Heights\, MI\, 48313\, United States
CATEGORIES:Sterling Heights Club Events
ATTACH;FMTTYPE=image/jpeg:https://sterlingheightslionsclub.org/wp-content/uploads/2023/03/IMG_8846-scaled.jpeg
END:VEVENT
BEGIN:VEVENT
DTSTART;TZID=America/New_York:20241126T180000
DTEND;TZID=America/New_York:20241126T210000
DTSTAMP:20260419T161502
CREATED:20241006T085542Z
LAST-MODIFIED:20250611T115254Z
UID:10003068-1732644000-1732654800@sterlingheightslionsclub.org
SUMMARY:Lioness Lions Club Meeting (4th Tuesday of each month)
DESCRIPTION:Come join the Sterling Heights Lioness Lions Club for fun\, food\, and the latest updates on what is happening and our work in the community! \n  \n(4th Tuesday of each month)
URL:https://sterlingheightslionsclub.org/event/lions-club-meeting-6-2-3/2024-11-26/
LOCATION:Lions Club\, 12828 Canal Rd\, Sterling Heights\, MI\, 48313\, United States
CATEGORIES:Sterling Heights Lioness Lions Events
ATTACH;FMTTYPE=image/png:https://sterlingheightslionsclub.org/wp-content/uploads/2023/06/lioness-3.png
END:VEVENT
BEGIN:VEVENT
DTSTART;TZID=America/New_York:20241126T090000
DTEND;TZID=America/New_York:20241126T110000
DTSTAMP:20260419T161502
CREATED:20241006T083932Z
LAST-MODIFIED:20241006T085050Z
UID:10002696-1732611600-1732618800@sterlingheightslionsclub.org
SUMMARY:Seniors Enjoy Panera Bread
DESCRIPTION:Lions Basil and Judy Welsh chair the Panera Bread End of Day Dough Nation\nThe assembled and cater the morning event for the Seniors at Warren Stillwell and Joseph Coach complexs \nA hardy thank you to Panera Bread\, Lions Basil and Judy\, and the wonderful crew who take advantage of this generous weekly contribution.
URL:https://sterlingheightslionsclub.org/event/seniors-enjoy-panera-bread-2/2024-11-26/
LOCATION:Warren Stillwell Manor\, 26600 Burg Rd\,\, Warren\, MI\, 48089
ATTACH;FMTTYPE=image/jpeg:https://sterlingheightslionsclub.org/wp-content/uploads/2023/06/paneraBread.jpg
END:VEVENT
BEGIN:VEVENT
DTSTART;TZID=America/Detroit:20241122T080000
DTEND;TZID=America/Detroit:20241122T170000
DTSTAMP:20260419T161502
CREATED:20241123T033812Z
LAST-MODIFIED:20241212T142036Z
UID:10003191-1732262400-1732294800@sterlingheightslionsclub.org
SUMMARY:Pancakes with Santa
DESCRIPTION:Come jon us for breakfast with Santa  from 9am to 12 pm \n12828 Canal Road\, Sterling Hieghts\, MI 48313 \n \n 
URL:https://sterlingheightslionsclub.org/event/pancakes-with-santa/
LOCATION:MI
ATTACH;FMTTYPE=image/png:https://sterlingheightslionsclub.org/wp-content/uploads/2024/11/Christmas-Party-2024-updated.png
END:VEVENT
BEGIN:VEVENT
DTSTART;TZID=America/New_York:20241119T090000
DTEND;TZID=America/New_York:20241119T110000
DTSTAMP:20260419T161502
CREATED:20241006T083932Z
LAST-MODIFIED:20241006T085050Z
UID:10002695-1732006800-1732014000@sterlingheightslionsclub.org
SUMMARY:Seniors Enjoy Panera Bread
DESCRIPTION:Lions Basil and Judy Welsh chair the Panera Bread End of Day Dough Nation\nThe assembled and cater the morning event for the Seniors at Warren Stillwell and Joseph Coach complexs \nA hardy thank you to Panera Bread\, Lions Basil and Judy\, and the wonderful crew who take advantage of this generous weekly contribution.
URL:https://sterlingheightslionsclub.org/event/seniors-enjoy-panera-bread-2/2024-11-19/
LOCATION:Warren Stillwell Manor\, 26600 Burg Rd\,\, Warren\, MI\, 48089
ATTACH;FMTTYPE=image/jpeg:https://sterlingheightslionsclub.org/wp-content/uploads/2023/06/paneraBread.jpg
END:VEVENT
BEGIN:VEVENT
DTSTART;TZID=UTC:20241113T180000
DTEND;TZID=UTC:20241113T210000
DTSTAMP:20260419T161502
CREATED:20230321T033423Z
LAST-MODIFIED:20230623T022158Z
UID:10000026-1731520800-1731531600@sterlingheightslionsclub.org
SUMMARY:Lions Club Meeting (2nd Wednesday each month)
DESCRIPTION:Come join the Sterling Heights Lions Club for fun\, food\, and the latest updates on happening and our work in the community! \n  \n(2nd Wednesday each month)
URL:https://sterlingheightslionsclub.org/event/lions-club-meeting-5/2024-11-13/
LOCATION:Lions Club\, 12828 Canal Rd\, Sterling Heights\, MI\, 48313\, United States
ATTACH;FMTTYPE=image/png:https://sterlingheightslionsclub.org/wp-content/uploads/2023/03/Screenshot-2023-03-02-202623-Edited.png
END:VEVENT
BEGIN:VEVENT
DTSTART;TZID=America/New_York:20241112T180000
DTEND;TZID=America/New_York:20241112T210000
DTSTAMP:20260419T161502
CREATED:20241006T085235Z
LAST-MODIFIED:20250611T115524Z
UID:10003009-1731434400-1731445200@sterlingheightslionsclub.org
SUMMARY:Lioness Lions Club Meeting (2nd Tuesday of each month)
DESCRIPTION:Come join the Sterling Heights Lioness Lions Club for fun\, food\, and the latest updates on what is happening and our work in the community! \n  \n(2nd Tuesday of each month)
URL:https://sterlingheightslionsclub.org/event/lioness-lions-club-meeting-2nd-tuesday-of-each-month-2/2024-11-12/
LOCATION:Lions Club\, 12828 Canal Rd\, Sterling Heights\, MI\, 48313\, United States
CATEGORIES:Sterling Heights Lioness Lions Events
ATTACH;FMTTYPE=image/png:https://sterlingheightslionsclub.org/wp-content/uploads/2023/06/lioness-3.png
END:VEVENT
BEGIN:VEVENT
DTSTART;TZID=America/New_York:20241112T090000
DTEND;TZID=America/New_York:20241112T110000
DTSTAMP:20260419T161502
CREATED:20241006T083932Z
LAST-MODIFIED:20241006T085050Z
UID:10002694-1731402000-1731409200@sterlingheightslionsclub.org
SUMMARY:Seniors Enjoy Panera Bread
DESCRIPTION:Lions Basil and Judy Welsh chair the Panera Bread End of Day Dough Nation\nThe assembled and cater the morning event for the Seniors at Warren Stillwell and Joseph Coach complexs \nA hardy thank you to Panera Bread\, Lions Basil and Judy\, and the wonderful crew who take advantage of this generous weekly contribution.
URL:https://sterlingheightslionsclub.org/event/seniors-enjoy-panera-bread-2/2024-11-12/
LOCATION:Warren Stillwell Manor\, 26600 Burg Rd\,\, Warren\, MI\, 48089
ATTACH;FMTTYPE=image/jpeg:https://sterlingheightslionsclub.org/wp-content/uploads/2023/06/paneraBread.jpg
END:VEVENT
BEGIN:VEVENT
DTSTART;TZID=America/New_York:20241111T180000
DTEND;TZID=America/New_York:20241111T200000
DTSTAMP:20260419T161502
CREATED:20241006T065836Z
LAST-MODIFIED:20250812T053537Z
UID:10002601-1731348000-1731355200@sterlingheightslionsclub.org
SUMMARY:Susie Q's Kids Bag Stuffing Event
DESCRIPTION:NEW LOCATION\nSusie Q’s Kids has their monthly bag stuffing is held monthly on the 2nd Monday of each month 6 PM\nWe have moved the location from the Club to their new office located at\n35404 Mound Road\, Sterling Heights MI 48310 (Just north of 15 Mile Road)\nIf the doors are locked\, call or text 586-206-8424 for entry. \nWe assembled comfort bags for kids in need in our community on the second Monday of each month at 6 PM \nVolunteers are welcome to stop and learn about Susie Q’s Kids\, the nonprofit that will receive the comfort bags\, and about Lionism \nKids are welcome and encouraged to attend as we promote “Kids Helping Kids” \nS
URL:https://sterlingheightslionsclub.org/event/sussie-qs-kids-bag-stuffing-event-4-2-2/2024-11-11/
LOCATION:MI
CATEGORIES:Charitable Events,District 11-A2,Sterling Heights Club Events
ATTACH;FMTTYPE=image/png:https://sterlingheightslionsclub.org/wp-content/uploads/2023/06/care-house-2-cropped.png
END:VEVENT
BEGIN:VEVENT
DTSTART;TZID=America/New_York:20241108T180000
DTEND;TZID=America/New_York:20241108T230000
DTSTAMP:20260419T161502
CREATED:20241006T084515Z
LAST-MODIFIED:20241006T090352Z
UID:10002950-1731088800-1731106800@sterlingheightslionsclub.org
SUMMARY:Euchre
DESCRIPTION:Come join us for a night of Euchre\, we would love to see you.
URL:https://sterlingheightslionsclub.org/event/euchre-2-3-3/2024-11-08/
LOCATION:Sterling Heights Lions Club\, 12828 Canal Road\, Sterling Heights\, MI\, 48313
CATEGORIES:Charitable Events,Sterling Heights Club Events
ATTACH;FMTTYPE=image/png:https://sterlingheightslionsclub.org/wp-content/uploads/2023/04/2023-06-22_22-31-32.png
END:VEVENT
END:VCALENDAR