BEGIN:VCALENDAR
VERSION:2.0
PRODID:-//Sterling Heights Lions Club - ECPv6.15.20//NONSGML v1.0//EN
CALSCALE:GREGORIAN
METHOD:PUBLISH
X-ORIGINAL-URL:https://sterlingheightslionsclub.org
X-WR-CALDESC:Events for Sterling Heights Lions Club
REFRESH-INTERVAL;VALUE=DURATION:PT1H
X-Robots-Tag:noindex
X-PUBLISHED-TTL:PT1H
BEGIN:VTIMEZONE
TZID:America/Detroit
BEGIN:DAYLIGHT
TZOFFSETFROM:-0500
TZOFFSETTO:-0400
TZNAME:EDT
DTSTART:20240310T070000
END:DAYLIGHT
BEGIN:STANDARD
TZOFFSETFROM:-0400
TZOFFSETTO:-0500
TZNAME:EST
DTSTART:20241103T060000
END:STANDARD
BEGIN:DAYLIGHT
TZOFFSETFROM:-0500
TZOFFSETTO:-0400
TZNAME:EDT
DTSTART:20250309T070000
END:DAYLIGHT
BEGIN:STANDARD
TZOFFSETFROM:-0400
TZOFFSETTO:-0500
TZNAME:EST
DTSTART:20251102T060000
END:STANDARD
BEGIN:DAYLIGHT
TZOFFSETFROM:-0500
TZOFFSETTO:-0400
TZNAME:EDT
DTSTART:20260308T070000
END:DAYLIGHT
BEGIN:STANDARD
TZOFFSETFROM:-0400
TZOFFSETTO:-0500
TZNAME:EST
DTSTART:20261101T060000
END:STANDARD
END:VTIMEZONE
BEGIN:VTIMEZONE
TZID:America/New_York
BEGIN:DAYLIGHT
TZOFFSETFROM:-0500
TZOFFSETTO:-0400
TZNAME:EDT
DTSTART:20240310T070000
END:DAYLIGHT
BEGIN:STANDARD
TZOFFSETFROM:-0400
TZOFFSETTO:-0500
TZNAME:EST
DTSTART:20241103T060000
END:STANDARD
BEGIN:DAYLIGHT
TZOFFSETFROM:-0500
TZOFFSETTO:-0400
TZNAME:EDT
DTSTART:20250309T070000
END:DAYLIGHT
BEGIN:STANDARD
TZOFFSETFROM:-0400
TZOFFSETTO:-0500
TZNAME:EST
DTSTART:20251102T060000
END:STANDARD
BEGIN:DAYLIGHT
TZOFFSETFROM:-0500
TZOFFSETTO:-0400
TZNAME:EDT
DTSTART:20260308T070000
END:DAYLIGHT
BEGIN:STANDARD
TZOFFSETFROM:-0400
TZOFFSETTO:-0500
TZNAME:EST
DTSTART:20261101T060000
END:STANDARD
END:VTIMEZONE
BEGIN:VTIMEZONE
TZID:UTC
BEGIN:STANDARD
TZOFFSETFROM:+0000
TZOFFSETTO:+0000
TZNAME:UTC
DTSTART:20240101T000000
END:STANDARD
END:VTIMEZONE
BEGIN:VEVENT
DTSTART;TZID=America/Detroit:20250626T180000
DTEND;TZID=America/Detroit:20250627T023000
DTSTAMP:20260423T113605
CREATED:20241123T040927Z
LAST-MODIFIED:20250427T030749Z
UID:10004773-1750960800-1750991400@sterlingheightslionsclub.org
SUMMARY:Charity Gambling Session 6/26 (6 pm - 2:30 am)
DESCRIPTION:Charity Gambling events at Paradise  Restaurant and Banquet Hall \n13461 Hall Rd\, Utica\, MI 48315 \n6:00 pm to 2:30 am \nVolunteer here:  https://www.signupgenius.com/go/10C0844ABA92CA0FFC70-52734491-poker\n 
URL:https://sterlingheightslionsclub.org/event/charity-gambling-session-8-18/
LOCATION:MI
CATEGORIES:Sterling Heights Club Events
ATTACH;FMTTYPE=image/png:https://sterlingheightslionsclub.org/wp-content/uploads/2023/06/2023-06-22_23-06-55.png
END:VEVENT
BEGIN:VEVENT
DTSTART;TZID=America/Detroit:20250627T180000
DTEND;TZID=America/Detroit:20250627T220000
DTSTAMP:20260423T113605
CREATED:20250613T013153Z
LAST-MODIFIED:20250613T013233Z
UID:10004869-1751047200-1751061600@sterlingheightslionsclub.org
SUMMARY:Pre Fourth July Meat Raffle and BBQ
DESCRIPTION:Joint Venture Sterling Heights Lions Club and Womans Life 911 Macomb Angels
URL:https://sterlingheightslionsclub.org/event/pre-fourth-july-meat-raffle-and-bbq/
LOCATION:Sterling Heights Lions Club\, 12828 Canal Road\, Sterling Heights\, MI\, 48313
CATEGORIES:Sterling Heights Club Events
ATTACH;FMTTYPE=image/png:https://sterlingheightslionsclub.org/wp-content/uploads/2025/06/4th-Of-July-A4-Made-with-PosterMyWall.png
END:VEVENT
BEGIN:VEVENT
DTSTART;TZID=America/New_York:20250701T090000
DTEND;TZID=America/New_York:20250701T110000
DTSTAMP:20260423T113605
CREATED:20250617T191112Z
LAST-MODIFIED:20250618T035627Z
UID:10002727-1751360400-1751367600@sterlingheightslionsclub.org
SUMMARY:Families Enjoy Panera Bread
DESCRIPTION:The Sterling Heights Llons Club partners with Grace Centers of Hope to help those in recovery with our generous partner Panera Bread and their End-of-Day-Doughnation of bread\, danishes\, donuts\, bagels\, cookies\, and other baked goods. \nA hardy thank you to Lion Dr Mary Welsh and Director of Donations Mark Cunningham for establishing this ongoing partnership with Panera Bread to feed those in their program. \n 
URL:https://sterlingheightslionsclub.org/event/seniors-enjoy-panera-bread-2-2/2025-07-01/
LOCATION:Grace Centers of Hope\, 35 East Huron Road\, Pontiac\, MI\, 48342\, United States
ATTACH;FMTTYPE=image/jpeg:https://sterlingheightslionsclub.org/wp-content/uploads/2023/06/paneraBread.jpg
END:VEVENT
BEGIN:VEVENT
DTSTART;TZID=America/Detroit:20250707T110000
DTEND;TZID=America/Detroit:20250708T180000
DTSTAMP:20260423T113605
CREATED:20241123T040633Z
LAST-MODIFIED:20250427T030925Z
UID:10003589-1751886000-1751997600@sterlingheightslionsclub.org
SUMMARY:Charity Gambling Session 7/7  (11 am - 6 pm)
DESCRIPTION:Charity Gambling events at Paradise  Restaurant and Banquet Hall \n13461 Hall Rd\, Utica\, MI 48315 \n11 am -6 pm \nVolunteer here:  https://www.signupgenius.com/go/10C0844ABA92CA0FFC70-52734651-poker
URL:https://sterlingheightslionsclub.org/event/charity-gambling-session-7-7/
LOCATION:MI
CATEGORIES:Sterling Heights Club Events
ATTACH;FMTTYPE=image/png:https://sterlingheightslionsclub.org/wp-content/uploads/2023/06/2023-06-22_23-06-55.png
END:VEVENT
BEGIN:VEVENT
DTSTART;TZID=America/New_York:20250708T090000
DTEND;TZID=America/New_York:20250708T110000
DTSTAMP:20260423T113605
CREATED:20250617T191112Z
LAST-MODIFIED:20250618T035627Z
UID:10002728-1751965200-1751972400@sterlingheightslionsclub.org
SUMMARY:Families Enjoy Panera Bread
DESCRIPTION:The Sterling Heights Llons Club partners with Grace Centers of Hope to help those in recovery with our generous partner Panera Bread and their End-of-Day-Doughnation of bread\, danishes\, donuts\, bagels\, cookies\, and other baked goods. \nA hardy thank you to Lion Dr Mary Welsh and Director of Donations Mark Cunningham for establishing this ongoing partnership with Panera Bread to feed those in their program. \n 
URL:https://sterlingheightslionsclub.org/event/seniors-enjoy-panera-bread-2-2/2025-07-08/
LOCATION:Grace Centers of Hope\, 35 East Huron Road\, Pontiac\, MI\, 48342\, United States
ATTACH;FMTTYPE=image/jpeg:https://sterlingheightslionsclub.org/wp-content/uploads/2023/06/paneraBread.jpg
END:VEVENT
BEGIN:VEVENT
DTSTART;TZID=America/Detroit:20250708T110000
DTEND;TZID=America/Detroit:20250709T180000
DTSTAMP:20260423T113605
CREATED:20241123T035848Z
LAST-MODIFIED:20250427T031029Z
UID:10003192-1751972400-1752084000@sterlingheightslionsclub.org
SUMMARY:Charity Gambling Session 7/8  (11 am - 6 pm)
DESCRIPTION:Charity Gambling events at Paradise  Restaurant and Banquet Hall \n13461 Hall Rd\, Utica\, MI 48315 \n11 am – 6 pm \nVolunteer here https://www.signupgenius.com/go/10C0844ABA92CA0FFC70-52734651-poker\n 
URL:https://sterlingheightslionsclub.org/event/charity-gambling-session-7-7-to-7-10-2/
LOCATION:MI
CATEGORIES:Sterling Heights Club Events
ATTACH;FMTTYPE=image/png:https://sterlingheightslionsclub.org/wp-content/uploads/2023/06/2023-06-22_23-06-55.png
END:VEVENT
BEGIN:VEVENT
DTSTART;TZID=America/Detroit:20250709T110000
DTEND;TZID=America/Detroit:20250710T180000
DTSTAMP:20260423T113605
CREATED:20241123T035951Z
LAST-MODIFIED:20250427T031137Z
UID:10004772-1752058800-1752170400@sterlingheightslionsclub.org
SUMMARY:Charity Gambling Session 7/9  (11 am - 6 pm)
DESCRIPTION:Charity Gambling events at Paradise  Restaurant and Banquet Hall \n13461 Hall Rd\, Utica\, MI 48315 \n11 am – 6 pm \nVolunteer here:  https://www.signupgenius.com/go/10C0844ABA92CA0FFC70-52734651-poker\n 
URL:https://sterlingheightslionsclub.org/event/charity-gambling-session-7-7-to-7-10-3/
LOCATION:MI
CATEGORIES:Sterling Heights Club Events
ATTACH;FMTTYPE=image/png:https://sterlingheightslionsclub.org/wp-content/uploads/2023/06/2023-06-22_23-06-55.png
END:VEVENT
BEGIN:VEVENT
DTSTART;TZID=UTC:20250709T180000
DTEND;TZID=UTC:20250709T210000
DTSTAMP:20260423T113605
CREATED:20230321T033423Z
LAST-MODIFIED:20230623T022158Z
UID:10000034-1752084000-1752094800@sterlingheightslionsclub.org
SUMMARY:Lions Club Meeting (2nd Wednesday each month)
DESCRIPTION:Come join the Sterling Heights Lions Club for fun\, food\, and the latest updates on happening and our work in the community! \n  \n(2nd Wednesday each month)
URL:https://sterlingheightslionsclub.org/event/lions-club-meeting-5/2025-07-09/
LOCATION:Lions Club\, 12828 Canal Rd\, Sterling Heights\, MI\, 48313\, United States
ATTACH;FMTTYPE=image/png:https://sterlingheightslionsclub.org/wp-content/uploads/2023/03/Screenshot-2023-03-02-202623-Edited.png
END:VEVENT
BEGIN:VEVENT
DTSTART;TZID=UTC:20250709T180000
DTEND;TZID=UTC:20250709T210000
DTSTAMP:20260423T113606
CREATED:20250617T195732Z
LAST-MODIFIED:20250617T195753Z
UID:10004907-1752084000-1752094800@sterlingheightslionsclub.org
SUMMARY:Speaker/Activity
DESCRIPTION:Stay tuned for this week’s speaker \n 
URL:https://sterlingheightslionsclub.org/event/speaker-activity-2-4-3/2025-07-09/
LOCATION:Lions Club\, 12828 Canal Rd\, Sterling Heights\, MI\, 48313\, United States
CATEGORIES:Sterling Heights Club Events,Sterling Heights Lioness Lions Events
ATTACH;FMTTYPE=image/png:https://sterlingheightslionsclub.org/wp-content/uploads/2023/06/speaker.png
END:VEVENT
BEGIN:VEVENT
DTSTART;TZID=America/Detroit:20250710T110000
DTEND;TZID=America/Detroit:20250711T180000
DTSTAMP:20260423T113606
CREATED:20241123T040100Z
LAST-MODIFIED:20250427T031231Z
UID:10004774-1752145200-1752256800@sterlingheightslionsclub.org
SUMMARY:Charity Gambling Session 7/10  (11 am - 6 pm)
DESCRIPTION:Charity Gambling events at Paradise  Restaurant and Banquet Hall \n13461 Hall Rd\, Utica\, MI 48315 \n11 am – 6 pm \nVolunteer here:  https://www.signupgenius.com/go/10C0844ABA92CA0FFC70-52734651-poker\n 
URL:https://sterlingheightslionsclub.org/event/charity-gambling-session-7-7-to-7-10-4/
LOCATION:MI
CATEGORIES:Sterling Heights Club Events
ATTACH;FMTTYPE=image/png:https://sterlingheightslionsclub.org/wp-content/uploads/2023/06/2023-06-22_23-06-55.png
END:VEVENT
BEGIN:VEVENT
DTSTART;TZID=America/Detroit:20250711T180000
DTEND;TZID=America/Detroit:20250711T220000
DTSTAMP:20260423T113606
CREATED:20250110T223100Z
LAST-MODIFIED:20250111T044907Z
UID:10004797-1752256800-1752271200@sterlingheightslionsclub.org
SUMMARY:Euchre
DESCRIPTION:Join us for Euchre\nJanuary 10-2025 \nFebruary14\, 2025 \nMarch 14\, 2025 \nApril 11\, 2025 \nMay 9\, 2025 \nJune 13\, 2025 \nJuly 11\, 2025 \nAugust 8\, 2025 \nSeptember12\, 2025 \nOctober 10\, 2025 \nNovember 14\, 2025 \nDecember  no euchre
URL:https://sterlingheightslionsclub.org/event/1817/2025-07-11/
LOCATION:MI
CATEGORIES:Sterling Heights Club Events
ATTACH;FMTTYPE=image/png:https://sterlingheightslionsclub.org/wp-content/uploads/2023/04/2023-06-22_22-31-32.png
END:VEVENT
BEGIN:VEVENT
DTSTART;TZID=America/New_York:20250715T090000
DTEND;TZID=America/New_York:20250715T110000
DTSTAMP:20260423T113606
CREATED:20250618T035857Z
LAST-MODIFIED:20250618T035858Z
UID:10002729-1752570000-1752577200@sterlingheightslionsclub.org
SUMMARY:Families Enjoy Panera Bread
DESCRIPTION:The Sterling Heights Llons Club partners with Grace Centers of Hope to help those in recovery with our generous partner Panera Bread and their End-of-Day-Doughnation of bread\, danishes\, donuts\, bagels\, cookies\, and other baked goods. \nA hardy thank you to Lion Dr Mary Welsh and Director of Donations Mark Cunningham for establishing this ongoing partnership with Panera Bread to feed those in their program. \n 
URL:https://sterlingheightslionsclub.org/event/seniors-enjoy-panera-bread-2-2-2/2025-07-15/
LOCATION:Grace Centers of Hope\, 35 East Huron Road\, Pontiac\, MI\, 48342\, United States
ATTACH;FMTTYPE=image/jpeg:https://sterlingheightslionsclub.org/wp-content/uploads/2023/06/paneraBread.jpg
END:VEVENT
BEGIN:VEVENT
DTSTART;TZID=America/Detroit:20250715T170000
DTEND;TZID=America/Detroit:20250715T200000
DTSTAMP:20260423T113606
CREATED:20250623T021241Z
LAST-MODIFIED:20250703T232640Z
UID:10004935-1752598800-1752609600@sterlingheightslionsclub.org
SUMMARY:Diaper Giveaway
DESCRIPTION:Reference the flyer for details and contact information \n  \n \n  \n  \n 
URL:https://sterlingheightslionsclub.org/event/diaper-giveaway-2-2/2025-07-15/
LOCATION:Sterling Heights Lions Club\, 12828 Canal Road\, Sterling Heights\, MI\, 48313
CATEGORIES:Charitable Events,Sterling Heights Club Events
ATTACH;FMTTYPE=image/jpeg:https://sterlingheightslionsclub.org/wp-content/uploads/2025/07/Diaper-Drive-Flyer-Made-with-PosterMyWall-1.jpg
END:VEVENT
BEGIN:VEVENT
DTSTART;TZID=UTC:20250716T170000
DTEND;TZID=UTC:20250716T190000
DTSTAMP:20260423T113606
CREATED:20250617T200303Z
LAST-MODIFIED:20250617T200303Z
UID:10004934-1752685200-1752692400@sterlingheightslionsclub.org
SUMMARY:Ice Cream Social at Bear Lake Camp 7-16-25  (5pm)
DESCRIPTION:The blind kids will be thrilled to see us. We serve them ice cream\, toppings\, and sprinkles. Smiles Abound. \nConsider joining us as we tour the camp facility and interact with the kids giving them ice cream. \nWednesday Julie 16th\, 5:00 PM \nLions Bear Lake Camp
URL:https://sterlingheightslionsclub.org/event/ice-cream-social-at-bear-lake-camp-7-16-25-5pm/
LOCATION:Lions Bear Lake Camp\, 3409 5 Lakes Rd\,\, Lapeer\, MI\, 48446
CATEGORIES:Charitable Events,District 11-A2,Sterling Heights Club Events,Sterling Heights Lioness Lions Events
ATTACH;FMTTYPE=image/jpeg:https://sterlingheightslionsclub.org/wp-content/uploads/2023/06/lions-bear-lake-camp-logo.jpg
END:VEVENT
BEGIN:VEVENT
DTSTART;TZID=America/New_York:20250722T090000
DTEND;TZID=America/New_York:20250722T110000
DTSTAMP:20260423T113606
CREATED:20250618T035857Z
LAST-MODIFIED:20250618T035858Z
UID:10002730-1753174800-1753182000@sterlingheightslionsclub.org
SUMMARY:Families Enjoy Panera Bread
DESCRIPTION:The Sterling Heights Llons Club partners with Grace Centers of Hope to help those in recovery with our generous partner Panera Bread and their End-of-Day-Doughnation of bread\, danishes\, donuts\, bagels\, cookies\, and other baked goods. \nA hardy thank you to Lion Dr Mary Welsh and Director of Donations Mark Cunningham for establishing this ongoing partnership with Panera Bread to feed those in their program. \n 
URL:https://sterlingheightslionsclub.org/event/seniors-enjoy-panera-bread-2-2-2/2025-07-22/
LOCATION:Grace Centers of Hope\, 35 East Huron Road\, Pontiac\, MI\, 48342\, United States
ATTACH;FMTTYPE=image/jpeg:https://sterlingheightslionsclub.org/wp-content/uploads/2023/06/paneraBread.jpg
END:VEVENT
BEGIN:VEVENT
DTSTART;TZID=UTC:20250723T180000
DTEND;TZID=UTC:20250723T210000
DTSTAMP:20260423T113606
CREATED:20230623T005722Z
LAST-MODIFIED:20230623T010028Z
UID:10001174-1753293600-1753304400@sterlingheightslionsclub.org
SUMMARY:Lions Club Meeting
DESCRIPTION:Come join the Sterling Heights Lions Club for fun\, food\, and the latest updates on happening and our work in the community!
URL:https://sterlingheightslionsclub.org/event/lions-club-meeting-7/2025-07-23/
LOCATION:Lions Club\, 12828 Canal Rd\, Sterling Heights\, MI\, 48313\, United States
CATEGORIES:Sterling Heights Club Events
ATTACH;FMTTYPE=image/jpeg:https://sterlingheightslionsclub.org/wp-content/uploads/2023/03/IMG_8846-scaled.jpeg
END:VEVENT
BEGIN:VEVENT
DTSTART;TZID=America/New_York:20250729T090000
DTEND;TZID=America/New_York:20250729T110000
DTSTAMP:20260423T113606
CREATED:20250618T035857Z
LAST-MODIFIED:20250618T035858Z
UID:10002731-1753779600-1753786800@sterlingheightslionsclub.org
SUMMARY:Families Enjoy Panera Bread
DESCRIPTION:The Sterling Heights Llons Club partners with Grace Centers of Hope to help those in recovery with our generous partner Panera Bread and their End-of-Day-Doughnation of bread\, danishes\, donuts\, bagels\, cookies\, and other baked goods. \nA hardy thank you to Lion Dr Mary Welsh and Director of Donations Mark Cunningham for establishing this ongoing partnership with Panera Bread to feed those in their program. \n 
URL:https://sterlingheightslionsclub.org/event/seniors-enjoy-panera-bread-2-2-2/2025-07-29/
LOCATION:Grace Centers of Hope\, 35 East Huron Road\, Pontiac\, MI\, 48342\, United States
ATTACH;FMTTYPE=image/jpeg:https://sterlingheightslionsclub.org/wp-content/uploads/2023/06/paneraBread.jpg
END:VEVENT
BEGIN:VEVENT
DTSTART;TZID=America/New_York:20250731T090000
DTEND;TZID=America/New_York:20250731T150000
DTSTAMP:20260423T113606
CREATED:20250617T185812Z
LAST-MODIFIED:20250617T185812Z
UID:10004870-1753952400-1753974000@sterlingheightslionsclub.org
SUMMARY:Blood Drive 7/31/25
DESCRIPTION:Blood Drive to be held 7/31/2025 (9am-3pm)\n \n  \nJuly 31 Lions Drive
URL:https://sterlingheightslionsclub.org/event/blood-drive-7-31-25/
LOCATION:Sterling Heights Lions Club\, 12828 Canal Road\, Sterling Heights\, MI\, 48313
CATEGORIES:Charitable Events,Sterling Heights Club Events
ATTACH;FMTTYPE=image/jpeg:https://sterlingheightslionsclub.org/wp-content/uploads/2025/06/July-31-Blood-Drive-2025-1.jpg
END:VEVENT
BEGIN:VEVENT
DTSTART;TZID=America/New_York:20250805T090000
DTEND;TZID=America/New_York:20250805T110000
DTSTAMP:20260423T113606
CREATED:20250618T035857Z
LAST-MODIFIED:20250618T035858Z
UID:10002732-1754384400-1754391600@sterlingheightslionsclub.org
SUMMARY:Families Enjoy Panera Bread
DESCRIPTION:The Sterling Heights Llons Club partners with Grace Centers of Hope to help those in recovery with our generous partner Panera Bread and their End-of-Day-Doughnation of bread\, danishes\, donuts\, bagels\, cookies\, and other baked goods. \nA hardy thank you to Lion Dr Mary Welsh and Director of Donations Mark Cunningham for establishing this ongoing partnership with Panera Bread to feed those in their program. \n 
URL:https://sterlingheightslionsclub.org/event/seniors-enjoy-panera-bread-2-2-2/2025-08-05/
LOCATION:Grace Centers of Hope\, 35 East Huron Road\, Pontiac\, MI\, 48342\, United States
ATTACH;FMTTYPE=image/jpeg:https://sterlingheightslionsclub.org/wp-content/uploads/2023/06/paneraBread.jpg
END:VEVENT
BEGIN:VEVENT
DTSTART;TZID=America/Detroit:20250808T180000
DTEND;TZID=America/Detroit:20250808T220000
DTSTAMP:20260423T113606
CREATED:20250110T223100Z
LAST-MODIFIED:20250111T044907Z
UID:10004798-1754676000-1754690400@sterlingheightslionsclub.org
SUMMARY:Euchre
DESCRIPTION:Join us for Euchre\nJanuary 10-2025 \nFebruary14\, 2025 \nMarch 14\, 2025 \nApril 11\, 2025 \nMay 9\, 2025 \nJune 13\, 2025 \nJuly 11\, 2025 \nAugust 8\, 2025 \nSeptember12\, 2025 \nOctober 10\, 2025 \nNovember 14\, 2025 \nDecember  no euchre
URL:https://sterlingheightslionsclub.org/event/1817/2025-08-08/
LOCATION:MI
CATEGORIES:Sterling Heights Club Events
ATTACH;FMTTYPE=image/png:https://sterlingheightslionsclub.org/wp-content/uploads/2023/04/2023-06-22_22-31-32.png
END:VEVENT
BEGIN:VEVENT
DTSTART;TZID=America/New_York:20250812T090000
DTEND;TZID=America/New_York:20250812T110000
DTSTAMP:20260423T113606
CREATED:20250618T035857Z
LAST-MODIFIED:20250618T035858Z
UID:10002733-1754989200-1754996400@sterlingheightslionsclub.org
SUMMARY:Families Enjoy Panera Bread
DESCRIPTION:The Sterling Heights Llons Club partners with Grace Centers of Hope to help those in recovery with our generous partner Panera Bread and their End-of-Day-Doughnation of bread\, danishes\, donuts\, bagels\, cookies\, and other baked goods. \nA hardy thank you to Lion Dr Mary Welsh and Director of Donations Mark Cunningham for establishing this ongoing partnership with Panera Bread to feed those in their program. \n 
URL:https://sterlingheightslionsclub.org/event/seniors-enjoy-panera-bread-2-2-2/2025-08-12/
LOCATION:Grace Centers of Hope\, 35 East Huron Road\, Pontiac\, MI\, 48342\, United States
ATTACH;FMTTYPE=image/jpeg:https://sterlingheightslionsclub.org/wp-content/uploads/2023/06/paneraBread.jpg
END:VEVENT
BEGIN:VEVENT
DTSTART;TZID=UTC:20250813T180000
DTEND;TZID=UTC:20250813T210000
DTSTAMP:20260423T113606
CREATED:20230321T033423Z
LAST-MODIFIED:20230623T022158Z
UID:10000035-1755108000-1755118800@sterlingheightslionsclub.org
SUMMARY:Lions Club Meeting (2nd Wednesday each month)
DESCRIPTION:Come join the Sterling Heights Lions Club for fun\, food\, and the latest updates on happening and our work in the community! \n  \n(2nd Wednesday each month)
URL:https://sterlingheightslionsclub.org/event/lions-club-meeting-5/2025-08-13/
LOCATION:Lions Club\, 12828 Canal Rd\, Sterling Heights\, MI\, 48313\, United States
ATTACH;FMTTYPE=image/png:https://sterlingheightslionsclub.org/wp-content/uploads/2023/03/Screenshot-2023-03-02-202623-Edited.png
END:VEVENT
BEGIN:VEVENT
DTSTART;TZID=UTC:20250813T180000
DTEND;TZID=UTC:20250813T210000
DTSTAMP:20260423T113606
CREATED:20250617T195732Z
LAST-MODIFIED:20250617T195753Z
UID:10004908-1755108000-1755118800@sterlingheightslionsclub.org
SUMMARY:Speaker/Activity
DESCRIPTION:Stay tuned for this week’s speaker \n 
URL:https://sterlingheightslionsclub.org/event/speaker-activity-2-4-3/2025-08-13/
LOCATION:Lions Club\, 12828 Canal Rd\, Sterling Heights\, MI\, 48313\, United States
CATEGORIES:Sterling Heights Club Events,Sterling Heights Lioness Lions Events
ATTACH;FMTTYPE=image/png:https://sterlingheightslionsclub.org/wp-content/uploads/2023/06/speaker.png
END:VEVENT
BEGIN:VEVENT
DTSTART;TZID=America/Detroit:20250818T183000
DTEND;TZID=America/Detroit:20250819T020000
DTSTAMP:20260423T113606
CREATED:20241123T041349Z
LAST-MODIFIED:20250818T063527Z
UID:10004776-1755541800-1755568800@sterlingheightslionsclub.org
SUMMARY:Charity Gambling Session 8/18   (630PM-2AM)
DESCRIPTION:Charity Gambling events at Paradise  Restaurant and Banquet Hall \n13461 Hall Rd\, Utica\, MI 48315 \n(630PM-2AM) \nVolunteer here:   https://www.signupgenius.com/go/10C0844ABA92CA0FFC70-52734461-poker
URL:https://sterlingheightslionsclub.org/event/charity-gambling-session-8-18-8-21-3/
LOCATION:MI
CATEGORIES:Sterling Heights Club Events
ATTACH;FMTTYPE=image/png:https://sterlingheightslionsclub.org/wp-content/uploads/2023/06/2023-06-22_23-06-55.png
END:VEVENT
BEGIN:VEVENT
DTSTART;TZID=America/New_York:20250819T090000
DTEND;TZID=America/New_York:20250819T110000
DTSTAMP:20260423T113606
CREATED:20250618T035857Z
LAST-MODIFIED:20250618T035858Z
UID:10002734-1755594000-1755601200@sterlingheightslionsclub.org
SUMMARY:Families Enjoy Panera Bread
DESCRIPTION:The Sterling Heights Llons Club partners with Grace Centers of Hope to help those in recovery with our generous partner Panera Bread and their End-of-Day-Doughnation of bread\, danishes\, donuts\, bagels\, cookies\, and other baked goods. \nA hardy thank you to Lion Dr Mary Welsh and Director of Donations Mark Cunningham for establishing this ongoing partnership with Panera Bread to feed those in their program. \n 
URL:https://sterlingheightslionsclub.org/event/seniors-enjoy-panera-bread-2-2-2/2025-08-19/
LOCATION:Grace Centers of Hope\, 35 East Huron Road\, Pontiac\, MI\, 48342\, United States
ATTACH;FMTTYPE=image/jpeg:https://sterlingheightslionsclub.org/wp-content/uploads/2023/06/paneraBread.jpg
END:VEVENT
BEGIN:VEVENT
DTSTART;TZID=America/Detroit:20250819T183000
DTEND;TZID=America/Detroit:20250820T020000
DTSTAMP:20260423T113606
CREATED:20241123T041759Z
LAST-MODIFIED:20250818T063630Z
UID:10004780-1755628200-1755655200@sterlingheightslionsclub.org
SUMMARY:Charity Gambling Session 8/19  (630PM-2AM)
DESCRIPTION:Charity Gambling events at Paradise  Restaurant and Banquet Hall \n13461 Hall Rd\, Utica\, MI 48315 \n(630PM-2AM) \nVolunteer here:   https://www.signupgenius.com/go/10C0844ABA92CA0FFC70-52734461-poker\n 
URL:https://sterlingheightslionsclub.org/event/charity-gambling-session-8-19-2/
LOCATION:MI
CATEGORIES:Sterling Heights Club Events
ATTACH;FMTTYPE=image/png:https://sterlingheightslionsclub.org/wp-content/uploads/2023/06/2023-06-22_23-06-55.png
END:VEVENT
BEGIN:VEVENT
DTSTART;TZID=America/Detroit:20250820T110000
DTEND;TZID=America/Detroit:20250820T180000
DTSTAMP:20260423T113606
CREATED:20241123T035259Z
LAST-MODIFIED:20250818T063719Z
UID:10004777-1755687600-1755712800@sterlingheightslionsclub.org
SUMMARY:Charity Gambling Session 8/20   (630PM-2AM)
DESCRIPTION:Charity Gambling events at Paradise  Restaurant and Banquet Hall \n13461 Hall Rd\, Utica\, MI 48315 \n(630PM-2AM) \nVolunteer here:   https://www.signupgenius.com/go/10C0844ABA92CA0FFC70-52734461-poker
URL:https://sterlingheightslionsclub.org/event/charity-gambling-session-8-18-8-21/
LOCATION:MI
CATEGORIES:Sterling Heights Club Events
ATTACH;FMTTYPE=image/png:https://sterlingheightslionsclub.org/wp-content/uploads/2023/06/2023-06-22_23-06-55.png
END:VEVENT
BEGIN:VEVENT
DTSTART;TZID=America/Detroit:20250821T183000
DTEND;TZID=America/Detroit:20250822T020000
DTSTAMP:20260423T113606
CREATED:20241123T043017Z
LAST-MODIFIED:20250818T063824Z
UID:10004778-1755801000-1755828000@sterlingheightslionsclub.org
SUMMARY:Charity Gambling Session 8/21  (630PM-2AM)
DESCRIPTION:Charity Gambling events at Paradise  Restaurant and Banquet Hall \n13461 Hall Rd\, Utica\, MI 48315 \n(630PM-2AM) \nVolunteer here:   https://www.signupgenius.com/go/10C0844ABA92CA0FFC70-52734461-poker\n 
URL:https://sterlingheightslionsclub.org/event/charity-gambling-session-8-18-8-21-2-2/
LOCATION:MI
CATEGORIES:Sterling Heights Club Events
ATTACH;FMTTYPE=image/png:https://sterlingheightslionsclub.org/wp-content/uploads/2023/06/2023-06-22_23-06-55.png
END:VEVENT
BEGIN:VEVENT
DTSTART;TZID=America/Detroit:20250824T110000
DTEND;TZID=America/Detroit:20250824T140000
DTSTAMP:20260423T113606
CREATED:20250806T042951Z
LAST-MODIFIED:20250806T043014Z
UID:10004942-1756033200-1756044000@sterlingheightslionsclub.org
SUMMARY:Beat the Heat 8-24-25
DESCRIPTION:Beat the Heat End of Summer Social\nFree Hotdogs\, Ice Cream\, Kids Activities\, and Rock Painting \nSee Flyer for Details
URL:https://sterlingheightslionsclub.org/event/beat-the-heat-8-24-25/
LOCATION:Sterling Heights Lions Club\, 12828 Canal Road\, Sterling Heights\, MI\, 48313
CATEGORIES:Sterling Heights Club Events
ATTACH;FMTTYPE=image/jpeg:https://sterlingheightslionsclub.org/wp-content/uploads/2025/08/Beat-the-Heat-8-24-25.jpg
END:VEVENT
BEGIN:VEVENT
DTSTART;TZID=America/New_York:20250826T090000
DTEND;TZID=America/New_York:20250826T110000
DTSTAMP:20260423T113606
CREATED:20250618T035857Z
LAST-MODIFIED:20250618T035858Z
UID:10002735-1756198800-1756206000@sterlingheightslionsclub.org
SUMMARY:Families Enjoy Panera Bread
DESCRIPTION:The Sterling Heights Llons Club partners with Grace Centers of Hope to help those in recovery with our generous partner Panera Bread and their End-of-Day-Doughnation of bread\, danishes\, donuts\, bagels\, cookies\, and other baked goods. \nA hardy thank you to Lion Dr Mary Welsh and Director of Donations Mark Cunningham for establishing this ongoing partnership with Panera Bread to feed those in their program. \n 
URL:https://sterlingheightslionsclub.org/event/seniors-enjoy-panera-bread-2-2-2/2025-08-26/
LOCATION:Grace Centers of Hope\, 35 East Huron Road\, Pontiac\, MI\, 48342\, United States
ATTACH;FMTTYPE=image/jpeg:https://sterlingheightslionsclub.org/wp-content/uploads/2023/06/paneraBread.jpg
END:VEVENT
END:VCALENDAR