BEGIN:VCALENDAR
VERSION:2.0
PRODID:-//Sterling Heights Lions Club - ECPv6.15.20//NONSGML v1.0//EN
CALSCALE:GREGORIAN
METHOD:PUBLISH
X-WR-CALNAME:Sterling Heights Lions Club
X-ORIGINAL-URL:https://sterlingheightslionsclub.org
X-WR-CALDESC:Events for Sterling Heights Lions Club
REFRESH-INTERVAL;VALUE=DURATION:PT1H
X-Robots-Tag:noindex
X-PUBLISHED-TTL:PT1H
BEGIN:VTIMEZONE
TZID:America/New_York
BEGIN:DAYLIGHT
TZOFFSETFROM:-0500
TZOFFSETTO:-0400
TZNAME:EDT
DTSTART:20240310T070000
END:DAYLIGHT
BEGIN:STANDARD
TZOFFSETFROM:-0400
TZOFFSETTO:-0500
TZNAME:EST
DTSTART:20241103T060000
END:STANDARD
BEGIN:DAYLIGHT
TZOFFSETFROM:-0500
TZOFFSETTO:-0400
TZNAME:EDT
DTSTART:20250309T070000
END:DAYLIGHT
BEGIN:STANDARD
TZOFFSETFROM:-0400
TZOFFSETTO:-0500
TZNAME:EST
DTSTART:20251102T060000
END:STANDARD
BEGIN:DAYLIGHT
TZOFFSETFROM:-0500
TZOFFSETTO:-0400
TZNAME:EDT
DTSTART:20260308T070000
END:DAYLIGHT
BEGIN:STANDARD
TZOFFSETFROM:-0400
TZOFFSETTO:-0500
TZNAME:EST
DTSTART:20261101T060000
END:STANDARD
END:VTIMEZONE
BEGIN:VTIMEZONE
TZID:America/Detroit
BEGIN:DAYLIGHT
TZOFFSETFROM:-0500
TZOFFSETTO:-0400
TZNAME:EDT
DTSTART:20240310T070000
END:DAYLIGHT
BEGIN:STANDARD
TZOFFSETFROM:-0400
TZOFFSETTO:-0500
TZNAME:EST
DTSTART:20241103T060000
END:STANDARD
BEGIN:DAYLIGHT
TZOFFSETFROM:-0500
TZOFFSETTO:-0400
TZNAME:EDT
DTSTART:20250309T070000
END:DAYLIGHT
BEGIN:STANDARD
TZOFFSETFROM:-0400
TZOFFSETTO:-0500
TZNAME:EST
DTSTART:20251102T060000
END:STANDARD
BEGIN:DAYLIGHT
TZOFFSETFROM:-0500
TZOFFSETTO:-0400
TZNAME:EDT
DTSTART:20260308T070000
END:DAYLIGHT
BEGIN:STANDARD
TZOFFSETFROM:-0400
TZOFFSETTO:-0500
TZNAME:EST
DTSTART:20261101T060000
END:STANDARD
END:VTIMEZONE
BEGIN:VTIMEZONE
TZID:UTC
BEGIN:STANDARD
TZOFFSETFROM:+0000
TZOFFSETTO:+0000
TZNAME:UTC
DTSTART:20240101T000000
END:STANDARD
END:VTIMEZONE
BEGIN:VEVENT
DTSTART;VALUE=DATE:20250105
DTEND;VALUE=DATE:20250106
DTSTAMP:20260419T114247
CREATED:20241006T061253Z
LAST-MODIFIED:20241127T083000Z
UID:10002597-1736035200-1736121599@sterlingheightslionsclub.org
SUMMARY:Blood Drive 1/5/25
DESCRIPTION:Blood Drive to be held 1/5/2025\n  \n \n 
URL:https://sterlingheightslionsclub.org/event/blood-drive-8-1-24-save-the-date-2/
LOCATION:Sterling Heights Lions Club\, 12828 Canal Road\, Sterling Heights\, MI\, 48313
CATEGORIES:Charitable Events,Sterling Heights Club Events
ATTACH;FMTTYPE=application/pdf:https://sterlingheightslionsclub.org/wp-content/uploads/2024/10/blood-drive-1-5-2025-1.pdf
END:VEVENT
BEGIN:VEVENT
DTSTART;TZID=America/Detroit:20250105T080000
DTEND;TZID=America/Detroit:20250105T170000
DTSTAMP:20260419T114247
CREATED:20241127T081821Z
LAST-MODIFIED:20241127T081821Z
UID:10004784-1736064000-1736096400@sterlingheightslionsclub.org
SUMMARY:Clothing and Shoe Drive
DESCRIPTION:Sterling Heights Lions Club and St Vincent De Paul \nClothing and Shoe Drive  1-5-3035 9 am to 3 pm
URL:https://sterlingheightslionsclub.org/event/clothing-and-shoe-drive/
LOCATION:MI
CATEGORIES:Charitable Events,Sterling Heights Club Events
ATTACH;FMTTYPE=image/png:https://sterlingheightslionsclub.org/wp-content/uploads/2024/11/Shoe-Clothing-Drive-Flyer-page-0.png
END:VEVENT
BEGIN:VEVENT
DTSTART;TZID=America/New_York:20250107T090000
DTEND;TZID=America/New_York:20250107T110000
DTSTAMP:20260419T114247
CREATED:20241006T083932Z
LAST-MODIFIED:20241006T085050Z
UID:10002702-1736240400-1736247600@sterlingheightslionsclub.org
SUMMARY:Seniors Enjoy Panera Bread
DESCRIPTION:Lions Basil and Judy Welsh chair the Panera Bread End of Day Dough Nation\nThe assembled and cater the morning event for the Seniors at Warren Stillwell and Joseph Coach complexs \nA hardy thank you to Panera Bread\, Lions Basil and Judy\, and the wonderful crew who take advantage of this generous weekly contribution.
URL:https://sterlingheightslionsclub.org/event/seniors-enjoy-panera-bread-2/2025-01-07/
LOCATION:Warren Stillwell Manor\, 26600 Burg Rd\,\, Warren\, MI\, 48089
ATTACH;FMTTYPE=image/jpeg:https://sterlingheightslionsclub.org/wp-content/uploads/2023/06/paneraBread.jpg
END:VEVENT
BEGIN:VEVENT
DTSTART;TZID=UTC:20250108T180000
DTEND;TZID=UTC:20250108T210000
DTSTAMP:20260419T114247
CREATED:20230321T033423Z
LAST-MODIFIED:20230623T022158Z
UID:10000028-1736359200-1736370000@sterlingheightslionsclub.org
SUMMARY:Lions Club Meeting (2nd Wednesday each month)
DESCRIPTION:Come join the Sterling Heights Lions Club for fun\, food\, and the latest updates on happening and our work in the community! \n  \n(2nd Wednesday each month)
URL:https://sterlingheightslionsclub.org/event/lions-club-meeting-5/2025-01-08/
LOCATION:Lions Club\, 12828 Canal Rd\, Sterling Heights\, MI\, 48313\, United States
ATTACH;FMTTYPE=image/png:https://sterlingheightslionsclub.org/wp-content/uploads/2023/03/Screenshot-2023-03-02-202623-Edited.png
END:VEVENT
BEGIN:VEVENT
DTSTART;TZID=America/Detroit:20250110T180000
DTEND;TZID=America/Detroit:20250110T220000
DTSTAMP:20260419T114247
CREATED:20250110T223100Z
LAST-MODIFIED:20250111T044907Z
UID:10004786-1736532000-1736546400@sterlingheightslionsclub.org
SUMMARY:Euchre
DESCRIPTION:Join us for Euchre\nJanuary 10-2025 \nFebruary14\, 2025 \nMarch 14\, 2025 \nApril 11\, 2025 \nMay 9\, 2025 \nJune 13\, 2025 \nJuly 11\, 2025 \nAugust 8\, 2025 \nSeptember12\, 2025 \nOctober 10\, 2025 \nNovember 14\, 2025 \nDecember  no euchre
URL:https://sterlingheightslionsclub.org/event/1817/2025-01-10/
LOCATION:MI
CATEGORIES:Sterling Heights Club Events
ATTACH;FMTTYPE=image/png:https://sterlingheightslionsclub.org/wp-content/uploads/2023/04/2023-06-22_22-31-32.png
END:VEVENT
BEGIN:VEVENT
DTSTART;TZID=America/New_York:20250110T180000
DTEND;TZID=America/New_York:20250110T230000
DTSTAMP:20260419T114247
CREATED:20241123T031250Z
LAST-MODIFIED:20250111T043944Z
UID:10004787-1736532000-1736550000@sterlingheightslionsclub.org
SUMMARY:Euchre
DESCRIPTION:Join us for Euchre\nJanuary 10-2025 \nFebruary14\, 2025 \nMarch 14\, 2025 \nApril 11\, 2025 \nMay 9\, 2025 \nJune 13\, 2025 \nJuly 11\, 2025 \nAugust 8\, 2025 \nSeptember12\, 2025 \nOctober 10\, 2025 \nNovember 14\, 2025 \nDecember  no euchre
URL:https://sterlingheightslionsclub.org/event/euchre-3/2025-01-10/
LOCATION:Sterling Heights Lions Club\, 12828 Canal Road\, Sterling Heights\, MI\, 48313
CATEGORIES:Charitable Events,Sterling Heights Club Events
ATTACH;FMTTYPE=image/png:https://sterlingheightslionsclub.org/wp-content/uploads/2023/04/2023-06-22_22-31-32.png
END:VEVENT
BEGIN:VEVENT
DTSTART;TZID=America/New_York:20250113T180000
DTEND;TZID=America/New_York:20250113T200000
DTSTAMP:20260419T114247
CREATED:20241006T065836Z
LAST-MODIFIED:20250812T053537Z
UID:10002603-1736791200-1736798400@sterlingheightslionsclub.org
SUMMARY:Susie Q's Kids Bag Stuffing Event
DESCRIPTION:NEW LOCATION\nSusie Q’s Kids has their monthly bag stuffing is held monthly on the 2nd Monday of each month 6 PM\nWe have moved the location from the Club to their new office located at\n35404 Mound Road\, Sterling Heights MI 48310 (Just north of 15 Mile Road)\nIf the doors are locked\, call or text 586-206-8424 for entry. \nWe assembled comfort bags for kids in need in our community on the second Monday of each month at 6 PM \nVolunteers are welcome to stop and learn about Susie Q’s Kids\, the nonprofit that will receive the comfort bags\, and about Lionism \nKids are welcome and encouraged to attend as we promote “Kids Helping Kids” \nS
URL:https://sterlingheightslionsclub.org/event/sussie-qs-kids-bag-stuffing-event-4-2-2/2025-01-13/
LOCATION:MI
CATEGORIES:Charitable Events,District 11-A2,Sterling Heights Club Events
ATTACH;FMTTYPE=image/png:https://sterlingheightslionsclub.org/wp-content/uploads/2023/06/care-house-2-cropped.png
END:VEVENT
BEGIN:VEVENT
DTSTART;TZID=America/New_York:20250114T090000
DTEND;TZID=America/New_York:20250114T110000
DTSTAMP:20260419T114247
CREATED:20241006T083932Z
LAST-MODIFIED:20241006T085050Z
UID:10002703-1736845200-1736852400@sterlingheightslionsclub.org
SUMMARY:Seniors Enjoy Panera Bread
DESCRIPTION:Lions Basil and Judy Welsh chair the Panera Bread End of Day Dough Nation\nThe assembled and cater the morning event for the Seniors at Warren Stillwell and Joseph Coach complexs \nA hardy thank you to Panera Bread\, Lions Basil and Judy\, and the wonderful crew who take advantage of this generous weekly contribution.
URL:https://sterlingheightslionsclub.org/event/seniors-enjoy-panera-bread-2/2025-01-14/
LOCATION:Warren Stillwell Manor\, 26600 Burg Rd\,\, Warren\, MI\, 48089
ATTACH;FMTTYPE=image/jpeg:https://sterlingheightslionsclub.org/wp-content/uploads/2023/06/paneraBread.jpg
END:VEVENT
BEGIN:VEVENT
DTSTART;TZID=America/New_York:20250114T180000
DTEND;TZID=America/New_York:20250114T210000
DTSTAMP:20260419T114247
CREATED:20241006T085235Z
LAST-MODIFIED:20250611T115524Z
UID:10003011-1736877600-1736888400@sterlingheightslionsclub.org
SUMMARY:Lioness Lions Club Meeting (2nd Tuesday of each month)
DESCRIPTION:Come join the Sterling Heights Lioness Lions Club for fun\, food\, and the latest updates on what is happening and our work in the community! \n  \n(2nd Tuesday of each month)
URL:https://sterlingheightslionsclub.org/event/lioness-lions-club-meeting-2nd-tuesday-of-each-month-2/2025-01-14/
LOCATION:Lions Club\, 12828 Canal Rd\, Sterling Heights\, MI\, 48313\, United States
CATEGORIES:Sterling Heights Lioness Lions Events
ATTACH;FMTTYPE=image/png:https://sterlingheightslionsclub.org/wp-content/uploads/2023/06/lioness-3.png
END:VEVENT
BEGIN:VEVENT
DTSTART;TZID=America/New_York:20250121T090000
DTEND;TZID=America/New_York:20250121T110000
DTSTAMP:20260419T114247
CREATED:20241006T083932Z
LAST-MODIFIED:20241006T085050Z
UID:10002704-1737450000-1737457200@sterlingheightslionsclub.org
SUMMARY:Seniors Enjoy Panera Bread
DESCRIPTION:Lions Basil and Judy Welsh chair the Panera Bread End of Day Dough Nation\nThe assembled and cater the morning event for the Seniors at Warren Stillwell and Joseph Coach complexs \nA hardy thank you to Panera Bread\, Lions Basil and Judy\, and the wonderful crew who take advantage of this generous weekly contribution.
URL:https://sterlingheightslionsclub.org/event/seniors-enjoy-panera-bread-2/2025-01-21/
LOCATION:Warren Stillwell Manor\, 26600 Burg Rd\,\, Warren\, MI\, 48089
ATTACH;FMTTYPE=image/jpeg:https://sterlingheightslionsclub.org/wp-content/uploads/2023/06/paneraBread.jpg
END:VEVENT
BEGIN:VEVENT
DTSTART;TZID=UTC:20250122T180000
DTEND;TZID=UTC:20250122T210000
DTSTAMP:20260419T114247
CREATED:20230623T005722Z
LAST-MODIFIED:20230623T010028Z
UID:10001168-1737568800-1737579600@sterlingheightslionsclub.org
SUMMARY:Lions Club Meeting
DESCRIPTION:Come join the Sterling Heights Lions Club for fun\, food\, and the latest updates on happening and our work in the community!
URL:https://sterlingheightslionsclub.org/event/lions-club-meeting-7/2025-01-22/
LOCATION:Lions Club\, 12828 Canal Rd\, Sterling Heights\, MI\, 48313\, United States
CATEGORIES:Sterling Heights Club Events
ATTACH;FMTTYPE=image/jpeg:https://sterlingheightslionsclub.org/wp-content/uploads/2023/03/IMG_8846-scaled.jpeg
END:VEVENT
BEGIN:VEVENT
DTSTART;TZID=UTC:20250122T180000
DTEND;TZID=UTC:20250122T210000
DTSTAMP:20260419T114247
CREATED:20230914T032034Z
LAST-MODIFIED:20230914T032314Z
UID:10001874-1737568800-1737579600@sterlingheightslionsclub.org
SUMMARY:Speaker/Activity
DESCRIPTION:Stay tuned for this week’s speaker \n 
URL:https://sterlingheightslionsclub.org/event/speaker-activity-2-4/2025-01-22/
LOCATION:Lions Club\, 12828 Canal Rd\, Sterling Heights\, MI\, 48313\, United States
CATEGORIES:Sterling Heights Club Events,Sterling Heights Lioness Lions Events
ATTACH;FMTTYPE=image/png:https://sterlingheightslionsclub.org/wp-content/uploads/2023/06/speaker.png
END:VEVENT
BEGIN:VEVENT
DTSTART;TZID=America/New_York:20250128T090000
DTEND;TZID=America/New_York:20250128T110000
DTSTAMP:20260419T114247
CREATED:20241006T083932Z
LAST-MODIFIED:20241006T085050Z
UID:10002705-1738054800-1738062000@sterlingheightslionsclub.org
SUMMARY:Seniors Enjoy Panera Bread
DESCRIPTION:Lions Basil and Judy Welsh chair the Panera Bread End of Day Dough Nation\nThe assembled and cater the morning event for the Seniors at Warren Stillwell and Joseph Coach complexs \nA hardy thank you to Panera Bread\, Lions Basil and Judy\, and the wonderful crew who take advantage of this generous weekly contribution.
URL:https://sterlingheightslionsclub.org/event/seniors-enjoy-panera-bread-2/2025-01-28/
LOCATION:Warren Stillwell Manor\, 26600 Burg Rd\,\, Warren\, MI\, 48089
ATTACH;FMTTYPE=image/jpeg:https://sterlingheightslionsclub.org/wp-content/uploads/2023/06/paneraBread.jpg
END:VEVENT
BEGIN:VEVENT
DTSTART;TZID=America/New_York:20250128T180000
DTEND;TZID=America/New_York:20250128T210000
DTSTAMP:20260419T114247
CREATED:20241006T085542Z
LAST-MODIFIED:20250611T115254Z
UID:10003070-1738087200-1738098000@sterlingheightslionsclub.org
SUMMARY:Lioness Lions Club Meeting (4th Tuesday of each month)
DESCRIPTION:Come join the Sterling Heights Lioness Lions Club for fun\, food\, and the latest updates on what is happening and our work in the community! \n  \n(4th Tuesday of each month)
URL:https://sterlingheightslionsclub.org/event/lions-club-meeting-6-2-3/2025-01-28/
LOCATION:Lions Club\, 12828 Canal Rd\, Sterling Heights\, MI\, 48313\, United States
CATEGORIES:Sterling Heights Lioness Lions Events
ATTACH;FMTTYPE=image/png:https://sterlingheightslionsclub.org/wp-content/uploads/2023/06/lioness-3.png
END:VEVENT
END:VCALENDAR