BEGIN:VCALENDAR
VERSION:2.0
PRODID:-//Sterling Heights Lions Club - ECPv6.15.20//NONSGML v1.0//EN
CALSCALE:GREGORIAN
METHOD:PUBLISH
X-ORIGINAL-URL:https://sterlingheightslionsclub.org
X-WR-CALDESC:Events for Sterling Heights Lions Club
REFRESH-INTERVAL;VALUE=DURATION:PT1H
X-Robots-Tag:noindex
X-PUBLISHED-TTL:PT1H
BEGIN:VTIMEZONE
TZID:America/New_York
BEGIN:DAYLIGHT
TZOFFSETFROM:-0500
TZOFFSETTO:-0400
TZNAME:EDT
DTSTART:20260308T070000
END:DAYLIGHT
BEGIN:STANDARD
TZOFFSETFROM:-0400
TZOFFSETTO:-0500
TZNAME:EST
DTSTART:20261101T060000
END:STANDARD
BEGIN:DAYLIGHT
TZOFFSETFROM:-0500
TZOFFSETTO:-0400
TZNAME:EDT
DTSTART:20270314T070000
END:DAYLIGHT
BEGIN:STANDARD
TZOFFSETFROM:-0400
TZOFFSETTO:-0500
TZNAME:EST
DTSTART:20271107T060000
END:STANDARD
BEGIN:DAYLIGHT
TZOFFSETFROM:-0500
TZOFFSETTO:-0400
TZNAME:EDT
DTSTART:20280312T070000
END:DAYLIGHT
BEGIN:STANDARD
TZOFFSETFROM:-0400
TZOFFSETTO:-0500
TZNAME:EST
DTSTART:20281105T060000
END:STANDARD
BEGIN:DAYLIGHT
TZOFFSETFROM:-0500
TZOFFSETTO:-0400
TZNAME:EDT
DTSTART:20290311T070000
END:DAYLIGHT
BEGIN:STANDARD
TZOFFSETFROM:-0400
TZOFFSETTO:-0500
TZNAME:EST
DTSTART:20291104T060000
END:STANDARD
END:VTIMEZONE
BEGIN:VTIMEZONE
TZID:UTC
BEGIN:STANDARD
TZOFFSETFROM:+0000
TZOFFSETTO:+0000
TZNAME:UTC
DTSTART:20260101T000000
END:STANDARD
END:VTIMEZONE
BEGIN:VTIMEZONE
TZID:America/Detroit
BEGIN:DAYLIGHT
TZOFFSETFROM:-0500
TZOFFSETTO:-0400
TZNAME:EDT
DTSTART:20260308T070000
END:DAYLIGHT
BEGIN:STANDARD
TZOFFSETFROM:-0400
TZOFFSETTO:-0500
TZNAME:EST
DTSTART:20261101T060000
END:STANDARD
BEGIN:DAYLIGHT
TZOFFSETFROM:-0500
TZOFFSETTO:-0400
TZNAME:EDT
DTSTART:20270314T070000
END:DAYLIGHT
BEGIN:STANDARD
TZOFFSETFROM:-0400
TZOFFSETTO:-0500
TZNAME:EST
DTSTART:20271107T060000
END:STANDARD
BEGIN:DAYLIGHT
TZOFFSETFROM:-0500
TZOFFSETTO:-0400
TZNAME:EDT
DTSTART:20280312T070000
END:DAYLIGHT
BEGIN:STANDARD
TZOFFSETFROM:-0400
TZOFFSETTO:-0500
TZNAME:EST
DTSTART:20281105T060000
END:STANDARD
BEGIN:DAYLIGHT
TZOFFSETFROM:-0500
TZOFFSETTO:-0400
TZNAME:EDT
DTSTART:20290311T070000
END:DAYLIGHT
BEGIN:STANDARD
TZOFFSETFROM:-0400
TZOFFSETTO:-0500
TZNAME:EST
DTSTART:20291104T060000
END:STANDARD
END:VTIMEZONE
BEGIN:VEVENT
DTSTART;TZID=America/New_York:20271109T090000
DTEND;TZID=America/New_York:20271109T110000
DTSTAMP:20260425T114426
CREATED:20250618T035857Z
LAST-MODIFIED:20250618T035858Z
UID:10002850-1825750800-1825758000@sterlingheightslionsclub.org
SUMMARY:Families Enjoy Panera Bread
DESCRIPTION:The Sterling Heights Llons Club partners with Grace Centers of Hope to help those in recovery with our generous partner Panera Bread and their End-of-Day-Doughnation of bread\, danishes\, donuts\, bagels\, cookies\, and other baked goods. \nA hardy thank you to Lion Dr Mary Welsh and Director of Donations Mark Cunningham for establishing this ongoing partnership with Panera Bread to feed those in their program. \n 
URL:https://sterlingheightslionsclub.org/event/seniors-enjoy-panera-bread-2-2-2/2027-11-09/
LOCATION:Grace Centers of Hope\, 35 East Huron Road\, Pontiac\, MI\, 48342\, United States
ATTACH;FMTTYPE=image/jpeg:https://sterlingheightslionsclub.org/wp-content/uploads/2023/06/paneraBread.jpg
END:VEVENT
BEGIN:VEVENT
DTSTART;TZID=UTC:20271110T180000
DTEND;TZID=UTC:20271110T210000
DTSTAMP:20260425T114426
CREATED:20230321T033423Z
LAST-MODIFIED:20230623T022158Z
UID:10000062-1825869600-1825880400@sterlingheightslionsclub.org
SUMMARY:Lions Club Meeting (2nd Wednesday each month)
DESCRIPTION:Come join the Sterling Heights Lions Club for fun\, food\, and the latest updates on happening and our work in the community! \n  \n(2nd Wednesday each month)
URL:https://sterlingheightslionsclub.org/event/lions-club-meeting-5/2027-11-10/
LOCATION:Lions Club\, 12828 Canal Rd\, Sterling Heights\, MI\, 48313\, United States
ATTACH;FMTTYPE=image/png:https://sterlingheightslionsclub.org/wp-content/uploads/2023/03/Screenshot-2023-03-02-202623-Edited.png
END:VEVENT
BEGIN:VEVENT
DTSTART;TZID=America/Detroit:20271112T180000
DTEND;TZID=America/Detroit:20271112T220000
DTSTAMP:20260425T114426
CREATED:20250110T223100Z
LAST-MODIFIED:20250111T044907Z
UID:10004825-1826042400-1826056800@sterlingheightslionsclub.org
SUMMARY:Euchre
DESCRIPTION:Join us for Euchre\nJanuary 10-2025 \nFebruary14\, 2025 \nMarch 14\, 2025 \nApril 11\, 2025 \nMay 9\, 2025 \nJune 13\, 2025 \nJuly 11\, 2025 \nAugust 8\, 2025 \nSeptember12\, 2025 \nOctober 10\, 2025 \nNovember 14\, 2025 \nDecember  no euchre
URL:https://sterlingheightslionsclub.org/event/1817/2027-11-12/
LOCATION:MI
CATEGORIES:Sterling Heights Club Events
ATTACH;FMTTYPE=image/png:https://sterlingheightslionsclub.org/wp-content/uploads/2023/04/2023-06-22_22-31-32.png
END:VEVENT
BEGIN:VEVENT
DTSTART;TZID=America/New_York:20271116T090000
DTEND;TZID=America/New_York:20271116T110000
DTSTAMP:20260425T114426
CREATED:20250618T035857Z
LAST-MODIFIED:20250618T035858Z
UID:10002851-1826355600-1826362800@sterlingheightslionsclub.org
SUMMARY:Families Enjoy Panera Bread
DESCRIPTION:The Sterling Heights Llons Club partners with Grace Centers of Hope to help those in recovery with our generous partner Panera Bread and their End-of-Day-Doughnation of bread\, danishes\, donuts\, bagels\, cookies\, and other baked goods. \nA hardy thank you to Lion Dr Mary Welsh and Director of Donations Mark Cunningham for establishing this ongoing partnership with Panera Bread to feed those in their program. \n 
URL:https://sterlingheightslionsclub.org/event/seniors-enjoy-panera-bread-2-2-2/2027-11-16/
LOCATION:Grace Centers of Hope\, 35 East Huron Road\, Pontiac\, MI\, 48342\, United States
ATTACH;FMTTYPE=image/jpeg:https://sterlingheightslionsclub.org/wp-content/uploads/2023/06/paneraBread.jpg
END:VEVENT
BEGIN:VEVENT
DTSTART;TZID=America/New_York:20271123T090000
DTEND;TZID=America/New_York:20271123T110000
DTSTAMP:20260425T114426
CREATED:20250618T035857Z
LAST-MODIFIED:20250618T035858Z
UID:10002852-1826960400-1826967600@sterlingheightslionsclub.org
SUMMARY:Families Enjoy Panera Bread
DESCRIPTION:The Sterling Heights Llons Club partners with Grace Centers of Hope to help those in recovery with our generous partner Panera Bread and their End-of-Day-Doughnation of bread\, danishes\, donuts\, bagels\, cookies\, and other baked goods. \nA hardy thank you to Lion Dr Mary Welsh and Director of Donations Mark Cunningham for establishing this ongoing partnership with Panera Bread to feed those in their program. \n 
URL:https://sterlingheightslionsclub.org/event/seniors-enjoy-panera-bread-2-2-2/2027-11-23/
LOCATION:Grace Centers of Hope\, 35 East Huron Road\, Pontiac\, MI\, 48342\, United States
ATTACH;FMTTYPE=image/jpeg:https://sterlingheightslionsclub.org/wp-content/uploads/2023/06/paneraBread.jpg
END:VEVENT
BEGIN:VEVENT
DTSTART;TZID=UTC:20271124T180000
DTEND;TZID=UTC:20271124T210000
DTSTAMP:20260425T114426
CREATED:20230623T005722Z
LAST-MODIFIED:20230623T010028Z
UID:10001202-1827079200-1827090000@sterlingheightslionsclub.org
SUMMARY:Lions Club Meeting
DESCRIPTION:Come join the Sterling Heights Lions Club for fun\, food\, and the latest updates on happening and our work in the community!
URL:https://sterlingheightslionsclub.org/event/lions-club-meeting-7/2027-11-24/
LOCATION:Lions Club\, 12828 Canal Rd\, Sterling Heights\, MI\, 48313\, United States
CATEGORIES:Sterling Heights Club Events
ATTACH;FMTTYPE=image/jpeg:https://sterlingheightslionsclub.org/wp-content/uploads/2023/03/IMG_8846-scaled.jpeg
END:VEVENT
BEGIN:VEVENT
DTSTART;TZID=America/New_York:20271130T090000
DTEND;TZID=America/New_York:20271130T110000
DTSTAMP:20260425T114426
CREATED:20250618T035857Z
LAST-MODIFIED:20250618T035858Z
UID:10002853-1827565200-1827572400@sterlingheightslionsclub.org
SUMMARY:Families Enjoy Panera Bread
DESCRIPTION:The Sterling Heights Llons Club partners with Grace Centers of Hope to help those in recovery with our generous partner Panera Bread and their End-of-Day-Doughnation of bread\, danishes\, donuts\, bagels\, cookies\, and other baked goods. \nA hardy thank you to Lion Dr Mary Welsh and Director of Donations Mark Cunningham for establishing this ongoing partnership with Panera Bread to feed those in their program. \n 
URL:https://sterlingheightslionsclub.org/event/seniors-enjoy-panera-bread-2-2-2/2027-11-30/
LOCATION:Grace Centers of Hope\, 35 East Huron Road\, Pontiac\, MI\, 48342\, United States
ATTACH;FMTTYPE=image/jpeg:https://sterlingheightslionsclub.org/wp-content/uploads/2023/06/paneraBread.jpg
END:VEVENT
BEGIN:VEVENT
DTSTART;TZID=America/New_York:20271207T090000
DTEND;TZID=America/New_York:20271207T110000
DTSTAMP:20260425T114426
CREATED:20250618T035857Z
LAST-MODIFIED:20250618T035858Z
UID:10002854-1828170000-1828177200@sterlingheightslionsclub.org
SUMMARY:Families Enjoy Panera Bread
DESCRIPTION:The Sterling Heights Llons Club partners with Grace Centers of Hope to help those in recovery with our generous partner Panera Bread and their End-of-Day-Doughnation of bread\, danishes\, donuts\, bagels\, cookies\, and other baked goods. \nA hardy thank you to Lion Dr Mary Welsh and Director of Donations Mark Cunningham for establishing this ongoing partnership with Panera Bread to feed those in their program. \n 
URL:https://sterlingheightslionsclub.org/event/seniors-enjoy-panera-bread-2-2-2/2027-12-07/
LOCATION:Grace Centers of Hope\, 35 East Huron Road\, Pontiac\, MI\, 48342\, United States
ATTACH;FMTTYPE=image/jpeg:https://sterlingheightslionsclub.org/wp-content/uploads/2023/06/paneraBread.jpg
END:VEVENT
BEGIN:VEVENT
DTSTART;TZID=UTC:20271208T180000
DTEND;TZID=UTC:20271208T210000
DTSTAMP:20260425T114426
CREATED:20230321T033423Z
LAST-MODIFIED:20230623T022158Z
UID:10000063-1828288800-1828299600@sterlingheightslionsclub.org
SUMMARY:Lions Club Meeting (2nd Wednesday each month)
DESCRIPTION:Come join the Sterling Heights Lions Club for fun\, food\, and the latest updates on happening and our work in the community! \n  \n(2nd Wednesday each month)
URL:https://sterlingheightslionsclub.org/event/lions-club-meeting-5/2027-12-08/
LOCATION:Lions Club\, 12828 Canal Rd\, Sterling Heights\, MI\, 48313\, United States
ATTACH;FMTTYPE=image/png:https://sterlingheightslionsclub.org/wp-content/uploads/2023/03/Screenshot-2023-03-02-202623-Edited.png
END:VEVENT
BEGIN:VEVENT
DTSTART;TZID=America/Detroit:20271210T180000
DTEND;TZID=America/Detroit:20271210T220000
DTSTAMP:20260425T114426
CREATED:20250110T223100Z
LAST-MODIFIED:20250111T044907Z
UID:10004826-1828461600-1828476000@sterlingheightslionsclub.org
SUMMARY:Euchre
DESCRIPTION:Join us for Euchre\nJanuary 10-2025 \nFebruary14\, 2025 \nMarch 14\, 2025 \nApril 11\, 2025 \nMay 9\, 2025 \nJune 13\, 2025 \nJuly 11\, 2025 \nAugust 8\, 2025 \nSeptember12\, 2025 \nOctober 10\, 2025 \nNovember 14\, 2025 \nDecember  no euchre
URL:https://sterlingheightslionsclub.org/event/1817/2027-12-10/
LOCATION:MI
CATEGORIES:Sterling Heights Club Events
ATTACH;FMTTYPE=image/png:https://sterlingheightslionsclub.org/wp-content/uploads/2023/04/2023-06-22_22-31-32.png
END:VEVENT
BEGIN:VEVENT
DTSTART;TZID=America/New_York:20271214T090000
DTEND;TZID=America/New_York:20271214T110000
DTSTAMP:20260425T114426
CREATED:20250618T035857Z
LAST-MODIFIED:20250618T035858Z
UID:10002855-1828774800-1828782000@sterlingheightslionsclub.org
SUMMARY:Families Enjoy Panera Bread
DESCRIPTION:The Sterling Heights Llons Club partners with Grace Centers of Hope to help those in recovery with our generous partner Panera Bread and their End-of-Day-Doughnation of bread\, danishes\, donuts\, bagels\, cookies\, and other baked goods. \nA hardy thank you to Lion Dr Mary Welsh and Director of Donations Mark Cunningham for establishing this ongoing partnership with Panera Bread to feed those in their program. \n 
URL:https://sterlingheightslionsclub.org/event/seniors-enjoy-panera-bread-2-2-2/2027-12-14/
LOCATION:Grace Centers of Hope\, 35 East Huron Road\, Pontiac\, MI\, 48342\, United States
ATTACH;FMTTYPE=image/jpeg:https://sterlingheightslionsclub.org/wp-content/uploads/2023/06/paneraBread.jpg
END:VEVENT
BEGIN:VEVENT
DTSTART;TZID=America/New_York:20271221T090000
DTEND;TZID=America/New_York:20271221T110000
DTSTAMP:20260425T114426
CREATED:20250618T035857Z
LAST-MODIFIED:20250618T035858Z
UID:10002856-1829379600-1829386800@sterlingheightslionsclub.org
SUMMARY:Families Enjoy Panera Bread
DESCRIPTION:The Sterling Heights Llons Club partners with Grace Centers of Hope to help those in recovery with our generous partner Panera Bread and their End-of-Day-Doughnation of bread\, danishes\, donuts\, bagels\, cookies\, and other baked goods. \nA hardy thank you to Lion Dr Mary Welsh and Director of Donations Mark Cunningham for establishing this ongoing partnership with Panera Bread to feed those in their program. \n 
URL:https://sterlingheightslionsclub.org/event/seniors-enjoy-panera-bread-2-2-2/2027-12-21/
LOCATION:Grace Centers of Hope\, 35 East Huron Road\, Pontiac\, MI\, 48342\, United States
ATTACH;FMTTYPE=image/jpeg:https://sterlingheightslionsclub.org/wp-content/uploads/2023/06/paneraBread.jpg
END:VEVENT
BEGIN:VEVENT
DTSTART;TZID=UTC:20271222T180000
DTEND;TZID=UTC:20271222T210000
DTSTAMP:20260425T114426
CREATED:20230623T005722Z
LAST-MODIFIED:20230623T010028Z
UID:10001203-1829498400-1829509200@sterlingheightslionsclub.org
SUMMARY:Lions Club Meeting
DESCRIPTION:Come join the Sterling Heights Lions Club for fun\, food\, and the latest updates on happening and our work in the community!
URL:https://sterlingheightslionsclub.org/event/lions-club-meeting-7/2027-12-22/
LOCATION:Lions Club\, 12828 Canal Rd\, Sterling Heights\, MI\, 48313\, United States
CATEGORIES:Sterling Heights Club Events
ATTACH;FMTTYPE=image/jpeg:https://sterlingheightslionsclub.org/wp-content/uploads/2023/03/IMG_8846-scaled.jpeg
END:VEVENT
BEGIN:VEVENT
DTSTART;TZID=America/New_York:20271228T090000
DTEND;TZID=America/New_York:20271228T110000
DTSTAMP:20260425T114426
CREATED:20250618T035857Z
LAST-MODIFIED:20250618T035858Z
UID:10002857-1829984400-1829991600@sterlingheightslionsclub.org
SUMMARY:Families Enjoy Panera Bread
DESCRIPTION:The Sterling Heights Llons Club partners with Grace Centers of Hope to help those in recovery with our generous partner Panera Bread and their End-of-Day-Doughnation of bread\, danishes\, donuts\, bagels\, cookies\, and other baked goods. \nA hardy thank you to Lion Dr Mary Welsh and Director of Donations Mark Cunningham for establishing this ongoing partnership with Panera Bread to feed those in their program. \n 
URL:https://sterlingheightslionsclub.org/event/seniors-enjoy-panera-bread-2-2-2/2027-12-28/
LOCATION:Grace Centers of Hope\, 35 East Huron Road\, Pontiac\, MI\, 48342\, United States
ATTACH;FMTTYPE=image/jpeg:https://sterlingheightslionsclub.org/wp-content/uploads/2023/06/paneraBread.jpg
END:VEVENT
BEGIN:VEVENT
DTSTART;TZID=America/New_York:20280104T090000
DTEND;TZID=America/New_York:20280104T110000
DTSTAMP:20260425T114426
CREATED:20250618T035857Z
LAST-MODIFIED:20250618T035858Z
UID:10002858-1830589200-1830596400@sterlingheightslionsclub.org
SUMMARY:Families Enjoy Panera Bread
DESCRIPTION:The Sterling Heights Llons Club partners with Grace Centers of Hope to help those in recovery with our generous partner Panera Bread and their End-of-Day-Doughnation of bread\, danishes\, donuts\, bagels\, cookies\, and other baked goods. \nA hardy thank you to Lion Dr Mary Welsh and Director of Donations Mark Cunningham for establishing this ongoing partnership with Panera Bread to feed those in their program. \n 
URL:https://sterlingheightslionsclub.org/event/seniors-enjoy-panera-bread-2-2-2/2028-01-04/
LOCATION:Grace Centers of Hope\, 35 East Huron Road\, Pontiac\, MI\, 48342\, United States
ATTACH;FMTTYPE=image/jpeg:https://sterlingheightslionsclub.org/wp-content/uploads/2023/06/paneraBread.jpg
END:VEVENT
BEGIN:VEVENT
DTSTART;TZID=America/New_York:20280111T090000
DTEND;TZID=America/New_York:20280111T110000
DTSTAMP:20260425T114426
CREATED:20250618T035857Z
LAST-MODIFIED:20250618T035858Z
UID:10002859-1831194000-1831201200@sterlingheightslionsclub.org
SUMMARY:Families Enjoy Panera Bread
DESCRIPTION:The Sterling Heights Llons Club partners with Grace Centers of Hope to help those in recovery with our generous partner Panera Bread and their End-of-Day-Doughnation of bread\, danishes\, donuts\, bagels\, cookies\, and other baked goods. \nA hardy thank you to Lion Dr Mary Welsh and Director of Donations Mark Cunningham for establishing this ongoing partnership with Panera Bread to feed those in their program. \n 
URL:https://sterlingheightslionsclub.org/event/seniors-enjoy-panera-bread-2-2-2/2028-01-11/
LOCATION:Grace Centers of Hope\, 35 East Huron Road\, Pontiac\, MI\, 48342\, United States
ATTACH;FMTTYPE=image/jpeg:https://sterlingheightslionsclub.org/wp-content/uploads/2023/06/paneraBread.jpg
END:VEVENT
BEGIN:VEVENT
DTSTART;TZID=UTC:20280112T180000
DTEND;TZID=UTC:20280112T210000
DTSTAMP:20260425T114426
CREATED:20230321T033423Z
LAST-MODIFIED:20230623T022158Z
UID:10000064-1831312800-1831323600@sterlingheightslionsclub.org
SUMMARY:Lions Club Meeting (2nd Wednesday each month)
DESCRIPTION:Come join the Sterling Heights Lions Club for fun\, food\, and the latest updates on happening and our work in the community! \n  \n(2nd Wednesday each month)
URL:https://sterlingheightslionsclub.org/event/lions-club-meeting-5/2028-01-12/
LOCATION:Lions Club\, 12828 Canal Rd\, Sterling Heights\, MI\, 48313\, United States
ATTACH;FMTTYPE=image/png:https://sterlingheightslionsclub.org/wp-content/uploads/2023/03/Screenshot-2023-03-02-202623-Edited.png
END:VEVENT
BEGIN:VEVENT
DTSTART;TZID=America/Detroit:20280114T180000
DTEND;TZID=America/Detroit:20280114T220000
DTSTAMP:20260425T114426
CREATED:20250110T223100Z
LAST-MODIFIED:20250111T044907Z
UID:10004827-1831485600-1831500000@sterlingheightslionsclub.org
SUMMARY:Euchre
DESCRIPTION:Join us for Euchre\nJanuary 10-2025 \nFebruary14\, 2025 \nMarch 14\, 2025 \nApril 11\, 2025 \nMay 9\, 2025 \nJune 13\, 2025 \nJuly 11\, 2025 \nAugust 8\, 2025 \nSeptember12\, 2025 \nOctober 10\, 2025 \nNovember 14\, 2025 \nDecember  no euchre
URL:https://sterlingheightslionsclub.org/event/1817/2028-01-14/
LOCATION:MI
CATEGORIES:Sterling Heights Club Events
ATTACH;FMTTYPE=image/png:https://sterlingheightslionsclub.org/wp-content/uploads/2023/04/2023-06-22_22-31-32.png
END:VEVENT
BEGIN:VEVENT
DTSTART;TZID=America/New_York:20280114T180000
DTEND;TZID=America/New_York:20280114T230000
DTSTAMP:20260425T114426
CREATED:20241123T031250Z
LAST-MODIFIED:20250111T043944Z
UID:10004790-1831485600-1831503600@sterlingheightslionsclub.org
SUMMARY:Euchre
DESCRIPTION:Join us for Euchre\nJanuary 10-2025 \nFebruary14\, 2025 \nMarch 14\, 2025 \nApril 11\, 2025 \nMay 9\, 2025 \nJune 13\, 2025 \nJuly 11\, 2025 \nAugust 8\, 2025 \nSeptember12\, 2025 \nOctober 10\, 2025 \nNovember 14\, 2025 \nDecember  no euchre
URL:https://sterlingheightslionsclub.org/event/euchre-3/2028-01-14/
LOCATION:Sterling Heights Lions Club\, 12828 Canal Road\, Sterling Heights\, MI\, 48313
CATEGORIES:Charitable Events,Sterling Heights Club Events
ATTACH;FMTTYPE=image/png:https://sterlingheightslionsclub.org/wp-content/uploads/2023/04/2023-06-22_22-31-32.png
END:VEVENT
BEGIN:VEVENT
DTSTART;TZID=America/New_York:20280118T090000
DTEND;TZID=America/New_York:20280118T110000
DTSTAMP:20260425T114426
CREATED:20250618T035857Z
LAST-MODIFIED:20250618T035858Z
UID:10002860-1831798800-1831806000@sterlingheightslionsclub.org
SUMMARY:Families Enjoy Panera Bread
DESCRIPTION:The Sterling Heights Llons Club partners with Grace Centers of Hope to help those in recovery with our generous partner Panera Bread and their End-of-Day-Doughnation of bread\, danishes\, donuts\, bagels\, cookies\, and other baked goods. \nA hardy thank you to Lion Dr Mary Welsh and Director of Donations Mark Cunningham for establishing this ongoing partnership with Panera Bread to feed those in their program. \n 
URL:https://sterlingheightslionsclub.org/event/seniors-enjoy-panera-bread-2-2-2/2028-01-18/
LOCATION:Grace Centers of Hope\, 35 East Huron Road\, Pontiac\, MI\, 48342\, United States
ATTACH;FMTTYPE=image/jpeg:https://sterlingheightslionsclub.org/wp-content/uploads/2023/06/paneraBread.jpg
END:VEVENT
BEGIN:VEVENT
DTSTART;TZID=America/New_York:20280125T090000
DTEND;TZID=America/New_York:20280125T110000
DTSTAMP:20260425T114426
CREATED:20250618T035857Z
LAST-MODIFIED:20250618T035858Z
UID:10002861-1832403600-1832410800@sterlingheightslionsclub.org
SUMMARY:Families Enjoy Panera Bread
DESCRIPTION:The Sterling Heights Llons Club partners with Grace Centers of Hope to help those in recovery with our generous partner Panera Bread and their End-of-Day-Doughnation of bread\, danishes\, donuts\, bagels\, cookies\, and other baked goods. \nA hardy thank you to Lion Dr Mary Welsh and Director of Donations Mark Cunningham for establishing this ongoing partnership with Panera Bread to feed those in their program. \n 
URL:https://sterlingheightslionsclub.org/event/seniors-enjoy-panera-bread-2-2-2/2028-01-25/
LOCATION:Grace Centers of Hope\, 35 East Huron Road\, Pontiac\, MI\, 48342\, United States
ATTACH;FMTTYPE=image/jpeg:https://sterlingheightslionsclub.org/wp-content/uploads/2023/06/paneraBread.jpg
END:VEVENT
BEGIN:VEVENT
DTSTART;TZID=UTC:20280126T180000
DTEND;TZID=UTC:20280126T210000
DTSTAMP:20260425T114426
CREATED:20230623T005722Z
LAST-MODIFIED:20230623T010028Z
UID:10001204-1832522400-1832533200@sterlingheightslionsclub.org
SUMMARY:Lions Club Meeting
DESCRIPTION:Come join the Sterling Heights Lions Club for fun\, food\, and the latest updates on happening and our work in the community!
URL:https://sterlingheightslionsclub.org/event/lions-club-meeting-7/2028-01-26/
LOCATION:Lions Club\, 12828 Canal Rd\, Sterling Heights\, MI\, 48313\, United States
CATEGORIES:Sterling Heights Club Events
ATTACH;FMTTYPE=image/jpeg:https://sterlingheightslionsclub.org/wp-content/uploads/2023/03/IMG_8846-scaled.jpeg
END:VEVENT
BEGIN:VEVENT
DTSTART;TZID=America/New_York:20280201T090000
DTEND;TZID=America/New_York:20280201T110000
DTSTAMP:20260425T114426
CREATED:20250618T035857Z
LAST-MODIFIED:20250618T035858Z
UID:10002862-1833008400-1833015600@sterlingheightslionsclub.org
SUMMARY:Families Enjoy Panera Bread
DESCRIPTION:The Sterling Heights Llons Club partners with Grace Centers of Hope to help those in recovery with our generous partner Panera Bread and their End-of-Day-Doughnation of bread\, danishes\, donuts\, bagels\, cookies\, and other baked goods. \nA hardy thank you to Lion Dr Mary Welsh and Director of Donations Mark Cunningham for establishing this ongoing partnership with Panera Bread to feed those in their program. \n 
URL:https://sterlingheightslionsclub.org/event/seniors-enjoy-panera-bread-2-2-2/2028-02-01/
LOCATION:Grace Centers of Hope\, 35 East Huron Road\, Pontiac\, MI\, 48342\, United States
ATTACH;FMTTYPE=image/jpeg:https://sterlingheightslionsclub.org/wp-content/uploads/2023/06/paneraBread.jpg
END:VEVENT
BEGIN:VEVENT
DTSTART;TZID=America/New_York:20280208T090000
DTEND;TZID=America/New_York:20280208T110000
DTSTAMP:20260425T114426
CREATED:20250618T035857Z
LAST-MODIFIED:20250618T035858Z
UID:10002863-1833613200-1833620400@sterlingheightslionsclub.org
SUMMARY:Families Enjoy Panera Bread
DESCRIPTION:The Sterling Heights Llons Club partners with Grace Centers of Hope to help those in recovery with our generous partner Panera Bread and their End-of-Day-Doughnation of bread\, danishes\, donuts\, bagels\, cookies\, and other baked goods. \nA hardy thank you to Lion Dr Mary Welsh and Director of Donations Mark Cunningham for establishing this ongoing partnership with Panera Bread to feed those in their program. \n 
URL:https://sterlingheightslionsclub.org/event/seniors-enjoy-panera-bread-2-2-2/2028-02-08/
LOCATION:Grace Centers of Hope\, 35 East Huron Road\, Pontiac\, MI\, 48342\, United States
ATTACH;FMTTYPE=image/jpeg:https://sterlingheightslionsclub.org/wp-content/uploads/2023/06/paneraBread.jpg
END:VEVENT
BEGIN:VEVENT
DTSTART;TZID=UTC:20280209T180000
DTEND;TZID=UTC:20280209T210000
DTSTAMP:20260425T114426
CREATED:20230321T033423Z
LAST-MODIFIED:20230623T022158Z
UID:10000065-1833732000-1833742800@sterlingheightslionsclub.org
SUMMARY:Lions Club Meeting (2nd Wednesday each month)
DESCRIPTION:Come join the Sterling Heights Lions Club for fun\, food\, and the latest updates on happening and our work in the community! \n  \n(2nd Wednesday each month)
URL:https://sterlingheightslionsclub.org/event/lions-club-meeting-5/2028-02-09/
LOCATION:Lions Club\, 12828 Canal Rd\, Sterling Heights\, MI\, 48313\, United States
ATTACH;FMTTYPE=image/png:https://sterlingheightslionsclub.org/wp-content/uploads/2023/03/Screenshot-2023-03-02-202623-Edited.png
END:VEVENT
BEGIN:VEVENT
DTSTART;TZID=America/Detroit:20280211T180000
DTEND;TZID=America/Detroit:20280211T220000
DTSTAMP:20260425T114426
CREATED:20250110T223100Z
LAST-MODIFIED:20250111T044907Z
UID:10004828-1833904800-1833919200@sterlingheightslionsclub.org
SUMMARY:Euchre
DESCRIPTION:Join us for Euchre\nJanuary 10-2025 \nFebruary14\, 2025 \nMarch 14\, 2025 \nApril 11\, 2025 \nMay 9\, 2025 \nJune 13\, 2025 \nJuly 11\, 2025 \nAugust 8\, 2025 \nSeptember12\, 2025 \nOctober 10\, 2025 \nNovember 14\, 2025 \nDecember  no euchre
URL:https://sterlingheightslionsclub.org/event/1817/2028-02-11/
LOCATION:MI
CATEGORIES:Sterling Heights Club Events
ATTACH;FMTTYPE=image/png:https://sterlingheightslionsclub.org/wp-content/uploads/2023/04/2023-06-22_22-31-32.png
END:VEVENT
BEGIN:VEVENT
DTSTART;TZID=America/New_York:20280215T090000
DTEND;TZID=America/New_York:20280215T110000
DTSTAMP:20260425T114426
CREATED:20250618T035857Z
LAST-MODIFIED:20250618T035858Z
UID:10002864-1834218000-1834225200@sterlingheightslionsclub.org
SUMMARY:Families Enjoy Panera Bread
DESCRIPTION:The Sterling Heights Llons Club partners with Grace Centers of Hope to help those in recovery with our generous partner Panera Bread and their End-of-Day-Doughnation of bread\, danishes\, donuts\, bagels\, cookies\, and other baked goods. \nA hardy thank you to Lion Dr Mary Welsh and Director of Donations Mark Cunningham for establishing this ongoing partnership with Panera Bread to feed those in their program. \n 
URL:https://sterlingheightslionsclub.org/event/seniors-enjoy-panera-bread-2-2-2/2028-02-15/
LOCATION:Grace Centers of Hope\, 35 East Huron Road\, Pontiac\, MI\, 48342\, United States
ATTACH;FMTTYPE=image/jpeg:https://sterlingheightslionsclub.org/wp-content/uploads/2023/06/paneraBread.jpg
END:VEVENT
BEGIN:VEVENT
DTSTART;TZID=America/New_York:20280222T090000
DTEND;TZID=America/New_York:20280222T110000
DTSTAMP:20260425T114426
CREATED:20250618T035857Z
LAST-MODIFIED:20250618T035858Z
UID:10002865-1834822800-1834830000@sterlingheightslionsclub.org
SUMMARY:Families Enjoy Panera Bread
DESCRIPTION:The Sterling Heights Llons Club partners with Grace Centers of Hope to help those in recovery with our generous partner Panera Bread and their End-of-Day-Doughnation of bread\, danishes\, donuts\, bagels\, cookies\, and other baked goods. \nA hardy thank you to Lion Dr Mary Welsh and Director of Donations Mark Cunningham for establishing this ongoing partnership with Panera Bread to feed those in their program. \n 
URL:https://sterlingheightslionsclub.org/event/seniors-enjoy-panera-bread-2-2-2/2028-02-22/
LOCATION:Grace Centers of Hope\, 35 East Huron Road\, Pontiac\, MI\, 48342\, United States
ATTACH;FMTTYPE=image/jpeg:https://sterlingheightslionsclub.org/wp-content/uploads/2023/06/paneraBread.jpg
END:VEVENT
BEGIN:VEVENT
DTSTART;TZID=UTC:20280223T180000
DTEND;TZID=UTC:20280223T210000
DTSTAMP:20260425T114426
CREATED:20230623T005722Z
LAST-MODIFIED:20230623T010028Z
UID:10001205-1834941600-1834952400@sterlingheightslionsclub.org
SUMMARY:Lions Club Meeting
DESCRIPTION:Come join the Sterling Heights Lions Club for fun\, food\, and the latest updates on happening and our work in the community!
URL:https://sterlingheightslionsclub.org/event/lions-club-meeting-7/2028-02-23/
LOCATION:Lions Club\, 12828 Canal Rd\, Sterling Heights\, MI\, 48313\, United States
CATEGORIES:Sterling Heights Club Events
ATTACH;FMTTYPE=image/jpeg:https://sterlingheightslionsclub.org/wp-content/uploads/2023/03/IMG_8846-scaled.jpeg
END:VEVENT
BEGIN:VEVENT
DTSTART;TZID=America/New_York:20280229T090000
DTEND;TZID=America/New_York:20280229T110000
DTSTAMP:20260425T114426
CREATED:20250618T035857Z
LAST-MODIFIED:20250618T035858Z
UID:10002866-1835427600-1835434800@sterlingheightslionsclub.org
SUMMARY:Families Enjoy Panera Bread
DESCRIPTION:The Sterling Heights Llons Club partners with Grace Centers of Hope to help those in recovery with our generous partner Panera Bread and their End-of-Day-Doughnation of bread\, danishes\, donuts\, bagels\, cookies\, and other baked goods. \nA hardy thank you to Lion Dr Mary Welsh and Director of Donations Mark Cunningham for establishing this ongoing partnership with Panera Bread to feed those in their program. \n 
URL:https://sterlingheightslionsclub.org/event/seniors-enjoy-panera-bread-2-2-2/2028-02-29/
LOCATION:Grace Centers of Hope\, 35 East Huron Road\, Pontiac\, MI\, 48342\, United States
ATTACH;FMTTYPE=image/jpeg:https://sterlingheightslionsclub.org/wp-content/uploads/2023/06/paneraBread.jpg
END:VEVENT
END:VCALENDAR